BEGIN:VCALENDAR
VERSION:2.0
PRODID:-//Ronald McDonald House Charities of the Triangle - ECPv6.15.17.1//NONSGML v1.0//EN
CALSCALE:GREGORIAN
METHOD:PUBLISH
X-ORIGINAL-URL:https://rmhctriangle.org
X-WR-CALDESC:Events for Ronald McDonald House Charities of the Triangle
REFRESH-INTERVAL;VALUE=DURATION:PT1H
X-Robots-Tag:noindex
X-PUBLISHED-TTL:PT1H
BEGIN:VTIMEZONE
TZID:America/New_York
BEGIN:DAYLIGHT
TZOFFSETFROM:-0500
TZOFFSETTO:-0400
TZNAME:EDT
DTSTART:20240310T070000
END:DAYLIGHT
BEGIN:STANDARD
TZOFFSETFROM:-0400
TZOFFSETTO:-0500
TZNAME:EST
DTSTART:20241103T060000
END:STANDARD
BEGIN:DAYLIGHT
TZOFFSETFROM:-0500
TZOFFSETTO:-0400
TZNAME:EDT
DTSTART:20250309T070000
END:DAYLIGHT
BEGIN:STANDARD
TZOFFSETFROM:-0400
TZOFFSETTO:-0500
TZNAME:EST
DTSTART:20251102T060000
END:STANDARD
BEGIN:DAYLIGHT
TZOFFSETFROM:-0500
TZOFFSETTO:-0400
TZNAME:EDT
DTSTART:20260308T070000
END:DAYLIGHT
BEGIN:STANDARD
TZOFFSETFROM:-0400
TZOFFSETTO:-0500
TZNAME:EST
DTSTART:20261101T060000
END:STANDARD
END:VTIMEZONE
BEGIN:VEVENT
DTSTART;TZID=America/New_York:20251204T153000
DTEND;TZID=America/New_York:20251204T183000
DTSTAMP:20260420T174917
CREATED:20250924T175000Z
LAST-MODIFIED:20250924T175000Z
UID:10002670-1764862200-1764873000@rmhctriangle.org
SUMMARY:Stride Inc
DESCRIPTION:
URL:https://rmhctriangle.org/family-event/stride-inc/
CATEGORIES:Chapel Hill Meals
END:VEVENT
BEGIN:VEVENT
DTSTART;TZID=America/New_York:20251204T170000
DTEND;TZID=America/New_York:20251204T170000
DTSTAMP:20260420T174917
CREATED:20250820T194402Z
LAST-MODIFIED:20250820T194402Z
UID:10002627-1764867600-1764867600@rmhctriangle.org
SUMMARY:UCB
DESCRIPTION:
URL:https://rmhctriangle.org/family-event/ucb-8/
CATEGORIES:Durham Meals
END:VEVENT
BEGIN:VEVENT
DTSTART;TZID=America/New_York:20251205T170000
DTEND;TZID=America/New_York:20251205T170000
DTSTAMP:20260420T174917
CREATED:20251010T132737Z
LAST-MODIFIED:20251010T132737Z
UID:10002712-1764954000-1764954000@rmhctriangle.org
SUMMARY:Eisai
DESCRIPTION:
URL:https://rmhctriangle.org/family-event/eisai-2/
CATEGORIES:Durham Meals
END:VEVENT
BEGIN:VEVENT
DTSTART;TZID=America/New_York:20251205T173000
DTEND;TZID=America/New_York:20251205T190000
DTSTAMP:20260420T174917
CREATED:20230713T181540Z
LAST-MODIFIED:20230713T181540Z
UID:10000143-1764955800-1764961200@rmhctriangle.org
SUMMARY:Domino's
DESCRIPTION:
URL:https://rmhctriangle.org/family-event/dominos/2025-12-05/
CATEGORIES:Chapel Hill Meals
END:VEVENT
BEGIN:VEVENT
DTSTART;TZID=America/New_York:20251206T170000
DTEND;TZID=America/New_York:20251206T170000
DTSTAMP:20260420T174917
CREATED:20250710T173320Z
LAST-MODIFIED:20250925T201921Z
UID:10002460-1765040400-1765040400@rmhctriangle.org
SUMMARY:St. Mary Magdalene Young Adults
DESCRIPTION:
URL:https://rmhctriangle.org/family-event/st-mary-magdalene-young-adults/2025-12-06/
CATEGORIES:Durham Meals
END:VEVENT
BEGIN:VEVENT
DTSTART;TZID=America/New_York:20251206T173000
DTEND;TZID=America/New_York:20251206T190000
DTSTAMP:20260420T174917
CREATED:20240105T155645Z
LAST-MODIFIED:20240105T155645Z
UID:10001462-1765042200-1765047600@rmhctriangle.org
SUMMARY:St. Thomas More
DESCRIPTION:
URL:https://rmhctriangle.org/family-event/st-thomas-more-8/2025-12-06/
CATEGORIES:Chapel Hill Meals
END:VEVENT
BEGIN:VEVENT
DTSTART;TZID=America/New_York:20251207T153000
DTEND;TZID=America/New_York:20251207T183000
DTSTAMP:20260420T174917
CREATED:20250731T124403Z
LAST-MODIFIED:20250731T124403Z
UID:10002490-1765121400-1765132200@rmhctriangle.org
SUMMARY:Legacy Lodge #1184
DESCRIPTION:
URL:https://rmhctriangle.org/family-event/legacy-lodge-1184-2/
CATEGORIES:Chapel Hill Meals
END:VEVENT
BEGIN:VEVENT
DTSTART;TZID=America/New_York:20251207T170000
DTEND;TZID=America/New_York:20251207T170000
DTSTAMP:20260420T174917
CREATED:20251009T145133Z
LAST-MODIFIED:20251009T145133Z
UID:10002709-1765126800-1765126800@rmhctriangle.org
SUMMARY:Aschenbrenner Family
DESCRIPTION:
URL:https://rmhctriangle.org/family-event/aschenbrenner-family/
CATEGORIES:Durham Meals
END:VEVENT
BEGIN:VEVENT
DTSTART;TZID=America/New_York:20251208T170000
DTEND;TZID=America/New_York:20251208T170000
DTSTAMP:20260420T174917
CREATED:20250910T200737Z
LAST-MODIFIED:20250910T200737Z
UID:10002660-1765213200-1765213200@rmhctriangle.org
SUMMARY:Arts & Health at Duke
DESCRIPTION:
URL:https://rmhctriangle.org/family-event/arts-health-at-duke-2/
CATEGORIES:Durham Meals
END:VEVENT
BEGIN:VEVENT
DTSTART;TZID=America/New_York:20251208T173000
DTEND;TZID=America/New_York:20251208T190000
DTSTAMP:20260420T174917
CREATED:20230713T185113Z
LAST-MODIFIED:20230713T185113Z
UID:10000436-1765215000-1765220400@rmhctriangle.org
SUMMARY:McDonald's
DESCRIPTION:
URL:https://rmhctriangle.org/family-event/mcdonalds-2/2025-12-08/
CATEGORIES:Chapel Hill Meals
END:VEVENT
BEGIN:VEVENT
DTSTART;TZID=America/New_York:20251209T153000
DTEND;TZID=America/New_York:20251209T183000
DTSTAMP:20260420T174917
CREATED:20250926T133655Z
LAST-MODIFIED:20250926T133655Z
UID:10002682-1765294200-1765305000@rmhctriangle.org
SUMMARY:UNC Anesthesia Interns
DESCRIPTION:
URL:https://rmhctriangle.org/family-event/unc-anesthesia-interns/
CATEGORIES:Chapel Hill Meals
END:VEVENT
BEGIN:VEVENT
DTSTART;TZID=America/New_York:20251209T170000
DTEND;TZID=America/New_York:20251209T170000
DTSTAMP:20260420T174917
CREATED:20250710T200755Z
LAST-MODIFIED:20250710T200755Z
UID:10002463-1765299600-1765299600@rmhctriangle.org
SUMMARY:Duke Pediatrics
DESCRIPTION:
URL:https://rmhctriangle.org/family-event/duke-pediatrics/
CATEGORIES:Durham Meals
END:VEVENT
BEGIN:VEVENT
DTSTART;TZID=America/New_York:20251210T153000
DTEND;TZID=America/New_York:20251210T183000
DTSTAMP:20260420T174917
CREATED:20250919T144234Z
LAST-MODIFIED:20250919T144234Z
UID:10002669-1765380600-1765391400@rmhctriangle.org
SUMMARY:UNC School of Social Work
DESCRIPTION:
URL:https://rmhctriangle.org/family-event/unc-school-of-social-work/
CATEGORIES:Chapel Hill Meals
END:VEVENT
BEGIN:VEVENT
DTSTART;TZID=America/New_York:20251210T170000
DTEND;TZID=America/New_York:20251210T170000
DTSTAMP:20260420T174917
CREATED:20250701T142524Z
LAST-MODIFIED:20250701T142524Z
UID:10002449-1765386000-1765386000@rmhctriangle.org
SUMMARY:Couch Oil
DESCRIPTION:
URL:https://rmhctriangle.org/family-event/couch-oil-4/2025-12-10/
CATEGORIES:Durham Meals
END:VEVENT
BEGIN:VEVENT
DTSTART;TZID=America/New_York:20251211T153000
DTEND;TZID=America/New_York:20251211T183000
DTSTAMP:20260420T174917
CREATED:20250924T181300Z
LAST-MODIFIED:20250924T181300Z
UID:10002671-1765467000-1765477800@rmhctriangle.org
SUMMARY:UNC PICU
DESCRIPTION:
URL:https://rmhctriangle.org/family-event/unc-picu-5/
CATEGORIES:Chapel Hill Meals
END:VEVENT
BEGIN:VEVENT
DTSTART;TZID=America/New_York:20251211T170000
DTEND;TZID=America/New_York:20251211T170000
DTSTAMP:20260420T174917
CREATED:20250623T205955Z
LAST-MODIFIED:20250623T205955Z
UID:10002411-1765472400-1765472400@rmhctriangle.org
SUMMARY:Valeris
DESCRIPTION:
URL:https://rmhctriangle.org/family-event/valeris/2025-12-11/
CATEGORIES:Durham Meals
END:VEVENT
BEGIN:VEVENT
DTSTART;TZID=America/New_York:20251212T170000
DTEND;TZID=America/New_York:20251212T170000
DTSTAMP:20260420T174917
CREATED:20250909T135403Z
LAST-MODIFIED:20250909T135403Z
UID:10002651-1765558800-1765558800@rmhctriangle.org
SUMMARY:Debbie Perrigo Group
DESCRIPTION:
URL:https://rmhctriangle.org/family-event/debbie-perrigo-group-4/2025-12-12/
CATEGORIES:Durham Meals
END:VEVENT
BEGIN:VEVENT
DTSTART;TZID=America/New_York:20251212T173000
DTEND;TZID=America/New_York:20251212T190000
DTSTAMP:20260420T174917
CREATED:20230713T181540Z
LAST-MODIFIED:20230713T181540Z
UID:10000144-1765560600-1765566000@rmhctriangle.org
SUMMARY:Domino's
DESCRIPTION:
URL:https://rmhctriangle.org/family-event/dominos/2025-12-12/
CATEGORIES:Chapel Hill Meals
END:VEVENT
BEGIN:VEVENT
DTSTART;TZID=America/New_York:20251213T153000
DTEND;TZID=America/New_York:20251213T183000
DTSTAMP:20260420T174917
CREATED:20251008T121753Z
LAST-MODIFIED:20251008T121753Z
UID:10002699-1765639800-1765650600@rmhctriangle.org
SUMMARY:BCBSNC
DESCRIPTION:
URL:https://rmhctriangle.org/family-event/bcbsnc/
CATEGORIES:Chapel Hill Meals
END:VEVENT
BEGIN:VEVENT
DTSTART;TZID=America/New_York:20251213T170000
DTEND;TZID=America/New_York:20251213T170000
DTSTAMP:20260420T174917
CREATED:20241211T184514Z
LAST-MODIFIED:20250102T213801Z
UID:10002123-1765645200-1765645200@rmhctriangle.org
SUMMARY:Zakat Foundation
DESCRIPTION:
URL:https://rmhctriangle.org/family-event/zakat-foundation-22/2025-12-13/
CATEGORIES:Durham Meals
END:VEVENT
BEGIN:VEVENT
DTSTART;TZID=America/New_York:20251214T153000
DTEND;TZID=America/New_York:20251214T183000
DTSTAMP:20260420T174917
CREATED:20250627T133508Z
LAST-MODIFIED:20250627T133508Z
UID:10002423-1765726200-1765737000@rmhctriangle.org
SUMMARY:NCL Carolina Lily
DESCRIPTION:
URL:https://rmhctriangle.org/family-event/ncl-carolina-lily-4/
CATEGORIES:Chapel Hill Meals
END:VEVENT
BEGIN:VEVENT
DTSTART;TZID=America/New_York:20251214T170000
DTEND;TZID=America/New_York:20251214T170000
DTSTAMP:20260420T174917
CREATED:20250128T184103Z
LAST-MODIFIED:20260102T145738Z
UID:10002226-1765731600-1765731600@rmhctriangle.org
SUMMARY:TUTA
DESCRIPTION:
URL:https://rmhctriangle.org/family-event/tuta-2/2025-12-14/
CATEGORIES:Durham Meals
END:VEVENT
BEGIN:VEVENT
DTSTART;TZID=America/New_York:20251215T170000
DTEND;TZID=America/New_York:20251215T170000
DTSTAMP:20260420T174917
CREATED:20250917T172427Z
LAST-MODIFIED:20250917T172427Z
UID:10002667-1765818000-1765818000@rmhctriangle.org
SUMMARY:World Overcomers
DESCRIPTION:
URL:https://rmhctriangle.org/family-event/world-overcomers-3/2025-12-15/
CATEGORIES:Durham Meals
END:VEVENT
BEGIN:VEVENT
DTSTART;TZID=America/New_York:20251215T173000
DTEND;TZID=America/New_York:20251215T190000
DTSTAMP:20260420T174917
CREATED:20230713T185113Z
LAST-MODIFIED:20230713T185113Z
UID:10000437-1765819800-1765825200@rmhctriangle.org
SUMMARY:McDonald's
DESCRIPTION:
URL:https://rmhctriangle.org/family-event/mcdonalds-2/2025-12-15/
CATEGORIES:Chapel Hill Meals
END:VEVENT
BEGIN:VEVENT
DTSTART;TZID=America/New_York:20251216T170000
DTEND;TZID=America/New_York:20251216T170000
DTSTAMP:20260420T174917
CREATED:20250903T135919Z
LAST-MODIFIED:20250903T135919Z
UID:10002645-1765904400-1765904400@rmhctriangle.org
SUMMARY:Elevation Church
DESCRIPTION:
URL:https://rmhctriangle.org/family-event/elevation-church-8/2025-12-16/
CATEGORIES:Durham Meals
END:VEVENT
BEGIN:VEVENT
DTSTART;TZID=America/New_York:20251216T173000
DTEND;TZID=America/New_York:20251216T190000
DTSTAMP:20260420T174917
CREATED:20230713T185449Z
LAST-MODIFIED:20230713T185449Z
UID:10000635-1765906200-1765911600@rmhctriangle.org
SUMMARY:Barbara & Jean
DESCRIPTION:
URL:https://rmhctriangle.org/family-event/barbara-jean/2025-12-16/
CATEGORIES:Chapel Hill Meals
END:VEVENT
BEGIN:VEVENT
DTSTART;TZID=America/New_York:20251217T153000
DTEND;TZID=America/New_York:20251217T183000
DTSTAMP:20260420T174917
CREATED:20250926T134613Z
LAST-MODIFIED:20250926T134613Z
UID:10002684-1765985400-1765996200@rmhctriangle.org
SUMMARY:UNC Anesthesia Interns
DESCRIPTION:
URL:https://rmhctriangle.org/family-event/unc-anesthesia-interns-2/
CATEGORIES:Chapel Hill Meals
END:VEVENT
BEGIN:VEVENT
DTSTART;TZID=America/New_York:20251217T170000
DTEND;TZID=America/New_York:20251217T170000
DTSTAMP:20260420T174917
CREATED:20241210T192405Z
LAST-MODIFIED:20251029T172214Z
UID:10002085-1765990800-1765990800@rmhctriangle.org
SUMMARY:St. Francis of Assisi
DESCRIPTION:
URL:https://rmhctriangle.org/family-event/st-francis-of-assisi-3/2025-12-17/
CATEGORIES:Durham Meals
END:VEVENT
BEGIN:VEVENT
DTSTART;TZID=America/New_York:20251218T153000
DTEND;TZID=America/New_York:20251218T183000
DTSTAMP:20260420T174917
CREATED:20250925T162121Z
LAST-MODIFIED:20250925T162121Z
UID:10002674-1766071800-1766082600@rmhctriangle.org
SUMMARY:Isaacsons
DESCRIPTION:
URL:https://rmhctriangle.org/family-event/isaacsons/
CATEGORIES:Chapel Hill Meals
END:VEVENT
BEGIN:VEVENT
DTSTART;TZID=America/New_York:20251218T170000
DTEND;TZID=America/New_York:20251218T170000
DTSTAMP:20260420T174917
CREATED:20251009T144353Z
LAST-MODIFIED:20251009T144353Z
UID:10002708-1766077200-1766077200@rmhctriangle.org
SUMMARY:Endrusick Enterprises
DESCRIPTION:
URL:https://rmhctriangle.org/family-event/endrusick-enterprises-2/
CATEGORIES:Durham Meals
END:VEVENT
END:VCALENDAR