BEGIN:VCALENDAR
VERSION:2.0
PRODID:-//Ronald McDonald House Charities of the Triangle - ECPv6.15.17.1//NONSGML v1.0//EN
CALSCALE:GREGORIAN
METHOD:PUBLISH
X-ORIGINAL-URL:https://rmhctriangle.org
X-WR-CALDESC:Events for Ronald McDonald House Charities of the Triangle
REFRESH-INTERVAL;VALUE=DURATION:PT1H
X-Robots-Tag:noindex
X-PUBLISHED-TTL:PT1H
BEGIN:VTIMEZONE
TZID:America/New_York
BEGIN:DAYLIGHT
TZOFFSETFROM:-0500
TZOFFSETTO:-0400
TZNAME:EDT
DTSTART:20230312T070000
END:DAYLIGHT
BEGIN:STANDARD
TZOFFSETFROM:-0400
TZOFFSETTO:-0500
TZNAME:EST
DTSTART:20231105T060000
END:STANDARD
BEGIN:DAYLIGHT
TZOFFSETFROM:-0500
TZOFFSETTO:-0400
TZNAME:EDT
DTSTART:20240310T070000
END:DAYLIGHT
BEGIN:STANDARD
TZOFFSETFROM:-0400
TZOFFSETTO:-0500
TZNAME:EST
DTSTART:20241103T060000
END:STANDARD
BEGIN:DAYLIGHT
TZOFFSETFROM:-0500
TZOFFSETTO:-0400
TZNAME:EDT
DTSTART:20250309T070000
END:DAYLIGHT
BEGIN:STANDARD
TZOFFSETFROM:-0400
TZOFFSETTO:-0500
TZNAME:EST
DTSTART:20251102T060000
END:STANDARD
END:VTIMEZONE
BEGIN:VEVENT
DTSTART;TZID=America/New_York:20240309T173000
DTEND;TZID=America/New_York:20240309T190000
DTSTAMP:20260420T005709
CREATED:20240105T155739Z
LAST-MODIFIED:20240105T155739Z
UID:10001499-1710005400-1710010800@rmhctriangle.org
SUMMARY:NCL Lily
DESCRIPTION:
URL:https://rmhctriangle.org/family-event/ncl-lily-7/
CATEGORIES:Chapel Hill Meals
END:VEVENT
BEGIN:VEVENT
DTSTART;TZID=America/New_York:20240310T170000
DTEND;TZID=America/New_York:20240310T173000
DTSTAMP:20260420T005709
CREATED:20231228T165701Z
LAST-MODIFIED:20240111T174507Z
UID:10001411-1710090000-1710091800@rmhctriangle.org
SUMMARY:Michigan Triangle Alumni
DESCRIPTION:
URL:https://rmhctriangle.org/family-event/michigan-triangle-alumni/
CATEGORIES:Durham Meals
END:VEVENT
BEGIN:VEVENT
DTSTART;TZID=America/New_York:20240310T173000
DTEND;TZID=America/New_York:20240310T190000
DTSTAMP:20260420T005709
CREATED:20240130T203708Z
LAST-MODIFIED:20240130T204235Z
UID:10001553-1710091800-1710097200@rmhctriangle.org
SUMMARY:UNC Pediatric Pharmacy Association
DESCRIPTION:
URL:https://rmhctriangle.org/family-event/unc-pediatric-pharmacy-association/
CATEGORIES:Chapel Hill Meals
END:VEVENT
BEGIN:VEVENT
DTSTART;TZID=America/New_York:20240311T170000
DTEND;TZID=America/New_York:20240311T173000
DTSTAMP:20260420T005709
CREATED:20240214T144145Z
LAST-MODIFIED:20240216T150615Z
UID:10001597-1710176400-1710178200@rmhctriangle.org
SUMMARY:Endeavor Charter School PTA
DESCRIPTION:
URL:https://rmhctriangle.org/family-event/pta/
CATEGORIES:Durham Meals
END:VEVENT
BEGIN:VEVENT
DTSTART;TZID=America/New_York:20240311T173000
DTEND;TZID=America/New_York:20240311T190000
DTSTAMP:20260420T005709
CREATED:20230713T185113Z
LAST-MODIFIED:20230713T185113Z
UID:10000345-1710178200-1710183600@rmhctriangle.org
SUMMARY:McDonald's
DESCRIPTION:
URL:https://rmhctriangle.org/family-event/mcdonalds-2/2024-03-11/
CATEGORIES:Chapel Hill Meals
END:VEVENT
BEGIN:VEVENT
DTSTART;TZID=America/New_York:20240312T170000
DTEND;TZID=America/New_York:20240312T173000
DTSTAMP:20260420T005709
CREATED:20240201T163440Z
LAST-MODIFIED:20240328T185916Z
UID:10001559-1710262800-1710264600@rmhctriangle.org
SUMMARY:Duke PA Program
DESCRIPTION:
URL:https://rmhctriangle.org/family-event/duke-pa-program/2024-03-12/
CATEGORIES:Durham Meals
END:VEVENT
BEGIN:VEVENT
DTSTART;TZID=America/New_York:20240312T173000
DTEND;TZID=America/New_York:20240312T190000
DTSTAMP:20260420T005709
CREATED:20230713T185449Z
LAST-MODIFIED:20230713T185449Z
UID:10000589-1710264600-1710270000@rmhctriangle.org
SUMMARY:Barbara & Jean
DESCRIPTION:
URL:https://rmhctriangle.org/family-event/barbara-jean/2024-03-12/
CATEGORIES:Chapel Hill Meals
END:VEVENT
BEGIN:VEVENT
DTSTART;TZID=America/New_York:20240313T170000
DTEND;TZID=America/New_York:20240313T173000
DTSTAMP:20260420T005709
CREATED:20230814T164925Z
LAST-MODIFIED:20240227T221345Z
UID:10001554-1710349200-1710351000@rmhctriangle.org
SUMMARY:Guerbet
DESCRIPTION:
URL:https://rmhctriangle.org/family-event/guerbet-2/2024-03-13/
CATEGORIES:Durham Meals
END:VEVENT
BEGIN:VEVENT
DTSTART;TZID=America/New_York:20240313T170000
DTEND;TZID=America/New_York:20240313T173000
DTSTAMP:20260420T005709
CREATED:20240118T024850Z
LAST-MODIFIED:20240118T024850Z
UID:10001534-1710349200-1710351000@rmhctriangle.org
SUMMARY:Red Shoe Crew
DESCRIPTION:Cara Greening
URL:https://rmhctriangle.org/family-event/red-shoe-crew-3/
CATEGORIES:Chapel Hill Meals
END:VEVENT
BEGIN:VEVENT
DTSTART;TZID=America/New_York:20240314T170000
DTEND;TZID=America/New_York:20240314T173000
DTSTAMP:20260420T005709
CREATED:20240301T212305Z
LAST-MODIFIED:20240301T212305Z
UID:10001649-1710435600-1710437400@rmhctriangle.org
SUMMARY:Amazon
DESCRIPTION:
URL:https://rmhctriangle.org/family-event/amazon/
CATEGORIES:Durham Meals
END:VEVENT
BEGIN:VEVENT
DTSTART;TZID=America/New_York:20240314T173000
DTEND;TZID=America/New_York:20240314T190000
DTSTAMP:20260420T005709
CREATED:20240102T203645Z
LAST-MODIFIED:20240102T203645Z
UID:10001426-1710437400-1710442800@rmhctriangle.org
SUMMARY:UNC TABS
DESCRIPTION:
URL:https://rmhctriangle.org/family-event/unc-tabs-2/
CATEGORIES:Chapel Hill Meals
END:VEVENT
BEGIN:VEVENT
DTSTART;TZID=America/New_York:20240315T170000
DTEND;TZID=America/New_York:20240315T173000
DTSTAMP:20260420T005709
CREATED:20240220T204527Z
LAST-MODIFIED:20240220T204527Z
UID:10001616-1710522000-1710523800@rmhctriangle.org
SUMMARY:Middle Creek High National Honors Society
DESCRIPTION:
URL:https://rmhctriangle.org/family-event/middle-creek-high-national-honors-society/2024-03-15/
CATEGORIES:Durham Meals
END:VEVENT
BEGIN:VEVENT
DTSTART;TZID=America/New_York:20240315T173000
DTEND;TZID=America/New_York:20240315T190000
DTSTAMP:20260420T005709
CREATED:20230713T181540Z
LAST-MODIFIED:20230713T181540Z
UID:10000053-1710523800-1710529200@rmhctriangle.org
SUMMARY:Domino's
DESCRIPTION:
URL:https://rmhctriangle.org/family-event/dominos/2024-03-15/
CATEGORIES:Chapel Hill Meals
END:VEVENT
BEGIN:VEVENT
DTSTART;TZID=America/New_York:20240316T170000
DTEND;TZID=America/New_York:20240316T173000
DTSTAMP:20260420T005709
CREATED:20240208T201346Z
LAST-MODIFIED:20240208T203101Z
UID:10001572-1710608400-1710610200@rmhctriangle.org
SUMMARY:Shady Grove United Methodist Church
DESCRIPTION:
URL:https://rmhctriangle.org/family-event/donna-anderson-group/
CATEGORIES:Durham Meals
END:VEVENT
BEGIN:VEVENT
DTSTART;TZID=America/New_York:20240316T173000
DTEND;TZID=America/New_York:20240316T190000
DTSTAMP:20260420T005709
CREATED:20240226T165319Z
LAST-MODIFIED:20240226T165319Z
UID:10001625-1710610200-1710615600@rmhctriangle.org
SUMMARY:Junior League
DESCRIPTION:
URL:https://rmhctriangle.org/family-event/junior-league/
CATEGORIES:Chapel Hill Meals
END:VEVENT
BEGIN:VEVENT
DTSTART;TZID=America/New_York:20240317T170000
DTEND;TZID=America/New_York:20240317T173000
DTSTAMP:20260420T005709
CREATED:20230815T194607Z
LAST-MODIFIED:20240116T204827Z
UID:10001418-1710694800-1710696600@rmhctriangle.org
SUMMARY:Shine Like Hailey Foundation
DESCRIPTION:
URL:https://rmhctriangle.org/family-event/shine-like-hailey-foundation/2024-03-17/
CATEGORIES:Durham Meals
END:VEVENT
BEGIN:VEVENT
DTSTART;TZID=America/New_York:20240318T170000
DTEND;TZID=America/New_York:20240318T173000
DTSTAMP:20260420T005709
CREATED:20240219T210810Z
LAST-MODIFIED:20240219T210810Z
UID:10001612-1710781200-1710783000@rmhctriangle.org
SUMMARY:Tufts Family
DESCRIPTION:
URL:https://rmhctriangle.org/family-event/tufts-family/
CATEGORIES:Durham Meals
END:VEVENT
BEGIN:VEVENT
DTSTART;TZID=America/New_York:20240318T173000
DTEND;TZID=America/New_York:20240318T190000
DTSTAMP:20260420T005709
CREATED:20230713T185113Z
LAST-MODIFIED:20230713T185113Z
UID:10000346-1710783000-1710788400@rmhctriangle.org
SUMMARY:McDonald's
DESCRIPTION:
URL:https://rmhctriangle.org/family-event/mcdonalds-2/2024-03-18/
CATEGORIES:Chapel Hill Meals
END:VEVENT
BEGIN:VEVENT
DTSTART;TZID=America/New_York:20240319T170000
DTEND;TZID=America/New_York:20240319T173000
DTSTAMP:20260420T005709
CREATED:20231009T174957Z
LAST-MODIFIED:20240509T143724Z
UID:10001382-1710867600-1710869400@rmhctriangle.org
SUMMARY:Elevation Church
DESCRIPTION:
URL:https://rmhctriangle.org/family-event/elevation-church/2024-03-19/
CATEGORIES:Durham Meals
END:VEVENT
BEGIN:VEVENT
DTSTART;TZID=America/New_York:20240319T170000
DTEND;TZID=America/New_York:20240319T180000
DTSTAMP:20260420T005709
CREATED:20240115T233307Z
LAST-MODIFIED:20240115T233307Z
UID:10001512-1710867600-1710871200@rmhctriangle.org
SUMMARY:Business Cares Club Kenan-Flagler
DESCRIPTION:Business Cares Club at Kenan-Flagler \n2/21 \n3/5 \n3/19 \n4/2 \n4/16
URL:https://rmhctriangle.org/family-event/business-cares-club-kenan-flagler/2024-03-19/
CATEGORIES:Chapel Hill Meals
END:VEVENT
BEGIN:VEVENT
DTSTART;TZID=America/New_York:20240320T173000
DTEND;TZID=America/New_York:20240320T173000
DTSTAMP:20260420T005709
CREATED:20230814T161409Z
LAST-MODIFIED:20231205T212548Z
UID:10001351-1710955800-1710955800@rmhctriangle.org
SUMMARY:St. Francis of Assisi
DESCRIPTION:
URL:https://rmhctriangle.org/family-event/st-francis-of-assisi-2/2024-03-20/
CATEGORIES:Durham Meals
END:VEVENT
BEGIN:VEVENT
DTSTART;TZID=America/New_York:20240320T173000
DTEND;TZID=America/New_York:20240320T190000
DTSTAMP:20260420T005709
CREATED:20240202T143700Z
LAST-MODIFIED:20240202T143900Z
UID:10001567-1710955800-1710961200@rmhctriangle.org
SUMMARY:Zonkd LLC
DESCRIPTION:Requested Date: 3/20/2024 \nGroup Name: Zonkd LLC \nLeader Name: Shawn Kapfer \nPhone: (574) 607-5507 \nEmail: shawn.kapfer@zonkd\,com
URL:https://rmhctriangle.org/family-event/zonkd-llc/
CATEGORIES:Chapel Hill Meals
END:VEVENT
BEGIN:VEVENT
DTSTART;TZID=America/New_York:20240321T173000
DTEND;TZID=America/New_York:20240321T173000
DTSTAMP:20260420T005709
CREATED:20230814T161536Z
LAST-MODIFIED:20231207T154046Z
UID:10001366-1711042200-1711042200@rmhctriangle.org
SUMMARY:Chiesi
DESCRIPTION:
URL:https://rmhctriangle.org/family-event/chiesi-2/2024-03-21/
CATEGORIES:Durham Meals
END:VEVENT
BEGIN:VEVENT
DTSTART;TZID=America/New_York:20240321T173000
DTEND;TZID=America/New_York:20240321T190000
DTSTAMP:20260420T005709
CREATED:20240102T201758Z
LAST-MODIFIED:20240102T201758Z
UID:10001424-1711042200-1711047600@rmhctriangle.org
SUMMARY:UNC AED
DESCRIPTION:
URL:https://rmhctriangle.org/family-event/unc-aed-3/
CATEGORIES:Chapel Hill Meals
END:VEVENT
BEGIN:VEVENT
DTSTART;TZID=America/New_York:20240322T170000
DTEND;TZID=America/New_York:20240322T173000
DTSTAMP:20260420T005709
CREATED:20240221T172409Z
LAST-MODIFIED:20240221T172409Z
UID:10001620-1711126800-1711128600@rmhctriangle.org
SUMMARY:Croasdaile Dental Arts
DESCRIPTION:
URL:https://rmhctriangle.org/family-event/croasdaile-dental-arts/
CATEGORIES:Durham Meals
END:VEVENT
BEGIN:VEVENT
DTSTART;TZID=America/New_York:20240322T173000
DTEND;TZID=America/New_York:20240322T190000
DTSTAMP:20260420T005709
CREATED:20230713T181540Z
LAST-MODIFIED:20230713T181540Z
UID:10000054-1711128600-1711134000@rmhctriangle.org
SUMMARY:Domino's
DESCRIPTION:
URL:https://rmhctriangle.org/family-event/dominos/2024-03-22/
CATEGORIES:Chapel Hill Meals
END:VEVENT
BEGIN:VEVENT
DTSTART;TZID=America/New_York:20240323T170000
DTEND;TZID=America/New_York:20240323T170000
DTSTAMP:20260420T005709
CREATED:20240118T225434Z
LAST-MODIFIED:20240118T225434Z
UID:10001537-1711213200-1711213200@rmhctriangle.org
SUMMARY:Tentative Grace Church
DESCRIPTION:waiting for team lead
URL:https://rmhctriangle.org/family-event/tentative-grace-church/
CATEGORIES:Chapel Hill Meals
END:VEVENT
BEGIN:VEVENT
DTSTART;TZID=America/New_York:20240323T170000
DTEND;TZID=America/New_York:20240323T173000
DTSTAMP:20260420T005709
CREATED:20240212T210305Z
LAST-MODIFIED:20240212T210305Z
UID:10001589-1711213200-1711215000@rmhctriangle.org
SUMMARY:Jaylen Allen Ministries
DESCRIPTION:
URL:https://rmhctriangle.org/family-event/jaylen-allen-ministries/
CATEGORIES:Durham Meals
END:VEVENT
BEGIN:VEVENT
DTSTART;TZID=America/New_York:20240324T170000
DTEND;TZID=America/New_York:20240324T173000
DTSTAMP:20260420T005709
CREATED:20240214T200552Z
LAST-MODIFIED:20240214T200552Z
UID:10001603-1711299600-1711301400@rmhctriangle.org
SUMMARY:Holy Infant Catholic Church
DESCRIPTION:
URL:https://rmhctriangle.org/family-event/holy-infant-catholic-church/
CATEGORIES:Durham Meals
END:VEVENT
BEGIN:VEVENT
DTSTART;TZID=America/New_York:20240324T173000
DTEND;TZID=America/New_York:20240324T190000
DTSTAMP:20260420T005709
CREATED:20240228T143841Z
LAST-MODIFIED:20240228T143841Z
UID:10001645-1711301400-1711306800@rmhctriangle.org
SUMMARY:Zeta Psi
DESCRIPTION:
URL:https://rmhctriangle.org/family-event/zeta-psi/
CATEGORIES:Chapel Hill Meals
END:VEVENT
END:VCALENDAR