BEGIN:VCALENDAR
VERSION:2.0
PRODID:-//Ronald McDonald House Charities of the Triangle - ECPv6.15.17.1//NONSGML v1.0//EN
CALSCALE:GREGORIAN
METHOD:PUBLISH
X-WR-CALNAME:Ronald McDonald House Charities of the Triangle
X-ORIGINAL-URL:https://rmhctriangle.org
X-WR-CALDESC:Events for Ronald McDonald House Charities of the Triangle
REFRESH-INTERVAL;VALUE=DURATION:PT1H
X-Robots-Tag:noindex
X-PUBLISHED-TTL:PT1H
BEGIN:VTIMEZONE
TZID:America/New_York
BEGIN:DAYLIGHT
TZOFFSETFROM:-0500
TZOFFSETTO:-0400
TZNAME:EDT
DTSTART:20250309T070000
END:DAYLIGHT
BEGIN:STANDARD
TZOFFSETFROM:-0400
TZOFFSETTO:-0500
TZNAME:EST
DTSTART:20251102T060000
END:STANDARD
BEGIN:DAYLIGHT
TZOFFSETFROM:-0500
TZOFFSETTO:-0400
TZNAME:EDT
DTSTART:20260308T070000
END:DAYLIGHT
BEGIN:STANDARD
TZOFFSETFROM:-0400
TZOFFSETTO:-0500
TZNAME:EST
DTSTART:20261101T060000
END:STANDARD
BEGIN:DAYLIGHT
TZOFFSETFROM:-0500
TZOFFSETTO:-0400
TZNAME:EDT
DTSTART:20270314T070000
END:DAYLIGHT
BEGIN:STANDARD
TZOFFSETFROM:-0400
TZOFFSETTO:-0500
TZNAME:EST
DTSTART:20271107T060000
END:STANDARD
END:VTIMEZONE
BEGIN:VEVENT
DTSTART;TZID=America/New_York:20260205T170000
DTEND;TZID=America/New_York:20260205T170000
DTSTAMP:20260425T212428
CREATED:20260113T195559Z
LAST-MODIFIED:20260113T195559Z
UID:10002896-1770310800-1770310800@rmhctriangle.org
SUMMARY:JE Dunn Construction
DESCRIPTION:
URL:https://rmhctriangle.org/family-event/je-dunn-construction/
CATEGORIES:Chapel Hill Meals
END:VEVENT
BEGIN:VEVENT
DTSTART;TZID=America/New_York:20260205T170000
DTEND;TZID=America/New_York:20260205T170000
DTSTAMP:20260425T212428
CREATED:20251201T180434Z
LAST-MODIFIED:20251201T180434Z
UID:10002798-1770310800-1770310800@rmhctriangle.org
SUMMARY:Hillsborough Kiwanis Club
DESCRIPTION:
URL:https://rmhctriangle.org/family-event/hillsborough-kiwanis-club-4/2026-02-05/
CATEGORIES:Durham Meals
END:VEVENT
BEGIN:VEVENT
DTSTART;TZID=America/New_York:20260205T150000
DTEND;TZID=America/New_York:20260205T170000
DTSTAMP:20260425T212428
CREATED:20260113T211421Z
LAST-MODIFIED:20260113T211421Z
UID:10002897-1770303600-1770310800@rmhctriangle.org
SUMMARY:JE Dunn Construction
DESCRIPTION: 
URL:https://rmhctriangle.org/family-event/je-dunn-construction-2/
CATEGORIES:Chapel Hill Meals
END:VEVENT
BEGIN:VEVENT
DTSTART;TZID=America/New_York:20260204T170000
DTEND;TZID=America/New_York:20260204T170000
DTSTAMP:20260425T212428
CREATED:20260105T133033Z
LAST-MODIFIED:20260105T133033Z
UID:10002863-1770224400-1770224400@rmhctriangle.org
SUMMARY:Bodwin Realty
DESCRIPTION:
URL:https://rmhctriangle.org/family-event/bodwin-realty-2/
CATEGORIES:Durham Meals
END:VEVENT
BEGIN:VEVENT
DTSTART;TZID=America/New_York:20260204T153000
DTEND;TZID=America/New_York:20260204T183000
DTSTAMP:20260425T212428
CREATED:20260106T160107Z
LAST-MODIFIED:20260106T160107Z
UID:10002867-1770219000-1770229800@rmhctriangle.org
SUMMARY:Carolina for the Kids
DESCRIPTION:
URL:https://rmhctriangle.org/family-event/carolina-for-the-kids-3/
CATEGORIES:Chapel Hill Meals
END:VEVENT
BEGIN:VEVENT
DTSTART;TZID=America/New_York:20260203T170000
DTEND;TZID=America/New_York:20260203T170000
DTSTAMP:20260425T212428
CREATED:20260108T164605Z
LAST-MODIFIED:20260108T164605Z
UID:10002876-1770138000-1770138000@rmhctriangle.org
SUMMARY:Elevation
DESCRIPTION:
URL:https://rmhctriangle.org/family-event/elevation/2026-02-03/
CATEGORIES:Durham Meals
END:VEVENT
BEGIN:VEVENT
DTSTART;TZID=America/New_York:20260203T153000
DTEND;TZID=America/New_York:20260203T183000
DTSTAMP:20260425T212428
CREATED:20260129T143607Z
LAST-MODIFIED:20260129T143607Z
UID:10002960-1770132600-1770143400@rmhctriangle.org
SUMMARY:ADPi
DESCRIPTION:
URL:https://rmhctriangle.org/family-event/adpi/
CATEGORIES:Chapel Hill Meals
END:VEVENT
BEGIN:VEVENT
DTSTART;TZID=America/New_York:20260202T173000
DTEND;TZID=America/New_York:20260202T190000
DTSTAMP:20260425T212428
CREATED:20230713T185113Z
LAST-MODIFIED:20230713T185113Z
UID:10000444-1770053400-1770058800@rmhctriangle.org
SUMMARY:McDonald's
DESCRIPTION:
URL:https://rmhctriangle.org/family-event/mcdonalds-2/2026-02-02/
CATEGORIES:Chapel Hill Meals
END:VEVENT
BEGIN:VEVENT
DTSTART;TZID=America/New_York:20260201T170000
DTEND;TZID=America/New_York:20260201T170000
DTSTAMP:20260425T212428
CREATED:20251009T124218Z
LAST-MODIFIED:20251009T124218Z
UID:10002704-1769965200-1769965200@rmhctriangle.org
SUMMARY:Wakefield United Methodist Church
DESCRIPTION:
URL:https://rmhctriangle.org/family-event/wakefield-united-methodist-church-3/2026-02-01/
CATEGORIES:Durham Meals
END:VEVENT
BEGIN:VEVENT
DTSTART;TZID=America/New_York:20260201T153000
DTEND;TZID=America/New_York:20260201T183000
DTSTAMP:20260425T212428
CREATED:20250929T162220Z
LAST-MODIFIED:20250929T162220Z
UID:10002688-1769959800-1769970600@rmhctriangle.org
SUMMARY:East CH High RMH Club
DESCRIPTION:
URL:https://rmhctriangle.org/family-event/east-ch-high-rmh-club/
CATEGORIES:Chapel Hill Meals
END:VEVENT
BEGIN:VEVENT
DTSTART;TZID=America/New_York:20260130T173000
DTEND;TZID=America/New_York:20260130T190000
DTSTAMP:20260425T212428
CREATED:20230713T181540Z
LAST-MODIFIED:20230713T181540Z
UID:10000151-1769794200-1769799600@rmhctriangle.org
SUMMARY:Domino's
DESCRIPTION:
URL:https://rmhctriangle.org/family-event/dominos/2026-01-30/
CATEGORIES:Chapel Hill Meals
END:VEVENT
BEGIN:VEVENT
DTSTART;TZID=America/New_York:20260129T170000
DTEND;TZID=America/New_York:20260129T170000
DTSTAMP:20260425T212428
CREATED:20251202T201723Z
LAST-MODIFIED:20251202T201723Z
UID:10002804-1769706000-1769706000@rmhctriangle.org
SUMMARY:Shepherd's Angel
DESCRIPTION:
URL:https://rmhctriangle.org/family-event/shepherds-angel-16/
CATEGORIES:Durham Meals
END:VEVENT
BEGIN:VEVENT
DTSTART;TZID=America/New_York:20260129T153000
DTEND;TZID=America/New_York:20260129T183000
DTSTAMP:20260425T212428
CREATED:20251113T182621Z
LAST-MODIFIED:20251113T182621Z
UID:10002760-1769700600-1769711400@rmhctriangle.org
SUMMARY:UNC Health Policy & Management
DESCRIPTION:
URL:https://rmhctriangle.org/family-event/unc-health-policy-management/
CATEGORIES:Chapel Hill Meals
END:VEVENT
BEGIN:VEVENT
DTSTART;TZID=America/New_York:20260128T170000
DTEND;TZID=America/New_York:20260128T170000
DTSTAMP:20260425T212428
CREATED:20251219T143649Z
LAST-MODIFIED:20251219T143649Z
UID:10002852-1769619600-1769619600@rmhctriangle.org
SUMMARY:RMH Red Shoe Crew
DESCRIPTION:
URL:https://rmhctriangle.org/family-event/rmh-red-shoe-crew/
CATEGORIES:Durham Meals
END:VEVENT
BEGIN:VEVENT
DTSTART;TZID=America/New_York:20260128T153000
DTEND;TZID=America/New_York:20260128T183000
DTSTAMP:20260425T212428
CREATED:20251219T140553Z
LAST-MODIFIED:20251219T140553Z
UID:10002847-1769614200-1769625000@rmhctriangle.org
SUMMARY:Red Shoe Crew
DESCRIPTION:
URL:https://rmhctriangle.org/family-event/red-shoe-crew-7/
CATEGORIES:Chapel Hill Meals
END:VEVENT
BEGIN:VEVENT
DTSTART;TZID=America/New_York:20260127T170000
DTEND;TZID=America/New_York:20260127T170000
DTSTAMP:20260425T212428
CREATED:20251210T194832Z
LAST-MODIFIED:20251210T194832Z
UID:10002843-1769533200-1769533200@rmhctriangle.org
SUMMARY:NCCU SSS TRIO Teach
DESCRIPTION:
URL:https://rmhctriangle.org/family-event/nccu-sss-trio-teach/
CATEGORIES:Durham Meals
END:VEVENT
BEGIN:VEVENT
DTSTART;TZID=America/New_York:20260127T153000
DTEND;TZID=America/New_York:20260127T183000
DTSTAMP:20260425T212428
CREATED:20260107T144827Z
LAST-MODIFIED:20260107T144827Z
UID:10002873-1769527800-1769538600@rmhctriangle.org
SUMMARY:Anastashia Hall & Family
DESCRIPTION:
URL:https://rmhctriangle.org/family-event/anastashia-hall-family/
CATEGORIES:Chapel Hill Meals
END:VEVENT
BEGIN:VEVENT
DTSTART;TZID=America/New_York:20260126T173000
DTEND;TZID=America/New_York:20260126T190000
DTSTAMP:20260425T212428
CREATED:20230713T185113Z
LAST-MODIFIED:20230713T185113Z
UID:10000443-1769448600-1769454000@rmhctriangle.org
SUMMARY:McDonald's
DESCRIPTION:
URL:https://rmhctriangle.org/family-event/mcdonalds-2/2026-01-26/
CATEGORIES:Chapel Hill Meals
END:VEVENT
BEGIN:VEVENT
DTSTART;TZID=America/New_York:20260126T080000
DTEND;TZID=America/New_York:20260126T170000
DTSTAMP:20260425T212428
CREATED:20230713T184402Z
LAST-MODIFIED:20230814T180412Z
UID:10000788-1769414400-1769446800@rmhctriangle.org
SUMMARY:Kiwanis Club of the Friendly City
DESCRIPTION:
URL:https://rmhctriangle.org/family-event/kiwanis-club-of-the-friendly-city/2026-01-26/
CATEGORIES:Durham Meals
END:VEVENT
BEGIN:VEVENT
DTSTART;TZID=America/New_York:20260125T170000
DTEND;TZID=America/New_York:20260125T170000
DTSTAMP:20260425T212428
CREATED:20260109T162833Z
LAST-MODIFIED:20260109T162833Z
UID:10002883-1769360400-1769360400@rmhctriangle.org
SUMMARY:Nelson Baptist Church
DESCRIPTION:
URL:https://rmhctriangle.org/family-event/nelson-baptist-church-3/2026-01-25/
CATEGORIES:Durham Meals
END:VEVENT
BEGIN:VEVENT
DTSTART;TZID=America/New_York:20260125T153000
DTEND;TZID=America/New_York:20260125T183000
DTSTAMP:20260425T212428
CREATED:20251125T183938Z
LAST-MODIFIED:20251125T183938Z
UID:10002792-1769355000-1769365800@rmhctriangle.org
SUMMARY:Cary Page Rotary Club
DESCRIPTION:
URL:https://rmhctriangle.org/family-event/cary-page-rotary-club-5/
CATEGORIES:Chapel Hill Meals
END:VEVENT
BEGIN:VEVENT
DTSTART;TZID=America/New_York:20260124T170000
DTEND;TZID=America/New_York:20260124T170000
DTSTAMP:20260425T212428
CREATED:20250828T163247Z
LAST-MODIFIED:20250828T163247Z
UID:10002641-1769274000-1769274000@rmhctriangle.org
SUMMARY:Duke University Health System- DAPDA Laboratory
DESCRIPTION:
URL:https://rmhctriangle.org/family-event/duke-university-health-system-dapda-laboratory/2026-01-24/
CATEGORIES:Durham Meals
END:VEVENT
BEGIN:VEVENT
DTSTART;TZID=America/New_York:20260123T173000
DTEND;TZID=America/New_York:20260123T190000
DTSTAMP:20260425T212428
CREATED:20230713T181540Z
LAST-MODIFIED:20230713T181540Z
UID:10000150-1769189400-1769194800@rmhctriangle.org
SUMMARY:Domino's
DESCRIPTION:
URL:https://rmhctriangle.org/family-event/dominos/2026-01-23/
CATEGORIES:Chapel Hill Meals
END:VEVENT
BEGIN:VEVENT
DTSTART;TZID=America/New_York:20260123T170000
DTEND;TZID=America/New_York:20260123T170000
DTSTAMP:20260425T212428
CREATED:20251208T145607Z
LAST-MODIFIED:20251208T183318Z
UID:10002811-1769187600-1769187600@rmhctriangle.org
SUMMARY:Sips and Flips Book Club
DESCRIPTION:
URL:https://rmhctriangle.org/family-event/sophias-book-club/
CATEGORIES:Durham Meals
END:VEVENT
BEGIN:VEVENT
DTSTART;TZID=America/New_York:20260122T170000
DTEND;TZID=America/New_York:20260122T170000
DTSTAMP:20260425T212428
CREATED:20251104T190137Z
LAST-MODIFIED:20251104T190137Z
UID:10002748-1769101200-1769101200@rmhctriangle.org
SUMMARY:Lenovo
DESCRIPTION:
URL:https://rmhctriangle.org/family-event/lenovo-3/
CATEGORIES:Durham Meals
END:VEVENT
BEGIN:VEVENT
DTSTART;TZID=America/New_York:20260122T153000
DTEND;TZID=America/New_York:20260122T183000
DTSTAMP:20260425T212428
CREATED:20251003T185249Z
LAST-MODIFIED:20251003T185249Z
UID:10002696-1769095800-1769106600@rmhctriangle.org
SUMMARY:UNC Lineberger Comprehensive Cancer Center
DESCRIPTION:
URL:https://rmhctriangle.org/family-event/unc-lineberger-comprehensive-cancer-center/
CATEGORIES:Chapel Hill Meals
END:VEVENT
BEGIN:VEVENT
DTSTART;TZID=America/New_York:20260121T170000
DTEND;TZID=America/New_York:20260121T170000
DTSTAMP:20260425T212428
CREATED:20241210T192405Z
LAST-MODIFIED:20251029T172214Z
UID:10002731-1769014800-1769014800@rmhctriangle.org
SUMMARY:St. Francis of Assisi
DESCRIPTION:
URL:https://rmhctriangle.org/family-event/st-francis-of-assisi-3/2026-01-21/
CATEGORIES:Durham Meals
END:VEVENT
BEGIN:VEVENT
DTSTART;TZID=America/New_York:20260121T153000
DTEND;TZID=America/New_York:20260121T183000
DTSTAMP:20260425T212428
CREATED:20251209T153450Z
LAST-MODIFIED:20251209T153450Z
UID:10002816-1769009400-1769020200@rmhctriangle.org
SUMMARY:Woods Charter School RMH Club
DESCRIPTION:
URL:https://rmhctriangle.org/family-event/woods-charter-school-rmh-club/
CATEGORIES:Chapel Hill Meals
END:VEVENT
BEGIN:VEVENT
DTSTART;TZID=America/New_York:20260120T170000
DTEND;TZID=America/New_York:20260120T170000
DTSTAMP:20260425T212428
CREATED:20251126T150126Z
LAST-MODIFIED:20251126T150126Z
UID:10002797-1768928400-1768928400@rmhctriangle.org
SUMMARY:GDT
DESCRIPTION:
URL:https://rmhctriangle.org/family-event/gdt/
CATEGORIES:Durham Meals
END:VEVENT
BEGIN:VEVENT
DTSTART;TZID=America/New_York:20260120T153000
DTEND;TZID=America/New_York:20260120T183000
DTSTAMP:20260425T212428
CREATED:20251230T192054Z
LAST-MODIFIED:20251230T192054Z
UID:10002857-1768923000-1768933800@rmhctriangle.org
SUMMARY:Panera
DESCRIPTION:
URL:https://rmhctriangle.org/family-event/panera/
CATEGORIES:Chapel Hill Meals
END:VEVENT
END:VCALENDAR