BEGIN:VCALENDAR
VERSION:2.0
PRODID:-//Ronald McDonald House Charities of the Triangle - ECPv6.15.17.1//NONSGML v1.0//EN
CALSCALE:GREGORIAN
METHOD:PUBLISH
X-ORIGINAL-URL:https://rmhctriangle.org
X-WR-CALDESC:Events for Ronald McDonald House Charities of the Triangle
REFRESH-INTERVAL;VALUE=DURATION:PT1H
X-Robots-Tag:noindex
X-PUBLISHED-TTL:PT1H
BEGIN:VTIMEZONE
TZID:America/New_York
BEGIN:DAYLIGHT
TZOFFSETFROM:-0500
TZOFFSETTO:-0400
TZNAME:EDT
DTSTART:20250309T070000
END:DAYLIGHT
BEGIN:STANDARD
TZOFFSETFROM:-0400
TZOFFSETTO:-0500
TZNAME:EST
DTSTART:20251102T060000
END:STANDARD
BEGIN:DAYLIGHT
TZOFFSETFROM:-0500
TZOFFSETTO:-0400
TZNAME:EDT
DTSTART:20260308T070000
END:DAYLIGHT
BEGIN:STANDARD
TZOFFSETFROM:-0400
TZOFFSETTO:-0500
TZNAME:EST
DTSTART:20261101T060000
END:STANDARD
BEGIN:DAYLIGHT
TZOFFSETFROM:-0500
TZOFFSETTO:-0400
TZNAME:EDT
DTSTART:20270314T070000
END:DAYLIGHT
BEGIN:STANDARD
TZOFFSETFROM:-0400
TZOFFSETTO:-0500
TZNAME:EST
DTSTART:20271107T060000
END:STANDARD
END:VTIMEZONE
BEGIN:VEVENT
DTSTART;TZID=America/New_York:20260105T173000
DTEND;TZID=America/New_York:20260105T190000
DTSTAMP:20260424T160717
CREATED:20230713T185113Z
LAST-MODIFIED:20230713T185113Z
UID:10000440-1767634200-1767639600@rmhctriangle.org
SUMMARY:McDonald's
DESCRIPTION:
URL:https://rmhctriangle.org/family-event/mcdonalds-2/2026-01-05/
CATEGORIES:Chapel Hill Meals
END:VEVENT
BEGIN:VEVENT
DTSTART;TZID=America/New_York:20260106T153000
DTEND;TZID=America/New_York:20260106T183000
DTSTAMP:20260424T160717
CREATED:20251125T183844Z
LAST-MODIFIED:20251125T183844Z
UID:10002779-1767713400-1767724200@rmhctriangle.org
SUMMARY:NC Chapter of the National Association of Nurse Practitioners
DESCRIPTION:
URL:https://rmhctriangle.org/family-event/nc-chapter-of-the-national-association-of-nurse-practitioners/
CATEGORIES:Chapel Hill Meals
END:VEVENT
BEGIN:VEVENT
DTSTART;TZID=America/New_York:20260106T170000
DTEND;TZID=America/New_York:20260106T170000
DTSTAMP:20260424T160717
CREATED:20251021T183911Z
LAST-MODIFIED:20251021T183911Z
UID:10002718-1767718800-1767718800@rmhctriangle.org
SUMMARY:DUHS Leadership
DESCRIPTION:
URL:https://rmhctriangle.org/family-event/duhs-leadership/
CATEGORIES:Durham Meals
END:VEVENT
BEGIN:VEVENT
DTSTART;TZID=America/New_York:20260107T153000
DTEND;TZID=America/New_York:20260107T183000
DTSTAMP:20260424T160717
CREATED:20251229T173440Z
LAST-MODIFIED:20251229T173440Z
UID:10002856-1767799800-1767810600@rmhctriangle.org
SUMMARY:Clara Pinella and Family
DESCRIPTION:
URL:https://rmhctriangle.org/family-event/clara-pinella-and-family/
CATEGORIES:Chapel Hill Meals
END:VEVENT
BEGIN:VEVENT
DTSTART;TZID=America/New_York:20260107T170000
DTEND;TZID=America/New_York:20260107T170000
DTSTAMP:20260424T160717
CREATED:20251209T201801Z
LAST-MODIFIED:20251210T143301Z
UID:10002841-1767805200-1767805200@rmhctriangle.org
SUMMARY:Phil & Friends
DESCRIPTION:
URL:https://rmhctriangle.org/family-event/phillip-lavey-group/
CATEGORIES:Durham Meals
END:VEVENT
BEGIN:VEVENT
DTSTART;TZID=America/New_York:20260108T153000
DTEND;TZID=America/New_York:20260108T183000
DTSTAMP:20260424T160717
CREATED:20250731T175857Z
LAST-MODIFIED:20250731T175857Z
UID:10002491-1767886200-1767897000@rmhctriangle.org
SUMMARY:Chapel Hill Rotary
DESCRIPTION:
URL:https://rmhctriangle.org/family-event/chapel-hill-rotary-12/
CATEGORIES:Chapel Hill Meals
END:VEVENT
BEGIN:VEVENT
DTSTART;TZID=America/New_York:20260109T173000
DTEND;TZID=America/New_York:20260109T190000
DTSTAMP:20260424T160717
CREATED:20230713T181540Z
LAST-MODIFIED:20230713T181540Z
UID:10000148-1767979800-1767985200@rmhctriangle.org
SUMMARY:Domino's
DESCRIPTION:
URL:https://rmhctriangle.org/family-event/dominos/2026-01-09/
CATEGORIES:Chapel Hill Meals
END:VEVENT
BEGIN:VEVENT
DTSTART;TZID=America/New_York:20260110T153000
DTEND;TZID=America/New_York:20260110T183000
DTSTAMP:20260424T160717
CREATED:20250203T143825Z
LAST-MODIFIED:20250203T143825Z
UID:10002248-1768059000-1768069800@rmhctriangle.org
SUMMARY:YMSL
DESCRIPTION:
URL:https://rmhctriangle.org/family-event/ymsl-10/
CATEGORIES:Chapel Hill Meals
END:VEVENT
BEGIN:VEVENT
DTSTART;TZID=America/New_York:20260110T170000
DTEND;TZID=America/New_York:20260110T170000
DTSTAMP:20260424T160717
CREATED:20260102T145959Z
LAST-MODIFIED:20260102T145959Z
UID:10002860-1768064400-1768064400@rmhctriangle.org
SUMMARY:Zakat
DESCRIPTION:
URL:https://rmhctriangle.org/family-event/zakat/
CATEGORIES:Durham Meals
END:VEVENT
BEGIN:VEVENT
DTSTART;TZID=America/New_York:20260111T153000
DTEND;TZID=America/New_York:20260111T183000
DTSTAMP:20260424T160717
CREATED:20250627T133529Z
LAST-MODIFIED:20250627T133529Z
UID:10002424-1768145400-1768156200@rmhctriangle.org
SUMMARY:NCL Carolina Lily
DESCRIPTION:
URL:https://rmhctriangle.org/family-event/ncl-carolina-lily-5/
CATEGORIES:Chapel Hill Meals
END:VEVENT
BEGIN:VEVENT
DTSTART;TZID=America/New_York:20260111T170000
DTEND;TZID=America/New_York:20260111T170000
DTSTAMP:20260424T160717
CREATED:20260102T145850Z
LAST-MODIFIED:20260102T145850Z
UID:10002858-1768150800-1768150800@rmhctriangle.org
SUMMARY:TUTA
DESCRIPTION:
URL:https://rmhctriangle.org/family-event/tuta-4/2026-01-11/
CATEGORIES:Durham Meals
END:VEVENT
BEGIN:VEVENT
DTSTART;TZID=America/New_York:20260112T170000
DTEND;TZID=America/New_York:20260112T170000
DTSTAMP:20260424T160717
CREATED:20251029T161703Z
LAST-MODIFIED:20251029T161703Z
UID:10002729-1768237200-1768237200@rmhctriangle.org
SUMMARY:Shanklin's Volunteers
DESCRIPTION:
URL:https://rmhctriangle.org/family-event/shanklins-volunteers-3/
CATEGORIES:Durham Meals
END:VEVENT
BEGIN:VEVENT
DTSTART;TZID=America/New_York:20260112T173000
DTEND;TZID=America/New_York:20260112T190000
DTSTAMP:20260424T160717
CREATED:20230713T185113Z
LAST-MODIFIED:20230713T185113Z
UID:10000441-1768239000-1768244400@rmhctriangle.org
SUMMARY:McDonald's
DESCRIPTION:
URL:https://rmhctriangle.org/family-event/mcdonalds-2/2026-01-12/
CATEGORIES:Chapel Hill Meals
END:VEVENT
BEGIN:VEVENT
DTSTART;TZID=America/New_York:20260113T153000
DTEND;TZID=America/New_York:20260113T183000
DTSTAMP:20260424T160717
CREATED:20251105T174532Z
LAST-MODIFIED:20251105T174532Z
UID:10002751-1768318200-1768329000@rmhctriangle.org
SUMMARY:UNC School of Molecular Imaging
DESCRIPTION:
URL:https://rmhctriangle.org/family-event/unc-school-of-molecular-imaging-3/
CATEGORIES:Chapel Hill Meals
END:VEVENT
BEGIN:VEVENT
DTSTART;TZID=America/New_York:20260114T153000
DTEND;TZID=America/New_York:20260114T183000
DTSTAMP:20260424T160717
CREATED:20251229T145944Z
LAST-MODIFIED:20251229T172931Z
UID:10002855-1768404600-1768415400@rmhctriangle.org
SUMMARY:New Hope Church
DESCRIPTION:
URL:https://rmhctriangle.org/family-event/new-hope-church-28/
CATEGORIES:Chapel Hill Meals
END:VEVENT
BEGIN:VEVENT
DTSTART;TZID=America/New_York:20260114T170000
DTEND;TZID=America/New_York:20260114T170000
DTSTAMP:20260424T160717
CREATED:20260106T170706Z
LAST-MODIFIED:20260106T170706Z
UID:10002870-1768410000-1768410000@rmhctriangle.org
SUMMARY:Susan and Friends
DESCRIPTION:
URL:https://rmhctriangle.org/family-event/susan-and-friends/
CATEGORIES:Durham Meals
END:VEVENT
BEGIN:VEVENT
DTSTART;TZID=America/New_York:20260115T153000
DTEND;TZID=America/New_York:20260115T183000
DTSTAMP:20260424T160717
CREATED:20251222T203928Z
LAST-MODIFIED:20251222T203928Z
UID:10002854-1768491000-1768501800@rmhctriangle.org
SUMMARY:Mt. Gilead Baptist Church
DESCRIPTION:
URL:https://rmhctriangle.org/family-event/mt-gilead-baptist-church-10/
CATEGORIES:Chapel Hill Meals
END:VEVENT
BEGIN:VEVENT
DTSTART;TZID=America/New_York:20260115T170000
DTEND;TZID=America/New_York:20260115T170000
DTSTAMP:20260424T160717
CREATED:20251112T213217Z
LAST-MODIFIED:20251112T213217Z
UID:10002759-1768496400-1768496400@rmhctriangle.org
SUMMARY:Duke Faculty Club
DESCRIPTION:
URL:https://rmhctriangle.org/family-event/duke-faculty-club-3/
CATEGORIES:Durham Meals
END:VEVENT
BEGIN:VEVENT
DTSTART;TZID=America/New_York:20260116T170000
DTEND;TZID=America/New_York:20260116T170000
DTSTAMP:20260424T160717
CREATED:20251112T192827Z
LAST-MODIFIED:20251112T192827Z
UID:10002758-1768582800-1768582800@rmhctriangle.org
SUMMARY:Ricci Law
DESCRIPTION:
URL:https://rmhctriangle.org/family-event/ricci-law/
CATEGORIES:Durham Meals
END:VEVENT
BEGIN:VEVENT
DTSTART;TZID=America/New_York:20260116T173000
DTEND;TZID=America/New_York:20260116T190000
DTSTAMP:20260424T160717
CREATED:20230713T181540Z
LAST-MODIFIED:20230713T181540Z
UID:10000149-1768584600-1768590000@rmhctriangle.org
SUMMARY:Domino's
DESCRIPTION:
URL:https://rmhctriangle.org/family-event/dominos/2026-01-16/
CATEGORIES:Chapel Hill Meals
END:VEVENT
BEGIN:VEVENT
DTSTART;TZID=America/New_York:20260117T153000
DTEND;TZID=America/New_York:20260117T183000
DTSTAMP:20260424T160717
CREATED:20251125T183709Z
LAST-MODIFIED:20251125T183709Z
UID:10002777-1768663800-1768674600@rmhctriangle.org
SUMMARY:RMH Club @ Chapel Hill High School
DESCRIPTION:
URL:https://rmhctriangle.org/family-event/rmh-club-chapel-hill-high-school-3/
CATEGORIES:Chapel Hill Meals
END:VEVENT
BEGIN:VEVENT
DTSTART;TZID=America/New_York:20260117T170000
DTEND;TZID=America/New_York:20260117T170000
DTSTAMP:20260424T160717
CREATED:20250828T163247Z
LAST-MODIFIED:20250828T163247Z
UID:10002640-1768669200-1768669200@rmhctriangle.org
SUMMARY:Duke University Health System- DAPDA Laboratory
DESCRIPTION:
URL:https://rmhctriangle.org/family-event/duke-university-health-system-dapda-laboratory/2026-01-17/
CATEGORIES:Durham Meals
END:VEVENT
BEGIN:VEVENT
DTSTART;TZID=America/New_York:20260118T153000
DTEND;TZID=America/New_York:20260118T183000
DTSTAMP:20260424T160717
CREATED:20250723T131330Z
LAST-MODIFIED:20250723T131330Z
UID:10002479-1768750200-1768761000@rmhctriangle.org
SUMMARY:Michigan Alumni Club of the Triangle
DESCRIPTION:
URL:https://rmhctriangle.org/family-event/michigan-alumni-club-of-the-triangle/
CATEGORIES:Chapel Hill Meals
END:VEVENT
BEGIN:VEVENT
DTSTART;TZID=America/New_York:20260118T170000
DTEND;TZID=America/New_York:20260118T170000
DTSTAMP:20260424T160717
CREATED:20251117T184122Z
LAST-MODIFIED:20251117T184122Z
UID:10002761-1768755600-1768755600@rmhctriangle.org
SUMMARY:Alpha Kappa Chapter of Kappa Alpha Psi Fraternity\, NCCU
DESCRIPTION:
URL:https://rmhctriangle.org/family-event/alpha-kappa-chapter-of-kappa-alpha-psi-fraternity-nccu/
CATEGORIES:Durham Meals
END:VEVENT
BEGIN:VEVENT
DTSTART;TZID=America/New_York:20260119T170000
DTEND;TZID=America/New_York:20260119T170000
DTSTAMP:20260424T160717
CREATED:20250917T152118Z
LAST-MODIFIED:20250917T152118Z
UID:10002664-1768842000-1768842000@rmhctriangle.org
SUMMARY:Alpha Zeta Omega Chapter of AKA
DESCRIPTION:
URL:https://rmhctriangle.org/family-event/alpha-zeta-omega-chapter-of-aka-2/
CATEGORIES:Durham Meals
END:VEVENT
BEGIN:VEVENT
DTSTART;TZID=America/New_York:20260119T173000
DTEND;TZID=America/New_York:20260119T190000
DTSTAMP:20260424T160717
CREATED:20230713T185113Z
LAST-MODIFIED:20230713T185113Z
UID:10000442-1768843800-1768849200@rmhctriangle.org
SUMMARY:McDonald's
DESCRIPTION:
URL:https://rmhctriangle.org/family-event/mcdonalds-2/2026-01-19/
CATEGORIES:Chapel Hill Meals
END:VEVENT
BEGIN:VEVENT
DTSTART;TZID=America/New_York:20260120T153000
DTEND;TZID=America/New_York:20260120T183000
DTSTAMP:20260424T160717
CREATED:20251230T192054Z
LAST-MODIFIED:20251230T192054Z
UID:10002857-1768923000-1768933800@rmhctriangle.org
SUMMARY:Panera
DESCRIPTION:
URL:https://rmhctriangle.org/family-event/panera/
CATEGORIES:Chapel Hill Meals
END:VEVENT
BEGIN:VEVENT
DTSTART;TZID=America/New_York:20260120T170000
DTEND;TZID=America/New_York:20260120T170000
DTSTAMP:20260424T160717
CREATED:20251126T150126Z
LAST-MODIFIED:20251126T150126Z
UID:10002797-1768928400-1768928400@rmhctriangle.org
SUMMARY:GDT
DESCRIPTION:
URL:https://rmhctriangle.org/family-event/gdt/
CATEGORIES:Durham Meals
END:VEVENT
BEGIN:VEVENT
DTSTART;TZID=America/New_York:20260121T153000
DTEND;TZID=America/New_York:20260121T183000
DTSTAMP:20260424T160717
CREATED:20251209T153450Z
LAST-MODIFIED:20251209T153450Z
UID:10002816-1769009400-1769020200@rmhctriangle.org
SUMMARY:Woods Charter School RMH Club
DESCRIPTION:
URL:https://rmhctriangle.org/family-event/woods-charter-school-rmh-club/
CATEGORIES:Chapel Hill Meals
END:VEVENT
BEGIN:VEVENT
DTSTART;TZID=America/New_York:20260121T170000
DTEND;TZID=America/New_York:20260121T170000
DTSTAMP:20260424T160717
CREATED:20241210T192405Z
LAST-MODIFIED:20251029T172214Z
UID:10002731-1769014800-1769014800@rmhctriangle.org
SUMMARY:St. Francis of Assisi
DESCRIPTION:
URL:https://rmhctriangle.org/family-event/st-francis-of-assisi-3/2026-01-21/
CATEGORIES:Durham Meals
END:VEVENT
END:VCALENDAR