BEGIN:VCALENDAR
VERSION:2.0
PRODID:-//Ronald McDonald House Charities of the Triangle - ECPv6.15.17.1//NONSGML v1.0//EN
CALSCALE:GREGORIAN
METHOD:PUBLISH
X-ORIGINAL-URL:https://rmhctriangle.org
X-WR-CALDESC:Events for Ronald McDonald House Charities of the Triangle
REFRESH-INTERVAL;VALUE=DURATION:PT1H
X-Robots-Tag:noindex
X-PUBLISHED-TTL:PT1H
BEGIN:VTIMEZONE
TZID:America/New_York
BEGIN:DAYLIGHT
TZOFFSETFROM:-0500
TZOFFSETTO:-0400
TZNAME:EDT
DTSTART:20240310T070000
END:DAYLIGHT
BEGIN:STANDARD
TZOFFSETFROM:-0400
TZOFFSETTO:-0500
TZNAME:EST
DTSTART:20241103T060000
END:STANDARD
BEGIN:DAYLIGHT
TZOFFSETFROM:-0500
TZOFFSETTO:-0400
TZNAME:EDT
DTSTART:20250309T070000
END:DAYLIGHT
BEGIN:STANDARD
TZOFFSETFROM:-0400
TZOFFSETTO:-0500
TZNAME:EST
DTSTART:20251102T060000
END:STANDARD
BEGIN:DAYLIGHT
TZOFFSETFROM:-0500
TZOFFSETTO:-0400
TZNAME:EDT
DTSTART:20260308T070000
END:DAYLIGHT
BEGIN:STANDARD
TZOFFSETFROM:-0400
TZOFFSETTO:-0500
TZNAME:EST
DTSTART:20261101T060000
END:STANDARD
BEGIN:DAYLIGHT
TZOFFSETFROM:-0500
TZOFFSETTO:-0400
TZNAME:EDT
DTSTART:20270314T070000
END:DAYLIGHT
BEGIN:STANDARD
TZOFFSETFROM:-0400
TZOFFSETTO:-0500
TZNAME:EST
DTSTART:20271107T060000
END:STANDARD
END:VTIMEZONE
BEGIN:VEVENT
DTSTART;TZID=America/New_York:20251221T153000
DTEND;TZID=America/New_York:20251221T183000
DTSTAMP:20260424T211536
CREATED:20241105T144624Z
LAST-MODIFIED:20241105T144624Z
UID:10002004-1766331000-1766341800@rmhctriangle.org
SUMMARY:New Hope Church
DESCRIPTION:
URL:https://rmhctriangle.org/family-event/new-hope-church-16/
CATEGORIES:Chapel Hill Meals
END:VEVENT
BEGIN:VEVENT
DTSTART;TZID=America/New_York:20251221T170000
DTEND;TZID=America/New_York:20251221T170000
DTSTAMP:20260424T211536
CREATED:20251009T162404Z
LAST-MODIFIED:20251009T162414Z
UID:10002711-1766336400-1766336400@rmhctriangle.org
SUMMARY:Supriya's Group
DESCRIPTION:
URL:https://rmhctriangle.org/family-event/supriyas-group/
CATEGORIES:Durham Meals
END:VEVENT
BEGIN:VEVENT
DTSTART;TZID=America/New_York:20251222T170000
DTEND;TZID=America/New_York:20251222T170000
DTSTAMP:20260424T211536
CREATED:20251021T191123Z
LAST-MODIFIED:20251021T191123Z
UID:10002719-1766422800-1766422800@rmhctriangle.org
SUMMARY:Higher Heights Ministry Center Youth Department
DESCRIPTION:
URL:https://rmhctriangle.org/family-event/higher-heights-ministry-center-youth-department/
CATEGORIES:Durham Meals
END:VEVENT
BEGIN:VEVENT
DTSTART;TZID=America/New_York:20251222T173000
DTEND;TZID=America/New_York:20251222T190000
DTSTAMP:20260424T211536
CREATED:20230713T185113Z
LAST-MODIFIED:20230713T185113Z
UID:10000438-1766424600-1766430000@rmhctriangle.org
SUMMARY:McDonald's
DESCRIPTION:
URL:https://rmhctriangle.org/family-event/mcdonalds-2/2025-12-22/
CATEGORIES:Chapel Hill Meals
END:VEVENT
BEGIN:VEVENT
DTSTART;TZID=America/New_York:20251223T153000
DTEND;TZID=America/New_York:20251223T183000
DTSTAMP:20260424T211536
CREATED:20250929T123222Z
LAST-MODIFIED:20250929T123222Z
UID:10002685-1766503800-1766514600@rmhctriangle.org
SUMMARY:Ervin Family
DESCRIPTION:
URL:https://rmhctriangle.org/family-event/ervin-family/
CATEGORIES:Chapel Hill Meals
END:VEVENT
BEGIN:VEVENT
DTSTART;TZID=America/New_York:20251223T170000
DTEND;TZID=America/New_York:20251223T170000
DTSTAMP:20260424T211536
CREATED:20251023T130057Z
LAST-MODIFIED:20251023T130057Z
UID:10002724-1766509200-1766509200@rmhctriangle.org
SUMMARY:The Bernards
DESCRIPTION:
URL:https://rmhctriangle.org/family-event/the-bernards-2/
CATEGORIES:Durham Meals
END:VEVENT
BEGIN:VEVENT
DTSTART;TZID=America/New_York:20251224T153000
DTEND;TZID=America/New_York:20251224T183000
DTSTAMP:20260424T211536
CREATED:20241211T141508Z
LAST-MODIFIED:20241211T141508Z
UID:10002086-1766590200-1766601000@rmhctriangle.org
SUMMARY:Mt. Carmel Baptist Church
DESCRIPTION:
URL:https://rmhctriangle.org/family-event/mt-carmel-baptist-church/
CATEGORIES:Chapel Hill Meals
END:VEVENT
BEGIN:VEVENT
DTSTART;TZID=America/New_York:20251224T170000
DTEND;TZID=America/New_York:20251224T170000
DTSTAMP:20260424T211536
CREATED:20251024T183836Z
LAST-MODIFIED:20251027T151106Z
UID:10002726-1766595600-1766595600@rmhctriangle.org
SUMMARY:Sheppard-Olen Family
DESCRIPTION:
URL:https://rmhctriangle.org/family-event/sheppard-family/
CATEGORIES:Durham Meals
END:VEVENT
BEGIN:VEVENT
DTSTART;TZID=America/New_York:20251225T153000
DTEND;TZID=America/New_York:20251225T183000
DTSTAMP:20260424T211536
CREATED:20250903T145129Z
LAST-MODIFIED:20250903T145129Z
UID:10002647-1766676600-1766687400@rmhctriangle.org
SUMMARY:Wendy Dixon
DESCRIPTION:
URL:https://rmhctriangle.org/family-event/wendy-dixon-2/
CATEGORIES:Chapel Hill Meals
END:VEVENT
BEGIN:VEVENT
DTSTART;TZID=America/New_York:20251225T170000
DTEND;TZID=America/New_York:20251225T170000
DTSTAMP:20260424T211536
CREATED:20251002T191357Z
LAST-MODIFIED:20251002T191357Z
UID:10002694-1766682000-1766682000@rmhctriangle.org
SUMMARY:Harry Monds/Lula & Sadies
DESCRIPTION:
URL:https://rmhctriangle.org/family-event/harry-monds-lula-sadies-3/2025-12-25/
CATEGORIES:Durham Meals
END:VEVENT
BEGIN:VEVENT
DTSTART;TZID=America/New_York:20251226T170000
DTEND;TZID=America/New_York:20251226T170000
DTSTAMP:20260424T211536
CREATED:20251205T163148Z
LAST-MODIFIED:20251205T163148Z
UID:10002809-1766768400-1766768400@rmhctriangle.org
SUMMARY:Avalara
DESCRIPTION:
URL:https://rmhctriangle.org/family-event/avalara-3/
CATEGORIES:Durham Meals
END:VEVENT
BEGIN:VEVENT
DTSTART;TZID=America/New_York:20251226T173000
DTEND;TZID=America/New_York:20251226T190000
DTSTAMP:20260424T211536
CREATED:20230713T181540Z
LAST-MODIFIED:20230713T181540Z
UID:10000146-1766770200-1766775600@rmhctriangle.org
SUMMARY:Domino's
DESCRIPTION:
URL:https://rmhctriangle.org/family-event/dominos/2025-12-26/
CATEGORIES:Chapel Hill Meals
END:VEVENT
BEGIN:VEVENT
DTSTART;TZID=America/New_York:20251227T080000
DTEND;TZID=America/New_York:20251227T170000
DTSTAMP:20260424T211536
CREATED:20251104T213223Z
LAST-MODIFIED:20251104T213223Z
UID:10002749-1766822400-1766854800@rmhctriangle.org
SUMMARY:Nelson Baptist Church
DESCRIPTION:
URL:https://rmhctriangle.org/family-event/nelson-baptist-church-2/
CATEGORIES:Durham Meals
END:VEVENT
BEGIN:VEVENT
DTSTART;TZID=America/New_York:20251227T153000
DTEND;TZID=America/New_York:20251227T183000
DTSTAMP:20260424T211536
CREATED:20250108T142255Z
LAST-MODIFIED:20250108T142255Z
UID:10002158-1766849400-1766860200@rmhctriangle.org
SUMMARY:Zakat Foundation of America
DESCRIPTION:
URL:https://rmhctriangle.org/family-event/zakat-foundation-of-america-8/
CATEGORIES:Chapel Hill Meals
END:VEVENT
BEGIN:VEVENT
DTSTART;TZID=America/New_York:20251228T153000
DTEND;TZID=America/New_York:20251228T183000
DTSTAMP:20260424T211536
CREATED:20251217T170408Z
LAST-MODIFIED:20251217T170408Z
UID:10002846-1766935800-1766946600@rmhctriangle.org
SUMMARY:Wendy Dixon
DESCRIPTION:
URL:https://rmhctriangle.org/family-event/wendy-dixon-4/
CATEGORIES:Chapel Hill Meals
END:VEVENT
BEGIN:VEVENT
DTSTART;TZID=America/New_York:20251228T170000
DTEND;TZID=America/New_York:20251228T170000
DTSTAMP:20260424T211536
CREATED:20251002T194637Z
LAST-MODIFIED:20251023T130852Z
UID:10002695-1766941200-1766941200@rmhctriangle.org
SUMMARY:Amazon
DESCRIPTION:
URL:https://rmhctriangle.org/family-event/amazon-3/
CATEGORIES:Durham Meals
END:VEVENT
BEGIN:VEVENT
DTSTART;TZID=America/New_York:20251229T080000
DTEND;TZID=America/New_York:20251229T170000
DTSTAMP:20260424T211536
CREATED:20230713T184402Z
LAST-MODIFIED:20230814T180412Z
UID:10000298-1766995200-1767027600@rmhctriangle.org
SUMMARY:Kiwanis Club of the Friendly City
DESCRIPTION:
URL:https://rmhctriangle.org/family-event/kiwanis-club-of-the-friendly-city/2025-12-29/
CATEGORIES:Durham Meals
END:VEVENT
BEGIN:VEVENT
DTSTART;TZID=America/New_York:20251229T173000
DTEND;TZID=America/New_York:20251229T190000
DTSTAMP:20260424T211536
CREATED:20230713T185113Z
LAST-MODIFIED:20230713T185113Z
UID:10000439-1767029400-1767034800@rmhctriangle.org
SUMMARY:McDonald's
DESCRIPTION:
URL:https://rmhctriangle.org/family-event/mcdonalds-2/2025-12-29/
CATEGORIES:Chapel Hill Meals
END:VEVENT
BEGIN:VEVENT
DTSTART;TZID=America/New_York:20251230T170000
DTEND;TZID=America/New_York:20251230T170000
DTSTAMP:20260424T211536
CREATED:20251126T142422Z
LAST-MODIFIED:20251126T142422Z
UID:10002796-1767114000-1767114000@rmhctriangle.org
SUMMARY:Graham Family
DESCRIPTION:
URL:https://rmhctriangle.org/family-event/graham-family/
CATEGORIES:Durham Meals
END:VEVENT
BEGIN:VEVENT
DTSTART;TZID=America/New_York:20251230T173000
DTEND;TZID=America/New_York:20251230T190000
DTSTAMP:20260424T211536
CREATED:20230713T185449Z
LAST-MODIFIED:20230713T185449Z
UID:10000636-1767115800-1767121200@rmhctriangle.org
SUMMARY:Barbara & Jean
DESCRIPTION:
URL:https://rmhctriangle.org/family-event/barbara-jean/2025-12-30/
CATEGORIES:Chapel Hill Meals
END:VEVENT
BEGIN:VEVENT
DTSTART;TZID=America/New_York:20251231T153000
DTEND;TZID=America/New_York:20251231T183000
DTSTAMP:20260424T211536
CREATED:20251210T154708Z
LAST-MODIFIED:20251210T154708Z
UID:10002842-1767195000-1767205800@rmhctriangle.org
SUMMARY:Megan Winters and Family
DESCRIPTION:
URL:https://rmhctriangle.org/family-event/megan-winters-and-family/
CATEGORIES:Chapel Hill Meals
END:VEVENT
BEGIN:VEVENT
DTSTART;TZID=America/New_York:20251231T170000
DTEND;TZID=America/New_York:20251231T170000
DTSTAMP:20260424T211536
CREATED:20251022T132543Z
LAST-MODIFIED:20251022T132543Z
UID:10002722-1767200400-1767200400@rmhctriangle.org
SUMMARY:Gayle Flynn
DESCRIPTION:
URL:https://rmhctriangle.org/family-event/gayle-flynn-3/
CATEGORIES:Durham Meals
END:VEVENT
BEGIN:VEVENT
DTSTART;TZID=America/New_York:20260101T153000
DTEND;TZID=America/New_York:20260101T183000
DTSTAMP:20260424T211536
CREATED:20251104T150510Z
LAST-MODIFIED:20251104T150510Z
UID:10002745-1767281400-1767292200@rmhctriangle.org
SUMMARY:Anusha Balakrishnan
DESCRIPTION:
URL:https://rmhctriangle.org/family-event/anusha-balakrishnan-2/
CATEGORIES:Chapel Hill Meals
END:VEVENT
BEGIN:VEVENT
DTSTART;TZID=America/New_York:20260101T170000
DTEND;TZID=America/New_York:20260101T170000
DTSTAMP:20260424T211536
CREATED:20251103T160145Z
LAST-MODIFIED:20251103T160145Z
UID:10002743-1767286800-1767286800@rmhctriangle.org
SUMMARY:PHP Agency
DESCRIPTION:
URL:https://rmhctriangle.org/family-event/php-agency/
CATEGORIES:Durham Meals
END:VEVENT
BEGIN:VEVENT
DTSTART;TZID=America/New_York:20260102T170000
DTEND;TZID=America/New_York:20260102T170000
DTSTAMP:20260424T211536
CREATED:20251201T184335Z
LAST-MODIFIED:20251201T184335Z
UID:10002803-1767373200-1767373200@rmhctriangle.org
SUMMARY:Dinner: Shady Grove UMC
DESCRIPTION:
URL:https://rmhctriangle.org/family-event/dinner-shady-grove-umc/
CATEGORIES:Durham Meals
END:VEVENT
BEGIN:VEVENT
DTSTART;TZID=America/New_York:20260102T173000
DTEND;TZID=America/New_York:20260102T190000
DTSTAMP:20260424T211536
CREATED:20230713T181540Z
LAST-MODIFIED:20230713T181540Z
UID:10000147-1767375000-1767380400@rmhctriangle.org
SUMMARY:Domino's
DESCRIPTION:
URL:https://rmhctriangle.org/family-event/dominos/2026-01-02/
CATEGORIES:Chapel Hill Meals
END:VEVENT
BEGIN:VEVENT
DTSTART;TZID=America/New_York:20260103T170000
DTEND;TZID=America/New_York:20260103T170000
DTSTAMP:20260424T211536
CREATED:20250912T134931Z
LAST-MODIFIED:20250912T134931Z
UID:10002662-1767459600-1767459600@rmhctriangle.org
SUMMARY:Girl Scout troop 3373
DESCRIPTION:
URL:https://rmhctriangle.org/family-event/girl-scout-troop-3373/
CATEGORIES:Durham Meals
END:VEVENT
BEGIN:VEVENT
DTSTART;TZID=America/New_York:20260104T153000
DTEND;TZID=America/New_York:20260104T183000
DTSTAMP:20260424T211536
CREATED:20251015T140347Z
LAST-MODIFIED:20251015T140347Z
UID:10002716-1767540600-1767551400@rmhctriangle.org
SUMMARY:Gathering Good
DESCRIPTION:
URL:https://rmhctriangle.org/family-event/gathering-good-5/
CATEGORIES:Chapel Hill Meals
END:VEVENT
BEGIN:VEVENT
DTSTART;TZID=America/New_York:20260104T170000
DTEND;TZID=America/New_York:20260104T170000
DTSTAMP:20260424T211536
CREATED:20250925T201821Z
LAST-MODIFIED:20250929T155854Z
UID:10002676-1767546000-1767546000@rmhctriangle.org
SUMMARY:St. Mary Magdalene
DESCRIPTION:
URL:https://rmhctriangle.org/family-event/st-mary-magdalene/2026-01-04/
CATEGORIES:Durham Meals
END:VEVENT
BEGIN:VEVENT
DTSTART;TZID=America/New_York:20260105T173000
DTEND;TZID=America/New_York:20260105T190000
DTSTAMP:20260424T211536
CREATED:20230713T185113Z
LAST-MODIFIED:20230713T185113Z
UID:10000440-1767634200-1767639600@rmhctriangle.org
SUMMARY:McDonald's
DESCRIPTION:
URL:https://rmhctriangle.org/family-event/mcdonalds-2/2026-01-05/
CATEGORIES:Chapel Hill Meals
END:VEVENT
END:VCALENDAR