BEGIN:VCALENDAR
VERSION:2.0
PRODID:-//Ronald McDonald House Charities of the Triangle - ECPv6.15.17.1//NONSGML v1.0//EN
CALSCALE:GREGORIAN
METHOD:PUBLISH
X-ORIGINAL-URL:https://rmhctriangle.org
X-WR-CALDESC:Events for Ronald McDonald House Charities of the Triangle
REFRESH-INTERVAL;VALUE=DURATION:PT1H
X-Robots-Tag:noindex
X-PUBLISHED-TTL:PT1H
BEGIN:VTIMEZONE
TZID:America/New_York
BEGIN:DAYLIGHT
TZOFFSETFROM:-0500
TZOFFSETTO:-0400
TZNAME:EDT
DTSTART:20240310T070000
END:DAYLIGHT
BEGIN:STANDARD
TZOFFSETFROM:-0400
TZOFFSETTO:-0500
TZNAME:EST
DTSTART:20241103T060000
END:STANDARD
BEGIN:DAYLIGHT
TZOFFSETFROM:-0500
TZOFFSETTO:-0400
TZNAME:EDT
DTSTART:20250309T070000
END:DAYLIGHT
BEGIN:STANDARD
TZOFFSETFROM:-0400
TZOFFSETTO:-0500
TZNAME:EST
DTSTART:20251102T060000
END:STANDARD
BEGIN:DAYLIGHT
TZOFFSETFROM:-0500
TZOFFSETTO:-0400
TZNAME:EDT
DTSTART:20260308T070000
END:DAYLIGHT
BEGIN:STANDARD
TZOFFSETFROM:-0400
TZOFFSETTO:-0500
TZNAME:EST
DTSTART:20261101T060000
END:STANDARD
END:VTIMEZONE
BEGIN:VEVENT
DTSTART;TZID=America/New_York:20251019T153000
DTEND;TZID=America/New_York:20251019T183000
DTSTAMP:20260423T002514
CREATED:20241105T144530Z
LAST-MODIFIED:20241105T144530Z
UID:10002002-1760887800-1760898600@rmhctriangle.org
SUMMARY:New Hope Church
DESCRIPTION:
URL:https://rmhctriangle.org/family-event/new-hope-church-14/
CATEGORIES:Chapel Hill Meals
END:VEVENT
BEGIN:VEVENT
DTSTART;TZID=America/New_York:20251019T170000
DTEND;TZID=America/New_York:20251019T170000
DTSTAMP:20260423T002514
CREATED:20250910T140702Z
LAST-MODIFIED:20250910T141658Z
UID:10002658-1760893200-1760893200@rmhctriangle.org
SUMMARY:Girl Scout Troop 1892
DESCRIPTION:
URL:https://rmhctriangle.org/family-event/girl-scouts/
CATEGORIES:Durham Meals
END:VEVENT
BEGIN:VEVENT
DTSTART;TZID=America/New_York:20251020T170000
DTEND;TZID=America/New_York:20251020T170000
DTSTAMP:20260423T002514
CREATED:20251008T195109Z
LAST-MODIFIED:20251008T195109Z
UID:10002702-1760979600-1760979600@rmhctriangle.org
SUMMARY:McDonald's
DESCRIPTION:
URL:https://rmhctriangle.org/family-event/mcdonalds-17/2025-10-20/
CATEGORIES:Durham Meals
END:VEVENT
BEGIN:VEVENT
DTSTART;TZID=America/New_York:20251020T173000
DTEND;TZID=America/New_York:20251020T190000
DTSTAMP:20260423T002514
CREATED:20230713T185113Z
LAST-MODIFIED:20230713T185113Z
UID:10000429-1760981400-1760986800@rmhctriangle.org
SUMMARY:McDonald's
DESCRIPTION:
URL:https://rmhctriangle.org/family-event/mcdonalds-2/2025-10-20/
CATEGORIES:Chapel Hill Meals
END:VEVENT
BEGIN:VEVENT
DTSTART;TZID=America/New_York:20251021T170000
DTEND;TZID=America/New_York:20251021T170000
DTSTAMP:20260423T002514
CREATED:20250806T155908Z
LAST-MODIFIED:20250929T201007Z
UID:10002497-1761066000-1761066000@rmhctriangle.org
SUMMARY:Smith Anderson
DESCRIPTION:
URL:https://rmhctriangle.org/family-event/smith-anderson/
CATEGORIES:Durham Meals
END:VEVENT
BEGIN:VEVENT
DTSTART;TZID=America/New_York:20251021T173000
DTEND;TZID=America/New_York:20251021T190000
DTSTAMP:20260423T002514
CREATED:20230713T185449Z
LAST-MODIFIED:20230713T185449Z
UID:10000631-1761067800-1761073200@rmhctriangle.org
SUMMARY:Barbara & Jean
DESCRIPTION:
URL:https://rmhctriangle.org/family-event/barbara-jean/2025-10-21/
CATEGORIES:Chapel Hill Meals
END:VEVENT
BEGIN:VEVENT
DTSTART;TZID=America/New_York:20251022T153000
DTEND;TZID=America/New_York:20251022T183000
DTSTAMP:20260423T002514
CREATED:20250519T144718Z
LAST-MODIFIED:20250519T144718Z
UID:10002358-1761147000-1761157800@rmhctriangle.org
SUMMARY:Blackman & Sloop
DESCRIPTION:
URL:https://rmhctriangle.org/family-event/blackman-sloop-2/
CATEGORIES:Chapel Hill Meals
END:VEVENT
BEGIN:VEVENT
DTSTART;TZID=America/New_York:20251022T170000
DTEND;TZID=America/New_York:20251022T170000
DTSTAMP:20260423T002514
CREATED:20250113T203405Z
LAST-MODIFIED:20250115T143823Z
UID:10002176-1761152400-1761152400@rmhctriangle.org
SUMMARY:Guerbet
DESCRIPTION:
URL:https://rmhctriangle.org/family-event/guerbet-3/2025-10-22/
CATEGORIES:Durham Meals
END:VEVENT
BEGIN:VEVENT
DTSTART;TZID=America/New_York:20251023T153000
DTEND;TZID=America/New_York:20251023T183000
DTSTAMP:20260423T002514
CREATED:20241119T145010Z
LAST-MODIFIED:20241119T145010Z
UID:10002036-1761233400-1761244200@rmhctriangle.org
SUMMARY:Antioch Church
DESCRIPTION:
URL:https://rmhctriangle.org/family-event/antioch-church-16/
CATEGORIES:Chapel Hill Meals
END:VEVENT
BEGIN:VEVENT
DTSTART;TZID=America/New_York:20251023T170000
DTEND;TZID=America/New_York:20251023T170000
DTSTAMP:20260423T002514
CREATED:20250730T143453Z
LAST-MODIFIED:20250730T143453Z
UID:10002488-1761238800-1761238800@rmhctriangle.org
SUMMARY:UCB
DESCRIPTION:
URL:https://rmhctriangle.org/family-event/ucb-7/
CATEGORIES:Durham Meals
END:VEVENT
BEGIN:VEVENT
DTSTART;TZID=America/New_York:20251024T170000
DTEND;TZID=America/New_York:20251024T170000
DTSTAMP:20260423T002514
CREATED:20250909T142037Z
LAST-MODIFIED:20250909T142102Z
UID:10002652-1761325200-1761325200@rmhctriangle.org
SUMMARY:Rotary Club of Cleveland School
DESCRIPTION:
URL:https://rmhctriangle.org/family-event/rotary-club-of-cleveland-school/
CATEGORIES:Durham Meals
END:VEVENT
BEGIN:VEVENT
DTSTART;TZID=America/New_York:20251024T173000
DTEND;TZID=America/New_York:20251024T190000
DTSTAMP:20260423T002514
CREATED:20230713T181540Z
LAST-MODIFIED:20230713T181540Z
UID:10000137-1761327000-1761332400@rmhctriangle.org
SUMMARY:Domino's
DESCRIPTION:
URL:https://rmhctriangle.org/family-event/dominos/2025-10-24/
CATEGORIES:Chapel Hill Meals
END:VEVENT
BEGIN:VEVENT
DTSTART;TZID=America/New_York:20251025T153000
DTEND;TZID=America/New_York:20251025T183000
DTSTAMP:20260423T002514
CREATED:20250108T142150Z
LAST-MODIFIED:20250108T142150Z
UID:10002156-1761406200-1761417000@rmhctriangle.org
SUMMARY:Zakat Foundation of America
DESCRIPTION:
URL:https://rmhctriangle.org/family-event/zakat-foundation-of-america-6/
CATEGORIES:Chapel Hill Meals
END:VEVENT
BEGIN:VEVENT
DTSTART;TZID=America/New_York:20251025T170000
DTEND;TZID=America/New_York:20251025T170000
DTSTAMP:20260423T002514
CREATED:20250122T182133Z
LAST-MODIFIED:20250122T182133Z
UID:10002203-1761411600-1761411600@rmhctriangle.org
SUMMARY:Zeta Alpha Psi Sisterhood International
DESCRIPTION:
URL:https://rmhctriangle.org/family-event/zeta-alpha-psi-sisterhood-international/
CATEGORIES:Durham Meals
END:VEVENT
BEGIN:VEVENT
DTSTART;TZID=America/New_York:20251026T153000
DTEND;TZID=America/New_York:20251026T183000
DTSTAMP:20260423T002514
CREATED:20250408T163928Z
LAST-MODIFIED:20250408T163928Z
UID:10002310-1761492600-1761503400@rmhctriangle.org
SUMMARY:NCL Sustainers
DESCRIPTION:
URL:https://rmhctriangle.org/family-event/ncl-sustainers-2/
CATEGORIES:Chapel Hill Meals
END:VEVENT
BEGIN:VEVENT
DTSTART;TZID=America/New_York:20251026T170000
DTEND;TZID=America/New_York:20251026T170000
DTSTAMP:20260423T002514
CREATED:20250910T123959Z
LAST-MODIFIED:20250910T123959Z
UID:10002654-1761498000-1761498000@rmhctriangle.org
SUMMARY:Quest Fellowship
DESCRIPTION:
URL:https://rmhctriangle.org/family-event/quest-fellowship/
CATEGORIES:Durham Meals
END:VEVENT
BEGIN:VEVENT
DTSTART;TZID=America/New_York:20251027T080000
DTEND;TZID=America/New_York:20251027T170000
DTSTAMP:20260423T002514
CREATED:20230713T184402Z
LAST-MODIFIED:20230814T180412Z
UID:10000786-1761552000-1761584400@rmhctriangle.org
SUMMARY:Kiwanis Club of the Friendly City
DESCRIPTION:
URL:https://rmhctriangle.org/family-event/kiwanis-club-of-the-friendly-city/2025-10-27/
CATEGORIES:Durham Meals
END:VEVENT
BEGIN:VEVENT
DTSTART;TZID=America/New_York:20251027T173000
DTEND;TZID=America/New_York:20251027T190000
DTSTAMP:20260423T002514
CREATED:20230713T185113Z
LAST-MODIFIED:20230713T185113Z
UID:10000430-1761586200-1761591600@rmhctriangle.org
SUMMARY:McDonald's
DESCRIPTION:
URL:https://rmhctriangle.org/family-event/mcdonalds-2/2025-10-27/
CATEGORIES:Chapel Hill Meals
END:VEVENT
BEGIN:VEVENT
DTSTART;TZID=America/New_York:20251028T153000
DTEND;TZID=America/New_York:20251028T183000
DTSTAMP:20260423T002514
CREATED:20250410T124805Z
LAST-MODIFIED:20250410T124805Z
UID:10002317-1761665400-1761676200@rmhctriangle.org
SUMMARY:Carolina Cancer Association
DESCRIPTION:
URL:https://rmhctriangle.org/family-event/carolina-cancer-association-11/
CATEGORIES:Chapel Hill Meals
END:VEVENT
BEGIN:VEVENT
DTSTART;TZID=America/New_York:20251028T170000
DTEND;TZID=America/New_York:20251028T170000
DTSTAMP:20260423T002514
CREATED:20250715T181145Z
LAST-MODIFIED:20250929T201335Z
UID:10002692-1761670800-1761670800@rmhctriangle.org
SUMMARY:NCSU ADPi
DESCRIPTION:
URL:https://rmhctriangle.org/family-event/ncsu-adpi-6/2025-10-28/
CATEGORIES:Durham Meals
END:VEVENT
BEGIN:VEVENT
DTSTART;TZID=America/New_York:20251029T153000
DTEND;TZID=America/New_York:20251029T183000
DTSTAMP:20260423T002514
CREATED:20250708T143643Z
LAST-MODIFIED:20250708T143643Z
UID:10002451-1761751800-1761762600@rmhctriangle.org
SUMMARY:CFTK
DESCRIPTION:
URL:https://rmhctriangle.org/family-event/cftk-15/
CATEGORIES:Chapel Hill Meals
END:VEVENT
BEGIN:VEVENT
DTSTART;TZID=America/New_York:20251029T170000
DTEND;TZID=America/New_York:20251029T170000
DTSTAMP:20260423T002514
CREATED:20250929T201108Z
LAST-MODIFIED:20250929T201108Z
UID:10002691-1761757200-1761757200@rmhctriangle.org
SUMMARY:Trunk or Treat Pizza Party (Friends of RMH)
DESCRIPTION:
URL:https://rmhctriangle.org/family-event/trunk-or-treat-pizza-party-friends-of-rmh/
CATEGORIES:Durham Meals
END:VEVENT
BEGIN:VEVENT
DTSTART;TZID=America/New_York:20251030T153000
DTEND;TZID=America/New_York:20251030T183000
DTSTAMP:20260423T002514
CREATED:20250828T153213Z
LAST-MODIFIED:20250828T153213Z
UID:10002639-1761838200-1761849000@rmhctriangle.org
SUMMARY:CH Sunrise Rotary Club
DESCRIPTION:
URL:https://rmhctriangle.org/family-event/ch-sunrise-rotary-club/
CATEGORIES:Chapel Hill Meals
END:VEVENT
BEGIN:VEVENT
DTSTART;TZID=America/New_York:20251030T170000
DTEND;TZID=America/New_York:20251030T170000
DTSTAMP:20260423T002514
CREATED:20250710T193435Z
LAST-MODIFIED:20250710T193435Z
UID:10002462-1761843600-1761843600@rmhctriangle.org
SUMMARY:Seqirus
DESCRIPTION:
URL:https://rmhctriangle.org/family-event/seqirus/
CATEGORIES:Durham Meals
END:VEVENT
BEGIN:VEVENT
DTSTART;TZID=America/New_York:20251031T170000
DTEND;TZID=America/New_York:20251031T170000
DTSTAMP:20260423T002514
CREATED:20250925T142038Z
LAST-MODIFIED:20250925T142038Z
UID:10002673-1761930000-1761930000@rmhctriangle.org
SUMMARY:Grace Church
DESCRIPTION:
URL:https://rmhctriangle.org/family-event/grace-church-3/
CATEGORIES:Durham Meals
END:VEVENT
BEGIN:VEVENT
DTSTART;TZID=America/New_York:20251031T173000
DTEND;TZID=America/New_York:20251031T190000
DTSTAMP:20260423T002514
CREATED:20230713T181540Z
LAST-MODIFIED:20230713T181540Z
UID:10000138-1761931800-1761937200@rmhctriangle.org
SUMMARY:Domino's
DESCRIPTION:
URL:https://rmhctriangle.org/family-event/dominos/2025-10-31/
CATEGORIES:Chapel Hill Meals
END:VEVENT
BEGIN:VEVENT
DTSTART;TZID=America/New_York:20251101T170000
DTEND;TZID=America/New_York:20251101T170000
DTSTAMP:20260423T002514
CREATED:20241211T184514Z
LAST-MODIFIED:20250102T213801Z
UID:10002097-1762016400-1762016400@rmhctriangle.org
SUMMARY:Zakat Foundation
DESCRIPTION:
URL:https://rmhctriangle.org/family-event/zakat-foundation-22/2025-11-01/
CATEGORIES:Durham Meals
END:VEVENT
BEGIN:VEVENT
DTSTART;TZID=America/New_York:20251101T173000
DTEND;TZID=America/New_York:20251101T190000
DTSTAMP:20260423T002514
CREATED:20240105T155645Z
LAST-MODIFIED:20240105T155645Z
UID:10001461-1762018200-1762023600@rmhctriangle.org
SUMMARY:St. Thomas More
DESCRIPTION:
URL:https://rmhctriangle.org/family-event/st-thomas-more-8/2025-11-01/
CATEGORIES:Chapel Hill Meals
END:VEVENT
BEGIN:VEVENT
DTSTART;TZID=America/New_York:20251102T153000
DTEND;TZID=America/New_York:20251102T183000
DTSTAMP:20260423T002514
CREATED:20250721T144159Z
LAST-MODIFIED:20250721T144159Z
UID:10002476-1762097400-1762108200@rmhctriangle.org
SUMMARY:Cary Page Rotary Club
DESCRIPTION:
URL:https://rmhctriangle.org/family-event/cary-page-rotary-club-2/
CATEGORIES:Chapel Hill Meals
END:VEVENT
BEGIN:VEVENT
DTSTART;TZID=America/New_York:20251102T170000
DTEND;TZID=America/New_York:20251102T170000
DTSTAMP:20260423T002514
CREATED:20250815T142037Z
LAST-MODIFIED:20250815T142037Z
UID:10002622-1762102800-1762102800@rmhctriangle.org
SUMMARY:Duke South Primary Care
DESCRIPTION:
URL:https://rmhctriangle.org/family-event/duke-south-primary-care/
CATEGORIES:Durham Meals
END:VEVENT
END:VCALENDAR