BEGIN:VCALENDAR
VERSION:2.0
PRODID:-//Ronald McDonald House Charities of the Triangle - ECPv6.15.17.1//NONSGML v1.0//EN
CALSCALE:GREGORIAN
METHOD:PUBLISH
X-ORIGINAL-URL:https://rmhctriangle.org
X-WR-CALDESC:Events for Ronald McDonald House Charities of the Triangle
REFRESH-INTERVAL;VALUE=DURATION:PT1H
X-Robots-Tag:noindex
X-PUBLISHED-TTL:PT1H
BEGIN:VTIMEZONE
TZID:America/New_York
BEGIN:DAYLIGHT
TZOFFSETFROM:-0500
TZOFFSETTO:-0400
TZNAME:EDT
DTSTART:20240310T070000
END:DAYLIGHT
BEGIN:STANDARD
TZOFFSETFROM:-0400
TZOFFSETTO:-0500
TZNAME:EST
DTSTART:20241103T060000
END:STANDARD
BEGIN:DAYLIGHT
TZOFFSETFROM:-0500
TZOFFSETTO:-0400
TZNAME:EDT
DTSTART:20250309T070000
END:DAYLIGHT
BEGIN:STANDARD
TZOFFSETFROM:-0400
TZOFFSETTO:-0500
TZNAME:EST
DTSTART:20251102T060000
END:STANDARD
BEGIN:DAYLIGHT
TZOFFSETFROM:-0500
TZOFFSETTO:-0400
TZNAME:EDT
DTSTART:20260308T070000
END:DAYLIGHT
BEGIN:STANDARD
TZOFFSETFROM:-0400
TZOFFSETTO:-0500
TZNAME:EST
DTSTART:20261101T060000
END:STANDARD
END:VTIMEZONE
BEGIN:VEVENT
DTSTART;TZID=America/New_York:20250728T080000
DTEND;TZID=America/New_York:20250728T170000
DTSTAMP:20260422T095010
CREATED:20230713T184402Z
LAST-MODIFIED:20230814T180412Z
UID:10000784-1753689600-1753722000@rmhctriangle.org
SUMMARY:Kiwanis Club of the Friendly City
DESCRIPTION:
URL:https://rmhctriangle.org/family-event/kiwanis-club-of-the-friendly-city/2025-07-28/
CATEGORIES:Durham Meals
END:VEVENT
BEGIN:VEVENT
DTSTART;TZID=America/New_York:20250728T173000
DTEND;TZID=America/New_York:20250728T190000
DTSTAMP:20260422T095010
CREATED:20230713T185113Z
LAST-MODIFIED:20230713T185113Z
UID:10000417-1753723800-1753729200@rmhctriangle.org
SUMMARY:McDonald's
DESCRIPTION:
URL:https://rmhctriangle.org/family-event/mcdonalds-2/2025-07-28/
CATEGORIES:Chapel Hill Meals
END:VEVENT
BEGIN:VEVENT
DTSTART;TZID=America/New_York:20250729T170000
DTEND;TZID=America/New_York:20250729T170000
DTSTAMP:20260422T095010
CREATED:20250313T133218Z
LAST-MODIFIED:20250313T133218Z
UID:10002290-1753808400-1753808400@rmhctriangle.org
SUMMARY:Elevation (Love Week)
DESCRIPTION:
URL:https://rmhctriangle.org/family-event/elevation-love-week/2025-07-29/
CATEGORIES:Durham Meals
END:VEVENT
BEGIN:VEVENT
DTSTART;TZID=America/New_York:20250729T173000
DTEND;TZID=America/New_York:20250729T190000
DTSTAMP:20260422T095010
CREATED:20230713T185449Z
LAST-MODIFIED:20230713T185449Z
UID:10000625-1753810200-1753815600@rmhctriangle.org
SUMMARY:Barbara & Jean
DESCRIPTION:
URL:https://rmhctriangle.org/family-event/barbara-jean/2025-07-29/
CATEGORIES:Chapel Hill Meals
END:VEVENT
BEGIN:VEVENT
DTSTART;TZID=America/New_York:20250730T153000
DTEND;TZID=America/New_York:20250730T183000
DTSTAMP:20260422T095010
CREATED:20250623T134351Z
LAST-MODIFIED:20250623T134351Z
UID:10002405-1753889400-1753900200@rmhctriangle.org
SUMMARY:Relias
DESCRIPTION:
URL:https://rmhctriangle.org/family-event/relias/
CATEGORIES:Chapel Hill Meals
END:VEVENT
BEGIN:VEVENT
DTSTART;TZID=America/New_York:20250730T170000
DTEND;TZID=America/New_York:20250730T170000
DTSTAMP:20260422T095010
CREATED:20250429T180633Z
LAST-MODIFIED:20250429T180650Z
UID:10002335-1753894800-1753894800@rmhctriangle.org
SUMMARY:IMB
DESCRIPTION:
URL:https://rmhctriangle.org/family-event/imb/
CATEGORIES:Durham Meals
END:VEVENT
BEGIN:VEVENT
DTSTART;TZID=America/New_York:20250731T153000
DTEND;TZID=America/New_York:20250731T183000
DTSTAMP:20260422T095010
CREATED:20250224T133328Z
LAST-MODIFIED:20250224T133328Z
UID:10002273-1753975800-1753986600@rmhctriangle.org
SUMMARY:Chapel Hill Rotary
DESCRIPTION:
URL:https://rmhctriangle.org/family-event/chapel-hill-rotary-11/
CATEGORIES:Chapel Hill Meals
END:VEVENT
BEGIN:VEVENT
DTSTART;TZID=America/New_York:20250731T170000
DTEND;TZID=America/New_York:20250731T170000
DTSTAMP:20260422T095010
CREATED:20250612T134440Z
LAST-MODIFIED:20250612T134440Z
UID:10002395-1753981200-1753981200@rmhctriangle.org
SUMMARY:Skanska
DESCRIPTION:
URL:https://rmhctriangle.org/family-event/skanska-2/
CATEGORIES:Durham Meals
END:VEVENT
BEGIN:VEVENT
DTSTART;TZID=America/New_York:20250801T170000
DTEND;TZID=America/New_York:20250801T170000
DTSTAMP:20260422T095010
CREATED:20250313T133218Z
LAST-MODIFIED:20250313T133218Z
UID:10002291-1754067600-1754067600@rmhctriangle.org
SUMMARY:Elevation (Love Week)
DESCRIPTION:
URL:https://rmhctriangle.org/family-event/elevation-love-week/2025-08-01/
CATEGORIES:Durham Meals
END:VEVENT
BEGIN:VEVENT
DTSTART;TZID=America/New_York:20250801T173000
DTEND;TZID=America/New_York:20250801T190000
DTSTAMP:20260422T095010
CREATED:20230713T181540Z
LAST-MODIFIED:20230713T181540Z
UID:10000125-1754069400-1754074800@rmhctriangle.org
SUMMARY:Domino's
DESCRIPTION:
URL:https://rmhctriangle.org/family-event/dominos/2025-08-01/
CATEGORIES:Chapel Hill Meals
END:VEVENT
BEGIN:VEVENT
DTSTART;TZID=America/New_York:20250802T170000
DTEND;TZID=America/New_York:20250802T170000
DTSTAMP:20260422T095010
CREATED:20241211T184514Z
LAST-MODIFIED:20250102T213801Z
UID:10002094-1754154000-1754154000@rmhctriangle.org
SUMMARY:Zakat Foundation
DESCRIPTION:
URL:https://rmhctriangle.org/family-event/zakat-foundation-22/2025-08-02/
CATEGORIES:Durham Meals
END:VEVENT
BEGIN:VEVENT
DTSTART;TZID=America/New_York:20250802T173000
DTEND;TZID=America/New_York:20250802T190000
DTSTAMP:20260422T095010
CREATED:20240105T155645Z
LAST-MODIFIED:20240105T155645Z
UID:10001458-1754155800-1754161200@rmhctriangle.org
SUMMARY:St. Thomas More
DESCRIPTION:
URL:https://rmhctriangle.org/family-event/st-thomas-more-8/2025-08-02/
CATEGORIES:Chapel Hill Meals
END:VEVENT
BEGIN:VEVENT
DTSTART;TZID=America/New_York:20250803T153000
DTEND;TZID=America/New_York:20250803T183000
DTSTAMP:20260422T095010
CREATED:20250630T154805Z
LAST-MODIFIED:20250630T154805Z
UID:10002436-1754235000-1754245800@rmhctriangle.org
SUMMARY:Southside Young Adult Ministry
DESCRIPTION:
URL:https://rmhctriangle.org/family-event/southside-young-adult-ministry/
CATEGORIES:Chapel Hill Meals
END:VEVENT
BEGIN:VEVENT
DTSTART;TZID=America/New_York:20250804T173000
DTEND;TZID=America/New_York:20250804T190000
DTSTAMP:20260422T095010
CREATED:20230713T185113Z
LAST-MODIFIED:20230713T185113Z
UID:10000418-1754328600-1754334000@rmhctriangle.org
SUMMARY:McDonald's
DESCRIPTION:
URL:https://rmhctriangle.org/family-event/mcdonalds-2/2025-08-04/
CATEGORIES:Chapel Hill Meals
END:VEVENT
BEGIN:VEVENT
DTSTART;TZID=America/New_York:20250805T153000
DTEND;TZID=America/New_York:20250805T183000
DTSTAMP:20260422T095010
CREATED:20250708T180957Z
LAST-MODIFIED:20250708T180957Z
UID:10002453-1754407800-1754418600@rmhctriangle.org
SUMMARY:Gathering Good
DESCRIPTION:
URL:https://rmhctriangle.org/family-event/gathering-good-4/
CATEGORIES:Chapel Hill Meals
END:VEVENT
BEGIN:VEVENT
DTSTART;TZID=America/New_York:20250805T170000
DTEND;TZID=America/New_York:20250805T173000
DTSTAMP:20260422T095010
CREATED:20240918T155354Z
LAST-MODIFIED:20240918T155354Z
UID:10001951-1754413200-1754415000@rmhctriangle.org
SUMMARY:New Red Mountain Women's Ministry
DESCRIPTION:
URL:https://rmhctriangle.org/family-event/new-red-mountain-womens-ministry/2025-08-05/
CATEGORIES:Durham Meals
END:VEVENT
BEGIN:VEVENT
DTSTART;TZID=America/New_York:20250806T170000
DTEND;TZID=America/New_York:20250806T173000
DTSTAMP:20260422T095010
CREATED:20241015T141923Z
LAST-MODIFIED:20241015T141923Z
UID:10001978-1754499600-1754501400@rmhctriangle.org
SUMMARY:Red Shoe Crew
DESCRIPTION:
URL:https://rmhctriangle.org/family-event/red-shoe-crew-6/2025-08-06/
CATEGORIES:Chapel Hill Meals,Durham Meals
END:VEVENT
BEGIN:VEVENT
DTSTART;TZID=America/New_York:20250807T153000
DTEND;TZID=America/New_York:20250807T183000
DTSTAMP:20260422T095010
CREATED:20250512T153913Z
LAST-MODIFIED:20250512T153913Z
UID:10002350-1754580600-1754591400@rmhctriangle.org
SUMMARY:YMSL First in Flight
DESCRIPTION:
URL:https://rmhctriangle.org/family-event/ymsl-first-in-flight/
CATEGORIES:Chapel Hill Meals
END:VEVENT
BEGIN:VEVENT
DTSTART;TZID=America/New_York:20250807T170000
DTEND;TZID=America/New_York:20250807T170000
DTSTAMP:20260422T095010
CREATED:20250627T191402Z
LAST-MODIFIED:20250627T191402Z
UID:10002432-1754586000-1754586000@rmhctriangle.org
SUMMARY:McKim & Creed
DESCRIPTION:
URL:https://rmhctriangle.org/family-event/mckim-creed-2/
CATEGORIES:Durham Meals
END:VEVENT
BEGIN:VEVENT
DTSTART;TZID=America/New_York:20250808T173000
DTEND;TZID=America/New_York:20250808T190000
DTSTAMP:20260422T095010
CREATED:20230713T181540Z
LAST-MODIFIED:20230713T181540Z
UID:10000126-1754674200-1754679600@rmhctriangle.org
SUMMARY:Domino's
DESCRIPTION:
URL:https://rmhctriangle.org/family-event/dominos/2025-08-08/
CATEGORIES:Chapel Hill Meals
END:VEVENT
BEGIN:VEVENT
DTSTART;TZID=America/New_York:20250809T153000
DTEND;TZID=America/New_York:20250809T183000
DTSTAMP:20260422T095010
CREATED:20250701T131115Z
LAST-MODIFIED:20250701T131115Z
UID:10002444-1754753400-1754764200@rmhctriangle.org
SUMMARY:HSNC Geeta Kendra
DESCRIPTION:
URL:https://rmhctriangle.org/family-event/hsnc-geeta-kendra-2/
CATEGORIES:Chapel Hill Meals
END:VEVENT
BEGIN:VEVENT
DTSTART;TZID=America/New_York:20250809T170000
DTEND;TZID=America/New_York:20250809T170000
DTSTAMP:20260422T095010
CREATED:20250723T205552Z
LAST-MODIFIED:20250723T205552Z
UID:10002480-1754758800-1754758800@rmhctriangle.org
SUMMARY:Bailey Family
DESCRIPTION:
URL:https://rmhctriangle.org/family-event/bailey-family/
CATEGORIES:Durham Meals
END:VEVENT
BEGIN:VEVENT
DTSTART;TZID=America/New_York:20250810T153000
DTEND;TZID=America/New_York:20250810T183000
DTSTAMP:20260422T095010
CREATED:20250627T135333Z
LAST-MODIFIED:20250627T135333Z
UID:10002429-1754839800-1754850600@rmhctriangle.org
SUMMARY:NCL Eno River
DESCRIPTION:
URL:https://rmhctriangle.org/family-event/ncl-eno-river/
CATEGORIES:Chapel Hill Meals
END:VEVENT
BEGIN:VEVENT
DTSTART;TZID=America/New_York:20250810T170000
DTEND;TZID=America/New_York:20250810T170000
DTSTAMP:20260422T095010
CREATED:20250612T130711Z
LAST-MODIFIED:20250612T130711Z
UID:10002394-1754845200-1754845200@rmhctriangle.org
SUMMARY:Wakefield United Methodist Church
DESCRIPTION:
URL:https://rmhctriangle.org/family-event/wakefield-united-methodist-church-2/
CATEGORIES:Durham Meals
END:VEVENT
BEGIN:VEVENT
DTSTART;TZID=America/New_York:20250811T170000
DTEND;TZID=America/New_York:20250811T170000
DTSTAMP:20260422T095010
CREATED:20250701T142524Z
LAST-MODIFIED:20250701T142524Z
UID:10002445-1754931600-1754931600@rmhctriangle.org
SUMMARY:Couch Oil
DESCRIPTION:
URL:https://rmhctriangle.org/family-event/couch-oil-4/2025-08-11/
CATEGORIES:Durham Meals
END:VEVENT
BEGIN:VEVENT
DTSTART;TZID=America/New_York:20250811T173000
DTEND;TZID=America/New_York:20250811T190000
DTSTAMP:20260422T095010
CREATED:20230713T185113Z
LAST-MODIFIED:20230713T185113Z
UID:10000419-1754933400-1754938800@rmhctriangle.org
SUMMARY:McDonald's
DESCRIPTION:
URL:https://rmhctriangle.org/family-event/mcdonalds-2/2025-08-11/
CATEGORIES:Chapel Hill Meals
END:VEVENT
BEGIN:VEVENT
DTSTART;TZID=America/New_York:20250812T170000
DTEND;TZID=America/New_York:20250812T170000
DTSTAMP:20260422T095010
CREATED:20250610T130735Z
LAST-MODIFIED:20250610T130735Z
UID:10002387-1755018000-1755018000@rmhctriangle.org
SUMMARY:Amazon
DESCRIPTION:
URL:https://rmhctriangle.org/family-event/amazon-2/
CATEGORIES:Durham Meals
END:VEVENT
BEGIN:VEVENT
DTSTART;TZID=America/New_York:20250812T173000
DTEND;TZID=America/New_York:20250812T190000
DTSTAMP:20260422T095010
CREATED:20230713T185449Z
LAST-MODIFIED:20230713T185449Z
UID:10000626-1755019800-1755025200@rmhctriangle.org
SUMMARY:Barbara & Jean
DESCRIPTION:
URL:https://rmhctriangle.org/family-event/barbara-jean/2025-08-12/
CATEGORIES:Chapel Hill Meals
END:VEVENT
BEGIN:VEVENT
DTSTART;TZID=America/New_York:20250813T153000
DTEND;TZID=America/New_York:20250813T183000
DTSTAMP:20260422T095010
CREATED:20250612T163557Z
LAST-MODIFIED:20250612T163557Z
UID:10002396-1755099000-1755109800@rmhctriangle.org
SUMMARY:Biobridge
DESCRIPTION:
URL:https://rmhctriangle.org/family-event/biobridge/
CATEGORIES:Chapel Hill Meals
END:VEVENT
BEGIN:VEVENT
DTSTART;TZID=America/New_York:20250813T170000
DTEND;TZID=America/New_York:20250813T170000
DTSTAMP:20260422T095010
CREATED:20250421T184000Z
LAST-MODIFIED:20250421T184000Z
UID:10002329-1755104400-1755104400@rmhctriangle.org
SUMMARY:Invictus Logistics
DESCRIPTION:
URL:https://rmhctriangle.org/family-event/invictus-logistics/2025-08-13/
CATEGORIES:Durham Meals
END:VEVENT
END:VCALENDAR