BEGIN:VCALENDAR
VERSION:2.0
PRODID:-//Ronald McDonald House Charities of the Triangle - ECPv6.15.17.1//NONSGML v1.0//EN
CALSCALE:GREGORIAN
METHOD:PUBLISH
X-ORIGINAL-URL:https://rmhctriangle.org
X-WR-CALDESC:Events for Ronald McDonald House Charities of the Triangle
REFRESH-INTERVAL;VALUE=DURATION:PT1H
X-Robots-Tag:noindex
X-PUBLISHED-TTL:PT1H
BEGIN:VTIMEZONE
TZID:America/New_York
BEGIN:DAYLIGHT
TZOFFSETFROM:-0500
TZOFFSETTO:-0400
TZNAME:EDT
DTSTART:20240310T070000
END:DAYLIGHT
BEGIN:STANDARD
TZOFFSETFROM:-0400
TZOFFSETTO:-0500
TZNAME:EST
DTSTART:20241103T060000
END:STANDARD
BEGIN:DAYLIGHT
TZOFFSETFROM:-0500
TZOFFSETTO:-0400
TZNAME:EDT
DTSTART:20250309T070000
END:DAYLIGHT
BEGIN:STANDARD
TZOFFSETFROM:-0400
TZOFFSETTO:-0500
TZNAME:EST
DTSTART:20251102T060000
END:STANDARD
BEGIN:DAYLIGHT
TZOFFSETFROM:-0500
TZOFFSETTO:-0400
TZNAME:EDT
DTSTART:20260308T070000
END:DAYLIGHT
BEGIN:STANDARD
TZOFFSETFROM:-0400
TZOFFSETTO:-0500
TZNAME:EST
DTSTART:20261101T060000
END:STANDARD
END:VTIMEZONE
BEGIN:VEVENT
DTSTART;TZID=America/New_York:20250627T170000
DTEND;TZID=America/New_York:20250627T170000
DTSTAMP:20260422T002554
CREATED:20250314T135619Z
LAST-MODIFIED:20250317T163841Z
UID:10002297-1751043600-1751043600@rmhctriangle.org
SUMMARY:Southwest Airlines
DESCRIPTION:
URL:https://rmhctriangle.org/family-event/southwest-airlines-2/2025-06-27/
CATEGORIES:Durham Meals
END:VEVENT
BEGIN:VEVENT
DTSTART;TZID=America/New_York:20250627T173000
DTEND;TZID=America/New_York:20250627T190000
DTSTAMP:20260422T002554
CREATED:20230713T181540Z
LAST-MODIFIED:20230713T181540Z
UID:10000120-1751045400-1751050800@rmhctriangle.org
SUMMARY:Domino's
DESCRIPTION:
URL:https://rmhctriangle.org/family-event/dominos/2025-06-27/
CATEGORIES:Chapel Hill Meals
END:VEVENT
BEGIN:VEVENT
DTSTART;TZID=America/New_York:20250628T153000
DTEND;TZID=America/New_York:20250628T183000
DTSTAMP:20260422T002554
CREATED:20250424T190432Z
LAST-MODIFIED:20250424T190432Z
UID:10002331-1751124600-1751135400@rmhctriangle.org
SUMMARY:Navy Federal Credit Union
DESCRIPTION:
URL:https://rmhctriangle.org/family-event/navy-federal-credit-union/
CATEGORIES:Chapel Hill Meals
END:VEVENT
BEGIN:VEVENT
DTSTART;TZID=America/New_York:20250628T170000
DTEND;TZID=America/New_York:20250628T170000
DTSTAMP:20260422T002554
CREATED:20250501T152629Z
LAST-MODIFIED:20250501T152629Z
UID:10002339-1751130000-1751130000@rmhctriangle.org
SUMMARY:Jyothi's Group
DESCRIPTION:
URL:https://rmhctriangle.org/family-event/jyothis-group-2/
CATEGORIES:Durham Meals
END:VEVENT
BEGIN:VEVENT
DTSTART;TZID=America/New_York:20250629T153000
DTEND;TZID=America/New_York:20250629T183000
DTSTAMP:20260422T002554
CREATED:20250520T125024Z
LAST-MODIFIED:20250520T125024Z
UID:10002363-1751211000-1751221800@rmhctriangle.org
SUMMARY:Gathering Good
DESCRIPTION:
URL:https://rmhctriangle.org/family-event/gathering-good-2/
CATEGORIES:Chapel Hill Meals
END:VEVENT
BEGIN:VEVENT
DTSTART;TZID=America/New_York:20250629T170000
DTEND;TZID=America/New_York:20250629T170000
DTSTAMP:20260422T002554
CREATED:20250509T145146Z
LAST-MODIFIED:20250509T145146Z
UID:10002348-1751216400-1751216400@rmhctriangle.org
SUMMARY:Baddies Who Brunch
DESCRIPTION:
URL:https://rmhctriangle.org/family-event/baddies-who-brunch/
CATEGORIES:Durham Meals
END:VEVENT
BEGIN:VEVENT
DTSTART;TZID=America/New_York:20250630T080000
DTEND;TZID=America/New_York:20250630T170000
DTSTAMP:20260422T002554
CREATED:20230713T184402Z
LAST-MODIFIED:20230814T180412Z
UID:10000296-1751270400-1751302800@rmhctriangle.org
SUMMARY:Kiwanis Club of the Friendly City
DESCRIPTION:
URL:https://rmhctriangle.org/family-event/kiwanis-club-of-the-friendly-city/2025-06-30/
CATEGORIES:Durham Meals
END:VEVENT
BEGIN:VEVENT
DTSTART;TZID=America/New_York:20250630T173000
DTEND;TZID=America/New_York:20250630T190000
DTSTAMP:20260422T002554
CREATED:20230713T185113Z
LAST-MODIFIED:20230713T185113Z
UID:10000413-1751304600-1751310000@rmhctriangle.org
SUMMARY:McDonald's
DESCRIPTION:
URL:https://rmhctriangle.org/family-event/mcdonalds-2/2025-06-30/
CATEGORIES:Chapel Hill Meals
END:VEVENT
BEGIN:VEVENT
DTSTART;TZID=America/New_York:20250701T170000
DTEND;TZID=America/New_York:20250701T170000
DTSTAMP:20260422T002554
CREATED:20250626T145907Z
LAST-MODIFIED:20250626T145907Z
UID:10002419-1751389200-1751389200@rmhctriangle.org
SUMMARY:Primo's Sandwiches
DESCRIPTION:
URL:https://rmhctriangle.org/family-event/primos-sandwiches/
CATEGORIES:Durham Meals
END:VEVENT
BEGIN:VEVENT
DTSTART;TZID=America/New_York:20250701T173000
DTEND;TZID=America/New_York:20250701T190000
DTSTAMP:20260422T002554
CREATED:20230713T185449Z
LAST-MODIFIED:20230713T185449Z
UID:10000623-1751391000-1751396400@rmhctriangle.org
SUMMARY:Barbara & Jean
DESCRIPTION:
URL:https://rmhctriangle.org/family-event/barbara-jean/2025-07-01/
CATEGORIES:Chapel Hill Meals
END:VEVENT
BEGIN:VEVENT
DTSTART;TZID=America/New_York:20250702T153000
DTEND;TZID=America/New_York:20250702T183000
DTSTAMP:20260422T002554
CREATED:20250609T130930Z
LAST-MODIFIED:20250609T130930Z
UID:10002375-1751470200-1751481000@rmhctriangle.org
SUMMARY:UNC PICU
DESCRIPTION:
URL:https://rmhctriangle.org/family-event/unc-picu-4/
CATEGORIES:Chapel Hill Meals
END:VEVENT
BEGIN:VEVENT
DTSTART;TZID=America/New_York:20250702T170000
DTEND;TZID=America/New_York:20250702T170000
DTSTAMP:20260422T002554
CREATED:20250630T172855Z
LAST-MODIFIED:20250630T172855Z
UID:10002440-1751475600-1751475600@rmhctriangle.org
SUMMARY:McDonald's
DESCRIPTION:
URL:https://rmhctriangle.org/family-event/mcdonalds-15/
CATEGORIES:Durham Meals
END:VEVENT
BEGIN:VEVENT
DTSTART;TZID=America/New_York:20250703T170000
DTEND;TZID=America/New_York:20250703T170000
DTSTAMP:20260422T002554
CREATED:20250630T172942Z
LAST-MODIFIED:20250630T172942Z
UID:10002441-1751562000-1751562000@rmhctriangle.org
SUMMARY:Deloitte
DESCRIPTION:
URL:https://rmhctriangle.org/family-event/deloitte-3/
CATEGORIES:Durham Meals
END:VEVENT
BEGIN:VEVENT
DTSTART;TZID=America/New_York:20250704T170000
DTEND;TZID=America/New_York:20250704T170000
DTSTAMP:20260422T002554
CREATED:20250630T150845Z
LAST-MODIFIED:20250630T150845Z
UID:10002433-1751648400-1751648400@rmhctriangle.org
SUMMARY:Harry Monds (Lula & Sadies)
DESCRIPTION:
URL:https://rmhctriangle.org/family-event/harry-monds-lula-sadies-2/
CATEGORIES:Durham Meals
END:VEVENT
BEGIN:VEVENT
DTSTART;TZID=America/New_York:20250704T173000
DTEND;TZID=America/New_York:20250704T190000
DTSTAMP:20260422T002554
CREATED:20230713T181540Z
LAST-MODIFIED:20230713T181540Z
UID:10000121-1751650200-1751655600@rmhctriangle.org
SUMMARY:Domino's
DESCRIPTION:
URL:https://rmhctriangle.org/family-event/dominos/2025-07-04/
CATEGORIES:Chapel Hill Meals
END:VEVENT
BEGIN:VEVENT
DTSTART;TZID=America/New_York:20250705T170000
DTEND;TZID=America/New_York:20250705T170000
DTSTAMP:20260422T002554
CREATED:20241211T184514Z
LAST-MODIFIED:20250102T213801Z
UID:10002093-1751734800-1751734800@rmhctriangle.org
SUMMARY:Zakat Foundation
DESCRIPTION:
URL:https://rmhctriangle.org/family-event/zakat-foundation-22/2025-07-05/
CATEGORIES:Durham Meals
END:VEVENT
BEGIN:VEVENT
DTSTART;TZID=America/New_York:20250705T173000
DTEND;TZID=America/New_York:20250705T190000
DTSTAMP:20260422T002554
CREATED:20240105T155645Z
LAST-MODIFIED:20240105T155645Z
UID:10001457-1751736600-1751742000@rmhctriangle.org
SUMMARY:St. Thomas More
DESCRIPTION:
URL:https://rmhctriangle.org/family-event/st-thomas-more-8/2025-07-05/
CATEGORIES:Chapel Hill Meals
END:VEVENT
BEGIN:VEVENT
DTSTART;TZID=America/New_York:20250706T170000
DTEND;TZID=America/New_York:20250706T170000
DTSTAMP:20260422T002554
CREATED:20250616T193302Z
LAST-MODIFIED:20250616T193302Z
UID:10002401-1751821200-1751821200@rmhctriangle.org
SUMMARY:Scout Troop 518
DESCRIPTION:
URL:https://rmhctriangle.org/family-event/scout-troop-518/
CATEGORIES:Durham Meals
END:VEVENT
BEGIN:VEVENT
DTSTART;TZID=America/New_York:20250707T170000
DTEND;TZID=America/New_York:20250707T170000
DTSTAMP:20260422T002554
CREATED:20250624T161608Z
LAST-MODIFIED:20250624T161608Z
UID:10002415-1751907600-1751907600@rmhctriangle.org
SUMMARY:Smith Anderson Law
DESCRIPTION:
URL:https://rmhctriangle.org/family-event/smith-anderson-law-2/
CATEGORIES:Durham Meals
END:VEVENT
BEGIN:VEVENT
DTSTART;TZID=America/New_York:20250707T173000
DTEND;TZID=America/New_York:20250707T190000
DTSTAMP:20260422T002554
CREATED:20230713T185113Z
LAST-MODIFIED:20230713T185113Z
UID:10000414-1751909400-1751914800@rmhctriangle.org
SUMMARY:McDonald's
DESCRIPTION:
URL:https://rmhctriangle.org/family-event/mcdonalds-2/2025-07-07/
CATEGORIES:Chapel Hill Meals
END:VEVENT
BEGIN:VEVENT
DTSTART;TZID=America/New_York:20250708T153000
DTEND;TZID=America/New_York:20250708T183000
DTSTAMP:20260422T002554
CREATED:20250609T153746Z
LAST-MODIFIED:20250609T153746Z
UID:10002376-1751988600-1751999400@rmhctriangle.org
SUMMARY:Chick-fil-A Carraway Village
DESCRIPTION:
URL:https://rmhctriangle.org/family-event/chick-fil-a-carraway-village/
CATEGORIES:Chapel Hill Meals
END:VEVENT
BEGIN:VEVENT
DTSTART;TZID=America/New_York:20250709T153000
DTEND;TZID=America/New_York:20250709T183000
DTSTAMP:20260422T002554
CREATED:20250609T175918Z
LAST-MODIFIED:20250609T175918Z
UID:10002379-1752075000-1752085800@rmhctriangle.org
SUMMARY:Kings Mill Wealth Advisors
DESCRIPTION:
URL:https://rmhctriangle.org/family-event/kings-mill-wealth-advisors/
CATEGORIES:Chapel Hill Meals
END:VEVENT
BEGIN:VEVENT
DTSTART;TZID=America/New_York:20250709T170000
DTEND;TZID=America/New_York:20250709T170000
DTSTAMP:20260422T002554
CREATED:20250429T180732Z
LAST-MODIFIED:20250429T180732Z
UID:10002336-1752080400-1752080400@rmhctriangle.org
SUMMARY:Training Industries
DESCRIPTION:
URL:https://rmhctriangle.org/family-event/training-industries-2/
CATEGORIES:Durham Meals
END:VEVENT
BEGIN:VEVENT
DTSTART;TZID=America/New_York:20250710T153000
DTEND;TZID=America/New_York:20250710T183000
DTSTAMP:20260422T002554
CREATED:20250505T143743Z
LAST-MODIFIED:20250505T143743Z
UID:10002340-1752161400-1752172200@rmhctriangle.org
SUMMARY:Munson Law Firm
DESCRIPTION:
URL:https://rmhctriangle.org/family-event/munson-law-firm-3/
CATEGORIES:Chapel Hill Meals
END:VEVENT
BEGIN:VEVENT
DTSTART;TZID=America/New_York:20250710T170000
DTEND;TZID=America/New_York:20250710T170000
DTSTAMP:20260422T002554
CREATED:20250516T141353Z
LAST-MODIFIED:20250516T141353Z
UID:10002357-1752166800-1752166800@rmhctriangle.org
SUMMARY:Shepherd's Angel
DESCRIPTION:
URL:https://rmhctriangle.org/family-event/shepherds-angel-11/
CATEGORIES:Durham Meals
END:VEVENT
BEGIN:VEVENT
DTSTART;TZID=America/New_York:20250711T173000
DTEND;TZID=America/New_York:20250711T190000
DTSTAMP:20260422T002554
CREATED:20230713T181540Z
LAST-MODIFIED:20230713T181540Z
UID:10000122-1752255000-1752260400@rmhctriangle.org
SUMMARY:Domino's
DESCRIPTION:
URL:https://rmhctriangle.org/family-event/dominos/2025-07-11/
CATEGORIES:Chapel Hill Meals
END:VEVENT
BEGIN:VEVENT
DTSTART;TZID=America/New_York:20250712T153000
DTEND;TZID=America/New_York:20250712T183000
DTSTAMP:20260422T002554
CREATED:20250421T152458Z
LAST-MODIFIED:20250421T152458Z
UID:10002327-1752334200-1752345000@rmhctriangle.org
SUMMARY:Jenna Girardi & Family
DESCRIPTION:
URL:https://rmhctriangle.org/family-event/jenna-girardi-family/
CATEGORIES:Chapel Hill Meals
END:VEVENT
BEGIN:VEVENT
DTSTART;TZID=America/New_York:20250712T170000
DTEND;TZID=America/New_York:20250712T170000
DTSTAMP:20260422T002554
CREATED:20250605T132128Z
LAST-MODIFIED:20250605T132128Z
UID:10002373-1752339600-1752339600@rmhctriangle.org
SUMMARY:Jani-King
DESCRIPTION:
URL:https://rmhctriangle.org/family-event/jani-king/
CATEGORIES:Durham Meals
END:VEVENT
BEGIN:VEVENT
DTSTART;TZID=America/New_York:20250713T153000
DTEND;TZID=America/New_York:20250713T183000
DTSTAMP:20260422T002554
CREATED:20250204T132109Z
LAST-MODIFIED:20250204T132109Z
UID:10002249-1752420600-1752431400@rmhctriangle.org
SUMMARY:Sheri & Shannon
DESCRIPTION:
URL:https://rmhctriangle.org/family-event/sheri-shannon-5/
CATEGORIES:Chapel Hill Meals
END:VEVENT
BEGIN:VEVENT
DTSTART;TZID=America/New_York:20250713T170000
DTEND;TZID=America/New_York:20250713T170000
DTSTAMP:20260422T002554
CREATED:20250606T190418Z
LAST-MODIFIED:20250606T190418Z
UID:10002374-1752426000-1752426000@rmhctriangle.org
SUMMARY:The Bernards
DESCRIPTION:
URL:https://rmhctriangle.org/family-event/the-bernards/
CATEGORIES:Durham Meals
END:VEVENT
END:VCALENDAR