BEGIN:VCALENDAR
VERSION:2.0
PRODID:-//Ronald McDonald House Charities of the Triangle - ECPv6.15.17.1//NONSGML v1.0//EN
CALSCALE:GREGORIAN
METHOD:PUBLISH
X-ORIGINAL-URL:https://rmhctriangle.org
X-WR-CALDESC:Events for Ronald McDonald House Charities of the Triangle
REFRESH-INTERVAL;VALUE=DURATION:PT1H
X-Robots-Tag:noindex
X-PUBLISHED-TTL:PT1H
BEGIN:VTIMEZONE
TZID:America/New_York
BEGIN:DAYLIGHT
TZOFFSETFROM:-0500
TZOFFSETTO:-0400
TZNAME:EDT
DTSTART:20240310T070000
END:DAYLIGHT
BEGIN:STANDARD
TZOFFSETFROM:-0400
TZOFFSETTO:-0500
TZNAME:EST
DTSTART:20241103T060000
END:STANDARD
BEGIN:DAYLIGHT
TZOFFSETFROM:-0500
TZOFFSETTO:-0400
TZNAME:EDT
DTSTART:20250309T070000
END:DAYLIGHT
BEGIN:STANDARD
TZOFFSETFROM:-0400
TZOFFSETTO:-0500
TZNAME:EST
DTSTART:20251102T060000
END:STANDARD
BEGIN:DAYLIGHT
TZOFFSETFROM:-0500
TZOFFSETTO:-0400
TZNAME:EDT
DTSTART:20260308T070000
END:DAYLIGHT
BEGIN:STANDARD
TZOFFSETFROM:-0400
TZOFFSETTO:-0500
TZNAME:EST
DTSTART:20261101T060000
END:STANDARD
END:VTIMEZONE
BEGIN:VEVENT
DTSTART;TZID=America/New_York:20250301T080000
DTEND;TZID=America/New_York:20250301T170000
DTSTAMP:20260420T132928
CREATED:20241209T195756Z
LAST-MODIFIED:20241209T195756Z
UID:10002067-1740816000-1740848400@rmhctriangle.org
SUMMARY:Girl Scout Troop 4858
DESCRIPTION:
URL:https://rmhctriangle.org/family-event/girl-scout-troop-4858/
CATEGORIES:Durham Meals
END:VEVENT
BEGIN:VEVENT
DTSTART;TZID=America/New_York:20250301T173000
DTEND;TZID=America/New_York:20250301T190000
DTSTAMP:20260420T132928
CREATED:20240105T155645Z
LAST-MODIFIED:20240105T155645Z
UID:10001453-1740850200-1740855600@rmhctriangle.org
SUMMARY:St. Thomas More
DESCRIPTION:
URL:https://rmhctriangle.org/family-event/st-thomas-more-8/2025-03-01/
CATEGORIES:Chapel Hill Meals
END:VEVENT
BEGIN:VEVENT
DTSTART;TZID=America/New_York:20250302T153000
DTEND;TZID=America/New_York:20250302T183000
DTSTAMP:20260420T132928
CREATED:20250124T142622Z
LAST-MODIFIED:20250124T142622Z
UID:10002205-1740929400-1740940200@rmhctriangle.org
SUMMARY:Business Cares Club
DESCRIPTION:
URL:https://rmhctriangle.org/family-event/business-cares-club-5/
CATEGORIES:Chapel Hill Meals
END:VEVENT
BEGIN:VEVENT
DTSTART;TZID=America/New_York:20250302T170000
DTEND;TZID=America/New_York:20250302T170000
DTSTAMP:20260420T132928
CREATED:20250106T171722Z
LAST-MODIFIED:20250106T171722Z
UID:10002144-1740934800-1740934800@rmhctriangle.org
SUMMARY:Delta Gamma Kappa Alpha Psi
DESCRIPTION:
URL:https://rmhctriangle.org/family-event/delta-gamma-kappa-alpha-psi/
CATEGORIES:Durham Meals
END:VEVENT
BEGIN:VEVENT
DTSTART;TZID=America/New_York:20250302T170000
DTEND;TZID=America/New_York:20250302T170000
DTSTAMP:20260420T132928
CREATED:20250108T144840Z
LAST-MODIFIED:20250108T144840Z
UID:10002159-1740934800-1740934800@rmhctriangle.org
SUMMARY:Delta Gamma Kappa Alpha Psi
DESCRIPTION:
URL:https://rmhctriangle.org/family-event/delta-gamma-kappa-alpha-psi-2/
CATEGORIES:Durham Meals
END:VEVENT
BEGIN:VEVENT
DTSTART;TZID=America/New_York:20250303T170000
DTEND;TZID=America/New_York:20250303T170000
DTSTAMP:20260420T132928
CREATED:20250102T214557Z
LAST-MODIFIED:20250102T214557Z
UID:10002127-1741021200-1741021200@rmhctriangle.org
SUMMARY:NCSU ADPi
DESCRIPTION:
URL:https://rmhctriangle.org/family-event/ncsu-adpi-5/2025-03-03/
CATEGORIES:Durham Meals
END:VEVENT
BEGIN:VEVENT
DTSTART;TZID=America/New_York:20250303T173000
DTEND;TZID=America/New_York:20250303T190000
DTSTAMP:20260420T132928
CREATED:20230713T185113Z
LAST-MODIFIED:20230713T185113Z
UID:10000396-1741023000-1741028400@rmhctriangle.org
SUMMARY:McDonald's
DESCRIPTION:
URL:https://rmhctriangle.org/family-event/mcdonalds-2/2025-03-03/
CATEGORIES:Chapel Hill Meals
END:VEVENT
BEGIN:VEVENT
DTSTART;TZID=America/New_York:20250304T153000
DTEND;TZID=America/New_York:20250304T183000
DTSTAMP:20260420T132928
CREATED:20250110T132419Z
LAST-MODIFIED:20250110T132419Z
UID:10002166-1741102200-1741113000@rmhctriangle.org
SUMMARY:UNC Enrollment
DESCRIPTION:
URL:https://rmhctriangle.org/family-event/unc-enrollment/
CATEGORIES:Chapel Hill Meals
END:VEVENT
BEGIN:VEVENT
DTSTART;TZID=America/New_York:20250304T170000
DTEND;TZID=America/New_York:20250304T170000
DTSTAMP:20260420T132928
CREATED:20250113T181128Z
LAST-MODIFIED:20250113T181128Z
UID:10002169-1741107600-1741107600@rmhctriangle.org
SUMMARY:UNC Pre-Med
DESCRIPTION:
URL:https://rmhctriangle.org/family-event/unc-pre-med/
CATEGORIES:Durham Meals
END:VEVENT
BEGIN:VEVENT
DTSTART;TZID=America/New_York:20250305T170000
DTEND;TZID=America/New_York:20250305T173000
DTSTAMP:20260420T132928
CREATED:20241015T141923Z
LAST-MODIFIED:20241015T141923Z
UID:10001976-1741194000-1741195800@rmhctriangle.org
SUMMARY:Red Shoe Crew
DESCRIPTION:
URL:https://rmhctriangle.org/family-event/red-shoe-crew-6/2025-03-05/
CATEGORIES:Chapel Hill Meals,Durham Meals
END:VEVENT
BEGIN:VEVENT
DTSTART;TZID=America/New_York:20250306T163000
DTEND;TZID=America/New_York:20250306T183000
DTSTAMP:20260420T132928
CREATED:20240712T172231Z
LAST-MODIFIED:20240712T172231Z
UID:10001845-1741278600-1741285800@rmhctriangle.org
SUMMARY:Chapel Hill Rotary
DESCRIPTION:
URL:https://rmhctriangle.org/family-event/chapel-hill-rotary-9/
CATEGORIES:Chapel Hill Meals
END:VEVENT
BEGIN:VEVENT
DTSTART;TZID=America/New_York:20250306T170000
DTEND;TZID=America/New_York:20250306T170000
DTSTAMP:20260420T132928
CREATED:20250127T133552Z
LAST-MODIFIED:20250127T133552Z
UID:10002209-1741280400-1741280400@rmhctriangle.org
SUMMARY:Page
DESCRIPTION:
URL:https://rmhctriangle.org/family-event/page-2/
CATEGORIES:Durham Meals
END:VEVENT
BEGIN:VEVENT
DTSTART;TZID=America/New_York:20250307T170000
DTEND;TZID=America/New_York:20250307T170000
DTSTAMP:20260420T132928
CREATED:20241223T161625Z
LAST-MODIFIED:20241223T161625Z
UID:10002114-1741366800-1741366800@rmhctriangle.org
SUMMARY:Middle Creek HS NHS
DESCRIPTION:
URL:https://rmhctriangle.org/family-event/middle-creek-hs-nhs/2025-03-07/
CATEGORIES:Durham Meals
END:VEVENT
BEGIN:VEVENT
DTSTART;TZID=America/New_York:20250307T173000
DTEND;TZID=America/New_York:20250307T190000
DTSTAMP:20260420T132928
CREATED:20230713T181540Z
LAST-MODIFIED:20230713T181540Z
UID:10000104-1741368600-1741374000@rmhctriangle.org
SUMMARY:Domino's
DESCRIPTION:
URL:https://rmhctriangle.org/family-event/dominos/2025-03-07/
CATEGORIES:Chapel Hill Meals
END:VEVENT
BEGIN:VEVENT
DTSTART;TZID=America/New_York:20250308T153000
DTEND;TZID=America/New_York:20250308T183000
DTSTAMP:20260420T132928
CREATED:20241223T150017Z
LAST-MODIFIED:20241223T150017Z
UID:10002113-1741447800-1741458600@rmhctriangle.org
SUMMARY:UNC Pharmacy School
DESCRIPTION:
URL:https://rmhctriangle.org/family-event/unc-pharmacy-school/
CATEGORIES:Chapel Hill Meals
END:VEVENT
BEGIN:VEVENT
DTSTART;TZID=America/New_York:20250308T170000
DTEND;TZID=America/New_York:20250308T173000
DTSTAMP:20260420T132928
CREATED:20240705T174038Z
LAST-MODIFIED:20240708T142800Z
UID:10001821-1741453200-1741455000@rmhctriangle.org
SUMMARY:St. Mary Magdalene Young Adult Group
DESCRIPTION:
URL:https://rmhctriangle.org/family-event/st-mary-magdalene-young-adult-group/2025-03-08/
CATEGORIES:Durham Meals
END:VEVENT
BEGIN:VEVENT
DTSTART;TZID=America/New_York:20250309T163000
DTEND;TZID=America/New_York:20250309T183000
DTSTAMP:20260420T132928
CREATED:20240702T190847Z
LAST-MODIFIED:20240702T190847Z
UID:10001813-1741537800-1741545000@rmhctriangle.org
SUMMARY:NCL
DESCRIPTION:
URL:https://rmhctriangle.org/family-event/ncl-8/
CATEGORIES:Chapel Hill Meals
END:VEVENT
BEGIN:VEVENT
DTSTART;TZID=America/New_York:20250309T170000
DTEND;TZID=America/New_York:20250309T170000
DTSTAMP:20260420T132928
CREATED:20250211T164327Z
LAST-MODIFIED:20250211T164327Z
UID:10002256-1741539600-1741539600@rmhctriangle.org
SUMMARY:Kelli Blackmond
DESCRIPTION:
URL:https://rmhctriangle.org/family-event/kelli-blackmond/
CATEGORIES:Durham Meals
END:VEVENT
BEGIN:VEVENT
DTSTART;TZID=America/New_York:20250310T170000
DTEND;TZID=America/New_York:20250310T170000
DTSTAMP:20260420T132928
CREATED:20250204T211938Z
LAST-MODIFIED:20250204T211938Z
UID:10002252-1741626000-1741626000@rmhctriangle.org
SUMMARY:Cypress Creek Civitans
DESCRIPTION:
URL:https://rmhctriangle.org/family-event/cypress-creek-civitans-5/
CATEGORIES:Durham Meals
END:VEVENT
BEGIN:VEVENT
DTSTART;TZID=America/New_York:20250310T173000
DTEND;TZID=America/New_York:20250310T190000
DTSTAMP:20260420T132928
CREATED:20230713T185113Z
LAST-MODIFIED:20230713T185113Z
UID:10000397-1741627800-1741633200@rmhctriangle.org
SUMMARY:McDonald's
DESCRIPTION:
URL:https://rmhctriangle.org/family-event/mcdonalds-2/2025-03-10/
CATEGORIES:Chapel Hill Meals
END:VEVENT
BEGIN:VEVENT
DTSTART;TZID=America/New_York:20250311T170000
DTEND;TZID=America/New_York:20250311T173000
DTSTAMP:20260420T132928
CREATED:20241119T205812Z
LAST-MODIFIED:20241119T205812Z
UID:10002046-1741712400-1741714200@rmhctriangle.org
SUMMARY:Riley Contracting
DESCRIPTION:
URL:https://rmhctriangle.org/family-event/riley-contracting/
CATEGORIES:Durham Meals
END:VEVENT
BEGIN:VEVENT
DTSTART;TZID=America/New_York:20250311T173000
DTEND;TZID=America/New_York:20250311T190000
DTSTAMP:20260420T132928
CREATED:20230713T185449Z
LAST-MODIFIED:20230713T185449Z
UID:10000615-1741714200-1741719600@rmhctriangle.org
SUMMARY:Barbara & Jean
DESCRIPTION:
URL:https://rmhctriangle.org/family-event/barbara-jean/2025-03-11/
CATEGORIES:Chapel Hill Meals
END:VEVENT
BEGIN:VEVENT
DTSTART;TZID=America/New_York:20250312T153000
DTEND;TZID=America/New_York:20250312T183000
DTSTAMP:20260420T132928
CREATED:20250116T134825Z
LAST-MODIFIED:20250116T134825Z
UID:10002190-1741793400-1741804200@rmhctriangle.org
SUMMARY:CRB Group
DESCRIPTION:
URL:https://rmhctriangle.org/family-event/crb-group/
CATEGORIES:Chapel Hill Meals
END:VEVENT
BEGIN:VEVENT
DTSTART;TZID=America/New_York:20250312T170000
DTEND;TZID=America/New_York:20250312T170000
DTSTAMP:20260420T132928
CREATED:20250121T192212Z
LAST-MODIFIED:20250121T192212Z
UID:10002200-1741798800-1741798800@rmhctriangle.org
SUMMARY:Paraexel
DESCRIPTION:
URL:https://rmhctriangle.org/family-event/paraexel/
CATEGORIES:Durham Meals
END:VEVENT
BEGIN:VEVENT
DTSTART;TZID=America/New_York:20250313T153000
DTEND;TZID=America/New_York:20250313T183000
DTSTAMP:20260420T132928
CREATED:20250106T162857Z
LAST-MODIFIED:20250106T162857Z
UID:10002143-1741879800-1741890600@rmhctriangle.org
SUMMARY:UNC ESHELMAN SCHOOL OF PHARMACY
DESCRIPTION:
URL:https://rmhctriangle.org/family-event/unc-eshelman-school-of-pharmacy/
CATEGORIES:Chapel Hill Meals
END:VEVENT
BEGIN:VEVENT
DTSTART;TZID=America/New_York:20250313T170000
DTEND;TZID=America/New_York:20250313T170000
DTSTAMP:20260420T132928
CREATED:20250120T181717Z
LAST-MODIFIED:20250120T181717Z
UID:10002194-1741885200-1741885200@rmhctriangle.org
SUMMARY:Smiling While Sending Hope
DESCRIPTION:
URL:https://rmhctriangle.org/family-event/smiling-while-sending-hope-6/
CATEGORIES:Durham Meals
END:VEVENT
BEGIN:VEVENT
DTSTART;TZID=America/New_York:20250314T170000
DTEND;TZID=America/New_York:20250314T170000
DTSTAMP:20260420T132928
CREATED:20250127T134457Z
LAST-MODIFIED:20250318T150235Z
UID:10002210-1741971600-1741971600@rmhctriangle.org
SUMMARY:Ark Church
DESCRIPTION:
URL:https://rmhctriangle.org/family-event/ark-church/2025-03-14/
CATEGORIES:Durham Meals
END:VEVENT
BEGIN:VEVENT
DTSTART;TZID=America/New_York:20250314T173000
DTEND;TZID=America/New_York:20250314T190000
DTSTAMP:20260420T132928
CREATED:20230713T181540Z
LAST-MODIFIED:20230713T181540Z
UID:10000105-1741973400-1741978800@rmhctriangle.org
SUMMARY:Domino's
DESCRIPTION:
URL:https://rmhctriangle.org/family-event/dominos/2025-03-14/
CATEGORIES:Chapel Hill Meals
END:VEVENT
BEGIN:VEVENT
DTSTART;TZID=America/New_York:20250315T153000
DTEND;TZID=America/New_York:20250315T183000
DTSTAMP:20260420T132928
CREATED:20241119T153800Z
LAST-MODIFIED:20241119T153800Z
UID:10002040-1742052600-1742063400@rmhctriangle.org
SUMMARY:Chapel Hill High RMH Club
DESCRIPTION:
URL:https://rmhctriangle.org/family-event/chapel-hill-high-rmh-club-2/
CATEGORIES:Chapel Hill Meals
END:VEVENT
BEGIN:VEVENT
DTSTART;TZID=America/New_York:20250315T170000
DTEND;TZID=America/New_York:20250315T170000
DTSTAMP:20260420T132928
CREATED:20241223T161625Z
LAST-MODIFIED:20241223T161625Z
UID:10002115-1742058000-1742058000@rmhctriangle.org
SUMMARY:Middle Creek HS NHS
DESCRIPTION:
URL:https://rmhctriangle.org/family-event/middle-creek-hs-nhs/2025-03-15/
CATEGORIES:Durham Meals
END:VEVENT
END:VCALENDAR