BEGIN:VCALENDAR
VERSION:2.0
PRODID:-//Ronald McDonald House Charities of the Triangle - ECPv6.15.17.1//NONSGML v1.0//EN
CALSCALE:GREGORIAN
METHOD:PUBLISH
X-ORIGINAL-URL:https://rmhctriangle.org
X-WR-CALDESC:Events for Ronald McDonald House Charities of the Triangle
REFRESH-INTERVAL;VALUE=DURATION:PT1H
X-Robots-Tag:noindex
X-PUBLISHED-TTL:PT1H
BEGIN:VTIMEZONE
TZID:America/New_York
BEGIN:DAYLIGHT
TZOFFSETFROM:-0500
TZOFFSETTO:-0400
TZNAME:EDT
DTSTART:20230312T070000
END:DAYLIGHT
BEGIN:STANDARD
TZOFFSETFROM:-0400
TZOFFSETTO:-0500
TZNAME:EST
DTSTART:20231105T060000
END:STANDARD
BEGIN:DAYLIGHT
TZOFFSETFROM:-0500
TZOFFSETTO:-0400
TZNAME:EDT
DTSTART:20240310T070000
END:DAYLIGHT
BEGIN:STANDARD
TZOFFSETFROM:-0400
TZOFFSETTO:-0500
TZNAME:EST
DTSTART:20241103T060000
END:STANDARD
BEGIN:DAYLIGHT
TZOFFSETFROM:-0500
TZOFFSETTO:-0400
TZNAME:EDT
DTSTART:20250309T070000
END:DAYLIGHT
BEGIN:STANDARD
TZOFFSETFROM:-0400
TZOFFSETTO:-0500
TZNAME:EST
DTSTART:20251102T060000
END:STANDARD
END:VTIMEZONE
BEGIN:VEVENT
DTSTART;TZID=America/New_York:20240928T163000
DTEND;TZID=America/New_York:20240928T183000
DTSTAMP:20260423T202747
CREATED:20240702T122450Z
LAST-MODIFIED:20240702T122450Z
UID:10001804-1727541000-1727548200@rmhctriangle.org
SUMMARY:Love All Serve All
DESCRIPTION:
URL:https://rmhctriangle.org/family-event/love-all-serve-all-6/
CATEGORIES:Chapel Hill Meals
END:VEVENT
BEGIN:VEVENT
DTSTART;TZID=America/New_York:20240928T170000
DTEND;TZID=America/New_York:20240928T173000
DTSTAMP:20260423T202747
CREATED:20240711T163242Z
LAST-MODIFIED:20240711T163242Z
UID:10001835-1727542800-1727544600@rmhctriangle.org
SUMMARY:Kingdom Life Manifested Ministries
DESCRIPTION:
URL:https://rmhctriangle.org/family-event/kingdom-life-manifested-ministries/2024-09-28/
CATEGORIES:Durham Meals
END:VEVENT
BEGIN:VEVENT
DTSTART;TZID=America/New_York:20240929T163000
DTEND;TZID=America/New_York:20240929T183000
DTSTAMP:20260423T202747
CREATED:20240722T200859Z
LAST-MODIFIED:20240722T200859Z
UID:10001857-1727627400-1727634600@rmhctriangle.org
SUMMARY:Church of Reconciliation Youth
DESCRIPTION:
URL:https://rmhctriangle.org/family-event/church-of-reconciliation-youth/
CATEGORIES:Chapel Hill Meals
END:VEVENT
BEGIN:VEVENT
DTSTART;TZID=America/New_York:20240929T173000
DTEND;TZID=America/New_York:20240929T173000
DTSTAMP:20260423T202747
CREATED:20230713T184227Z
LAST-MODIFIED:20250127T201530Z
UID:10000723-1727631000-1727631000@rmhctriangle.org
SUMMARY:TUTA
DESCRIPTION:
URL:https://rmhctriangle.org/family-event/tuta/2024-09-29/
CATEGORIES:Durham Meals
END:VEVENT
BEGIN:VEVENT
DTSTART;TZID=America/New_York:20240930T080000
DTEND;TZID=America/New_York:20240930T170000
DTSTAMP:20260423T202747
CREATED:20230713T184402Z
LAST-MODIFIED:20230814T180412Z
UID:10000293-1727683200-1727715600@rmhctriangle.org
SUMMARY:Kiwanis Club of the Friendly City
DESCRIPTION:
URL:https://rmhctriangle.org/family-event/kiwanis-club-of-the-friendly-city/2024-09-30/
CATEGORIES:Durham Meals
END:VEVENT
BEGIN:VEVENT
DTSTART;TZID=America/New_York:20240930T173000
DTEND;TZID=America/New_York:20240930T190000
DTSTAMP:20260423T202747
CREATED:20230713T185113Z
LAST-MODIFIED:20230713T185113Z
UID:10000374-1727717400-1727722800@rmhctriangle.org
SUMMARY:McDonald's
DESCRIPTION:
URL:https://rmhctriangle.org/family-event/mcdonalds-2/2024-09-30/
CATEGORIES:Chapel Hill Meals
END:VEVENT
BEGIN:VEVENT
DTSTART;TZID=America/New_York:20241001T153000
DTEND;TZID=America/New_York:20241001T183000
DTSTAMP:20260423T202747
CREATED:20240819T132859Z
LAST-MODIFIED:20240819T132859Z
UID:10001893-1727796600-1727807400@rmhctriangle.org
SUMMARY:UNC Tri-Beta Biology Honor Society
DESCRIPTION:
URL:https://rmhctriangle.org/family-event/unc-tri-beta-biology-honor-society/
CATEGORIES:Chapel Hill Meals
END:VEVENT
BEGIN:VEVENT
DTSTART;TZID=America/New_York:20241001T170000
DTEND;TZID=America/New_York:20241001T173000
DTSTAMP:20260423T202747
CREATED:20240823T143640Z
LAST-MODIFIED:20240823T143640Z
UID:10001903-1727802000-1727803800@rmhctriangle.org
SUMMARY:Teleflex
DESCRIPTION:
URL:https://rmhctriangle.org/family-event/teleflex-2/2024-10-01/
CATEGORIES:Durham Meals
END:VEVENT
BEGIN:VEVENT
DTSTART;TZID=America/New_York:20241002T153000
DTEND;TZID=America/New_York:20241002T183000
DTSTAMP:20260423T202747
CREATED:20240814T160119Z
LAST-MODIFIED:20240814T160119Z
UID:10001890-1727883000-1727893800@rmhctriangle.org
SUMMARY:UNC School of Medicine
DESCRIPTION:
URL:https://rmhctriangle.org/family-event/unc-school-of-medicine/
CATEGORIES:Chapel Hill Meals
END:VEVENT
BEGIN:VEVENT
DTSTART;TZID=America/New_York:20241002T170000
DTEND;TZID=America/New_York:20241002T173000
DTSTAMP:20260423T202747
CREATED:20240823T143431Z
LAST-MODIFIED:20240823T143431Z
UID:10001902-1727888400-1727890200@rmhctriangle.org
SUMMARY:McKim & Cree
DESCRIPTION:
URL:https://rmhctriangle.org/family-event/mckim-cree/
CATEGORIES:Durham Meals
END:VEVENT
BEGIN:VEVENT
DTSTART;TZID=America/New_York:20241003T153000
DTEND;TZID=America/New_York:20241003T183000
DTSTAMP:20260423T202747
CREATED:20240824T124647Z
LAST-MODIFIED:20240824T124647Z
UID:10001909-1727969400-1727980200@rmhctriangle.org
SUMMARY:Duke Nursing
DESCRIPTION:
URL:https://rmhctriangle.org/family-event/duke-nursing/
CATEGORIES:Chapel Hill Meals
END:VEVENT
BEGIN:VEVENT
DTSTART;TZID=America/New_York:20241003T170000
DTEND;TZID=America/New_York:20241003T173000
DTSTAMP:20260423T202747
CREATED:20240823T143640Z
LAST-MODIFIED:20240823T143640Z
UID:10001904-1727974800-1727976600@rmhctriangle.org
SUMMARY:Teleflex
DESCRIPTION:
URL:https://rmhctriangle.org/family-event/teleflex-2/2024-10-03/
CATEGORIES:Durham Meals
END:VEVENT
BEGIN:VEVENT
DTSTART;TZID=America/New_York:20241004T170000
DTEND;TZID=America/New_York:20241004T173000
DTSTAMP:20260423T202747
CREATED:20240823T143640Z
LAST-MODIFIED:20240823T143640Z
UID:10001905-1728061200-1728063000@rmhctriangle.org
SUMMARY:Teleflex
DESCRIPTION:
URL:https://rmhctriangle.org/family-event/teleflex-2/2024-10-04/
CATEGORIES:Durham Meals
END:VEVENT
BEGIN:VEVENT
DTSTART;TZID=America/New_York:20241004T173000
DTEND;TZID=America/New_York:20241004T190000
DTSTAMP:20260423T202747
CREATED:20230713T181540Z
LAST-MODIFIED:20230713T181540Z
UID:10000082-1728063000-1728068400@rmhctriangle.org
SUMMARY:Domino's
DESCRIPTION:
URL:https://rmhctriangle.org/family-event/dominos/2024-10-04/
CATEGORIES:Chapel Hill Meals
END:VEVENT
BEGIN:VEVENT
DTSTART;TZID=America/New_York:20241005T170000
DTEND;TZID=America/New_York:20241005T173000
DTSTAMP:20260423T202747
CREATED:20240116T165944Z
LAST-MODIFIED:20240215T172037Z
UID:10001527-1728147600-1728149400@rmhctriangle.org
SUMMARY:Zakat Foundation
DESCRIPTION:
URL:https://rmhctriangle.org/family-event/zakat-foundation-21/2024-10-05/
CATEGORIES:Durham Meals
END:VEVENT
BEGIN:VEVENT
DTSTART;TZID=America/New_York:20241005T173000
DTEND;TZID=America/New_York:20241005T190000
DTSTAMP:20260423T202747
CREATED:20240105T155645Z
LAST-MODIFIED:20240105T155645Z
UID:10001448-1728149400-1728154800@rmhctriangle.org
SUMMARY:St. Thomas More
DESCRIPTION:
URL:https://rmhctriangle.org/family-event/st-thomas-more-8/2024-10-05/
CATEGORIES:Chapel Hill Meals
END:VEVENT
BEGIN:VEVENT
DTSTART;TZID=America/New_York:20241006T163000
DTEND;TZID=America/New_York:20241006T183000
DTSTAMP:20260423T202747
CREATED:20240730T130306Z
LAST-MODIFIED:20240730T130306Z
UID:10001864-1728232200-1728239400@rmhctriangle.org
SUMMARY:Carolina Cancer Association
DESCRIPTION:
URL:https://rmhctriangle.org/family-event/carolina-cancer-association-4/
CATEGORIES:Chapel Hill Meals
END:VEVENT
BEGIN:VEVENT
DTSTART;TZID=America/New_York:20241006T170000
DTEND;TZID=America/New_York:20241006T173000
DTSTAMP:20260423T202747
CREATED:20231031T183806Z
LAST-MODIFIED:20240129T164724Z
UID:10001547-1728234000-1728235800@rmhctriangle.org
SUMMARY:Well Fellowship
DESCRIPTION:
URL:https://rmhctriangle.org/family-event/well-fellowship/2024-10-06/
CATEGORIES:Durham Meals
END:VEVENT
BEGIN:VEVENT
DTSTART;TZID=America/New_York:20241007T170000
DTEND;TZID=America/New_York:20241007T173000
DTSTAMP:20260423T202747
CREATED:20240822T143915Z
LAST-MODIFIED:20240822T143915Z
UID:10001899-1728320400-1728322200@rmhctriangle.org
SUMMARY:Theta Phi Delta Hillside
DESCRIPTION:
URL:https://rmhctriangle.org/family-event/theta-phi-delta-hillside/
CATEGORIES:Durham Meals
END:VEVENT
BEGIN:VEVENT
DTSTART;TZID=America/New_York:20241007T173000
DTEND;TZID=America/New_York:20241007T190000
DTSTAMP:20260423T202747
CREATED:20230713T185113Z
LAST-MODIFIED:20230713T185113Z
UID:10000375-1728322200-1728327600@rmhctriangle.org
SUMMARY:McDonald's
DESCRIPTION:
URL:https://rmhctriangle.org/family-event/mcdonalds-2/2024-10-07/
CATEGORIES:Chapel Hill Meals
END:VEVENT
BEGIN:VEVENT
DTSTART;TZID=America/New_York:20241008T170000
DTEND;TZID=America/New_York:20241008T173000
DTSTAMP:20260423T202747
CREATED:20240717T201532Z
LAST-MODIFIED:20240717T201532Z
UID:10001853-1728406800-1728408600@rmhctriangle.org
SUMMARY:UCB
DESCRIPTION:
URL:https://rmhctriangle.org/family-event/ucb-3/
CATEGORIES:Durham Meals
END:VEVENT
BEGIN:VEVENT
DTSTART;TZID=America/New_York:20241008T173000
DTEND;TZID=America/New_York:20241008T190000
DTSTAMP:20260423T202747
CREATED:20230713T185449Z
LAST-MODIFIED:20230713T185449Z
UID:10000604-1728408600-1728414000@rmhctriangle.org
SUMMARY:Barbara & Jean
DESCRIPTION:
URL:https://rmhctriangle.org/family-event/barbara-jean/2024-10-08/
CATEGORIES:Chapel Hill Meals
END:VEVENT
BEGIN:VEVENT
DTSTART;TZID=America/New_York:20241009T163000
DTEND;TZID=America/New_York:20241009T183000
DTSTAMP:20260423T202747
CREATED:20240724T121818Z
LAST-MODIFIED:20240724T121818Z
UID:10001859-1728491400-1728498600@rmhctriangle.org
SUMMARY:UNC AED
DESCRIPTION:
URL:https://rmhctriangle.org/family-event/unc-aed-7/
CATEGORIES:Chapel Hill Meals
END:VEVENT
BEGIN:VEVENT
DTSTART;TZID=America/New_York:20241009T170000
DTEND;TZID=America/New_York:20241009T173000
DTSTAMP:20260423T202747
CREATED:20240821T144936Z
LAST-MODIFIED:20240821T144936Z
UID:10001897-1728493200-1728495000@rmhctriangle.org
SUMMARY:Dinner: Walter P Moore
DESCRIPTION:
URL:https://rmhctriangle.org/family-event/dinner-walter-p-moore/
CATEGORIES:Durham Meals
END:VEVENT
BEGIN:VEVENT
DTSTART;TZID=America/New_York:20241010T153000
DTEND;TZID=America/New_York:20241010T183000
DTSTAMP:20260423T202747
CREATED:20240821T124323Z
LAST-MODIFIED:20240821T124323Z
UID:10001895-1728574200-1728585000@rmhctriangle.org
SUMMARY:UNC Business Cares Club
DESCRIPTION:
URL:https://rmhctriangle.org/family-event/unc-business-cares-club/
CATEGORIES:Chapel Hill Meals
END:VEVENT
BEGIN:VEVENT
DTSTART;TZID=America/New_York:20241010T170000
DTEND;TZID=America/New_York:20241010T173000
DTSTAMP:20260423T202747
CREATED:20240129T220721Z
LAST-MODIFIED:20240129T220823Z
UID:10001552-1728579600-1728581400@rmhctriangle.org
SUMMARY:Durham and Vicinity Minister's Wives and Minister's Widows Services
DESCRIPTION:
URL:https://rmhctriangle.org/family-event/durham-and-vicinity-ministers-wives-and-ministers-widows-services/2024-10-10/
CATEGORIES:Durham Meals
END:VEVENT
BEGIN:VEVENT
DTSTART;TZID=America/New_York:20241011T170000
DTEND;TZID=America/New_York:20241011T173000
DTSTAMP:20260423T202747
CREATED:20240829T174913Z
LAST-MODIFIED:20240829T175024Z
UID:10001920-1728666000-1728667800@rmhctriangle.org
SUMMARY:Bob Rolleri (Bullock's BBQ)
DESCRIPTION:
URL:https://rmhctriangle.org/family-event/bob-rolleri/
CATEGORIES:Durham Meals
END:VEVENT
BEGIN:VEVENT
DTSTART;TZID=America/New_York:20241011T173000
DTEND;TZID=America/New_York:20241011T190000
DTSTAMP:20260423T202747
CREATED:20230713T181540Z
LAST-MODIFIED:20230713T181540Z
UID:10000083-1728667800-1728673200@rmhctriangle.org
SUMMARY:Domino's
DESCRIPTION:
URL:https://rmhctriangle.org/family-event/dominos/2024-10-11/
CATEGORIES:Chapel Hill Meals
END:VEVENT
BEGIN:VEVENT
DTSTART;TZID=America/New_York:20241012T170000
DTEND;TZID=America/New_York:20241012T173000
DTSTAMP:20260423T202747
CREATED:20240812T195738Z
LAST-MODIFIED:20240812T195738Z
UID:10001883-1728752400-1728754200@rmhctriangle.org
SUMMARY:Duke Primary Care South Durham
DESCRIPTION:
URL:https://rmhctriangle.org/family-event/duke-primary-care-south-durham/
CATEGORIES:Durham Meals
END:VEVENT
BEGIN:VEVENT
DTSTART;TZID=America/New_York:20241012T173000
DTEND;TZID=America/New_York:20241012T190000
DTSTAMP:20260423T202747
CREATED:20240223T124844Z
LAST-MODIFIED:20240223T124844Z
UID:10001624-1728754200-1728759600@rmhctriangle.org
SUMMARY:RTPTCA
DESCRIPTION:
URL:https://rmhctriangle.org/family-event/rtptca-3/
CATEGORIES:Chapel Hill Meals
END:VEVENT
END:VCALENDAR