BEGIN:VCALENDAR
VERSION:2.0
PRODID:-//Ronald McDonald House Charities of the Triangle - ECPv6.15.17.1//NONSGML v1.0//EN
CALSCALE:GREGORIAN
METHOD:PUBLISH
X-ORIGINAL-URL:https://rmhctriangle.org
X-WR-CALDESC:Events for Ronald McDonald House Charities of the Triangle
REFRESH-INTERVAL;VALUE=DURATION:PT1H
X-Robots-Tag:noindex
X-PUBLISHED-TTL:PT1H
BEGIN:VTIMEZONE
TZID:America/New_York
BEGIN:DAYLIGHT
TZOFFSETFROM:-0500
TZOFFSETTO:-0400
TZNAME:EDT
DTSTART:20230312T070000
END:DAYLIGHT
BEGIN:STANDARD
TZOFFSETFROM:-0400
TZOFFSETTO:-0500
TZNAME:EST
DTSTART:20231105T060000
END:STANDARD
BEGIN:DAYLIGHT
TZOFFSETFROM:-0500
TZOFFSETTO:-0400
TZNAME:EDT
DTSTART:20240310T070000
END:DAYLIGHT
BEGIN:STANDARD
TZOFFSETFROM:-0400
TZOFFSETTO:-0500
TZNAME:EST
DTSTART:20241103T060000
END:STANDARD
BEGIN:DAYLIGHT
TZOFFSETFROM:-0500
TZOFFSETTO:-0400
TZNAME:EDT
DTSTART:20250309T070000
END:DAYLIGHT
BEGIN:STANDARD
TZOFFSETFROM:-0400
TZOFFSETTO:-0500
TZNAME:EST
DTSTART:20251102T060000
END:STANDARD
END:VTIMEZONE
BEGIN:VEVENT
DTSTART;TZID=America/New_York:20240910T170000
DTEND;TZID=America/New_York:20240910T173000
DTSTAMP:20260424T211147
CREATED:20240813T195159Z
LAST-MODIFIED:20240813T195159Z
UID:10001885-1725987600-1725989400@rmhctriangle.org
SUMMARY:NCSU ADPi
DESCRIPTION:
URL:https://rmhctriangle.org/family-event/ncsu-adpi-2/2024-09-10/
CATEGORIES:Durham Meals
END:VEVENT
BEGIN:VEVENT
DTSTART;TZID=America/New_York:20240910T173000
DTEND;TZID=America/New_York:20240910T190000
DTSTAMP:20260424T211147
CREATED:20230713T185449Z
LAST-MODIFIED:20230713T185449Z
UID:10000602-1725989400-1725994800@rmhctriangle.org
SUMMARY:Barbara & Jean
DESCRIPTION:
URL:https://rmhctriangle.org/family-event/barbara-jean/2024-09-10/
CATEGORIES:Chapel Hill Meals
END:VEVENT
BEGIN:VEVENT
DTSTART;TZID=America/New_York:20240911T153000
DTEND;TZID=America/New_York:20240911T183000
DTSTAMP:20260424T211147
CREATED:20240731T125025Z
LAST-MODIFIED:20240731T125025Z
UID:10001867-1726068600-1726079400@rmhctriangle.org
SUMMARY:ACR Supply
DESCRIPTION:
URL:https://rmhctriangle.org/family-event/acr-supply/
CATEGORIES:Chapel Hill Meals
END:VEVENT
BEGIN:VEVENT
DTSTART;TZID=America/New_York:20240911T170000
DTEND;TZID=America/New_York:20240911T173000
DTSTAMP:20260424T211147
CREATED:20240626T141306Z
LAST-MODIFIED:20240626T141306Z
UID:10001794-1726074000-1726075800@rmhctriangle.org
SUMMARY:Office Revolution
DESCRIPTION:
URL:https://rmhctriangle.org/family-event/office-revolution-2/
CATEGORIES:Durham Meals
END:VEVENT
BEGIN:VEVENT
DTSTART;TZID=America/New_York:20240912T163000
DTEND;TZID=America/New_York:20240912T183000
DTSTAMP:20260424T211147
CREATED:20240712T172053Z
LAST-MODIFIED:20240712T172053Z
UID:10001842-1726158600-1726165800@rmhctriangle.org
SUMMARY:Chapel Hill Rotary
DESCRIPTION:
URL:https://rmhctriangle.org/family-event/chapel-hill-rotary-6/
CATEGORIES:Chapel Hill Meals
END:VEVENT
BEGIN:VEVENT
DTSTART;TZID=America/New_York:20240912T170000
DTEND;TZID=America/New_York:20240912T173000
DTSTAMP:20260424T211147
CREATED:20240827T170427Z
LAST-MODIFIED:20240827T170427Z
UID:10001913-1726160400-1726162200@rmhctriangle.org
SUMMARY:CarMax
DESCRIPTION:
URL:https://rmhctriangle.org/family-event/carmax/
CATEGORIES:Durham Meals
END:VEVENT
BEGIN:VEVENT
DTSTART;TZID=America/New_York:20240913T170000
DTEND;TZID=America/New_York:20240913T173000
DTSTAMP:20260424T211147
CREATED:20240829T144000Z
LAST-MODIFIED:20240829T144044Z
UID:10001918-1726246800-1726248600@rmhctriangle.org
SUMMARY:AVI-SPL
DESCRIPTION:
URL:https://rmhctriangle.org/family-event/avi-spl/
CATEGORIES:Durham Meals
END:VEVENT
BEGIN:VEVENT
DTSTART;TZID=America/New_York:20240913T173000
DTEND;TZID=America/New_York:20240913T190000
DTSTAMP:20260424T211147
CREATED:20230713T181540Z
LAST-MODIFIED:20230713T181540Z
UID:10000079-1726248600-1726254000@rmhctriangle.org
SUMMARY:Domino's
DESCRIPTION:
URL:https://rmhctriangle.org/family-event/dominos/2024-09-13/
CATEGORIES:Chapel Hill Meals
END:VEVENT
BEGIN:VEVENT
DTSTART;TZID=America/New_York:20240914T153000
DTEND;TZID=America/New_York:20240914T183000
DTSTAMP:20260424T211147
CREATED:20240603T131722Z
LAST-MODIFIED:20240603T163121Z
UID:10001762-1726327800-1726338600@rmhctriangle.org
SUMMARY:YMSL
DESCRIPTION:
URL:https://rmhctriangle.org/family-event/ymls/
CATEGORIES:Chapel Hill Meals
END:VEVENT
BEGIN:VEVENT
DTSTART;TZID=America/New_York:20240914T170000
DTEND;TZID=America/New_York:20240914T173000
DTSTAMP:20260424T211147
CREATED:20240524T193450Z
LAST-MODIFIED:20240627T170054Z
UID:10001800-1726333200-1726335000@rmhctriangle.org
SUMMARY:World Overcomers
DESCRIPTION:
URL:https://rmhctriangle.org/family-event/world-overcomers/2024-09-14/
CATEGORIES:Durham Meals
END:VEVENT
BEGIN:VEVENT
DTSTART;TZID=America/New_York:20240915T163000
DTEND;TZID=America/New_York:20240915T183000
DTSTAMP:20260424T211147
CREATED:20240618T133345Z
LAST-MODIFIED:20240618T133345Z
UID:10001784-1726417800-1726425000@rmhctriangle.org
SUMMARY:New Hope Church
DESCRIPTION:
URL:https://rmhctriangle.org/family-event/new-hope-church-2/
CATEGORIES:Chapel Hill Meals
END:VEVENT
BEGIN:VEVENT
DTSTART;TZID=America/New_York:20240915T170000
DTEND;TZID=America/New_York:20240915T173000
DTSTAMP:20260424T211147
CREATED:20240813T201352Z
LAST-MODIFIED:20240813T201442Z
UID:10001887-1726419600-1726421400@rmhctriangle.org
SUMMARY:Supriya's Group
DESCRIPTION:
URL:https://rmhctriangle.org/family-event/supriyas/
CATEGORIES:Durham Meals
END:VEVENT
BEGIN:VEVENT
DTSTART;TZID=America/New_York:20240916T170000
DTEND;TZID=America/New_York:20240916T173000
DTSTAMP:20260424T211147
CREATED:20240813T195159Z
LAST-MODIFIED:20240813T195159Z
UID:10001886-1726506000-1726507800@rmhctriangle.org
SUMMARY:NCSU ADPi
DESCRIPTION:
URL:https://rmhctriangle.org/family-event/ncsu-adpi-2/2024-09-16/
CATEGORIES:Durham Meals
END:VEVENT
BEGIN:VEVENT
DTSTART;TZID=America/New_York:20240916T173000
DTEND;TZID=America/New_York:20240916T190000
DTSTAMP:20260424T211147
CREATED:20230713T185113Z
LAST-MODIFIED:20230713T185113Z
UID:10000372-1726507800-1726513200@rmhctriangle.org
SUMMARY:McDonald's
DESCRIPTION:
URL:https://rmhctriangle.org/family-event/mcdonalds-2/2024-09-16/
CATEGORIES:Chapel Hill Meals
END:VEVENT
BEGIN:VEVENT
DTSTART;TZID=America/New_York:20240917T163000
DTEND;TZID=America/New_York:20240917T183000
DTSTAMP:20260424T211147
CREATED:20240710T175802Z
LAST-MODIFIED:20240710T175802Z
UID:10001832-1726590600-1726597800@rmhctriangle.org
SUMMARY:JP Morgan
DESCRIPTION:
URL:https://rmhctriangle.org/family-event/jp-morgan-2/
CATEGORIES:Chapel Hill Meals
END:VEVENT
BEGIN:VEVENT
DTSTART;TZID=America/New_York:20240917T170000
DTEND;TZID=America/New_York:20240917T173000
DTSTAMP:20260424T211147
CREATED:20240716T145819Z
LAST-MODIFIED:20240805T175234Z
UID:10001851-1726592400-1726594200@rmhctriangle.org
SUMMARY:Anderson Management
DESCRIPTION:
URL:https://rmhctriangle.org/family-event/anderson-management/
CATEGORIES:Durham Meals
END:VEVENT
BEGIN:VEVENT
DTSTART;TZID=America/New_York:20240918T163000
DTEND;TZID=America/New_York:20240918T183000
DTSTAMP:20260424T211147
CREATED:20240611T193954Z
LAST-MODIFIED:20240611T193954Z
UID:10001777-1726677000-1726684200@rmhctriangle.org
SUMMARY:Camden
DESCRIPTION:
URL:https://rmhctriangle.org/family-event/camden/
CATEGORIES:Chapel Hill Meals
END:VEVENT
BEGIN:VEVENT
DTSTART;TZID=America/New_York:20240918T173000
DTEND;TZID=America/New_York:20240918T173000
DTSTAMP:20260424T211147
CREATED:20230814T161409Z
LAST-MODIFIED:20231205T212548Z
UID:10001357-1726680600-1726680600@rmhctriangle.org
SUMMARY:St. Francis of Assisi
DESCRIPTION:
URL:https://rmhctriangle.org/family-event/st-francis-of-assisi-2/2024-09-18/
CATEGORIES:Durham Meals
END:VEVENT
BEGIN:VEVENT
DTSTART;TZID=America/New_York:20240919T163000
DTEND;TZID=America/New_York:20240919T183000
DTSTAMP:20260424T211147
CREATED:20240613T142506Z
LAST-MODIFIED:20240613T142506Z
UID:10001778-1726763400-1726770600@rmhctriangle.org
SUMMARY:Camden
DESCRIPTION:
URL:https://rmhctriangle.org/family-event/camden-2/
CATEGORIES:Chapel Hill Meals
END:VEVENT
BEGIN:VEVENT
DTSTART;TZID=America/New_York:20240919T173000
DTEND;TZID=America/New_York:20240919T173000
DTSTAMP:20260424T211147
CREATED:20230814T161536Z
LAST-MODIFIED:20231207T154046Z
UID:10001372-1726767000-1726767000@rmhctriangle.org
SUMMARY:Chiesi
DESCRIPTION:
URL:https://rmhctriangle.org/family-event/chiesi-2/2024-09-19/
CATEGORIES:Durham Meals
END:VEVENT
BEGIN:VEVENT
DTSTART;TZID=America/New_York:20240920T170000
DTEND;TZID=America/New_York:20240920T173000
DTSTAMP:20260424T211147
CREATED:20240910T200426Z
LAST-MODIFIED:20240910T200426Z
UID:10001940-1726851600-1726853400@rmhctriangle.org
SUMMARY:Overture
DESCRIPTION:
URL:https://rmhctriangle.org/family-event/overture/
CATEGORIES:Durham Meals
END:VEVENT
BEGIN:VEVENT
DTSTART;TZID=America/New_York:20240920T173000
DTEND;TZID=America/New_York:20240920T190000
DTSTAMP:20260424T211147
CREATED:20230713T181540Z
LAST-MODIFIED:20230713T181540Z
UID:10000080-1726853400-1726858800@rmhctriangle.org
SUMMARY:Domino's
DESCRIPTION:
URL:https://rmhctriangle.org/family-event/dominos/2024-09-20/
CATEGORIES:Chapel Hill Meals
END:VEVENT
BEGIN:VEVENT
DTSTART;TZID=America/New_York:20240921T170000
DTEND;TZID=America/New_York:20240921T173000
DTSTAMP:20260424T211147
CREATED:20240709T164946Z
LAST-MODIFIED:20240709T164946Z
UID:10001830-1726938000-1726939800@rmhctriangle.org
SUMMARY:Alamance Farm Bureau
DESCRIPTION:
URL:https://rmhctriangle.org/family-event/alamance-farm-bureau/
CATEGORIES:Durham Meals
END:VEVENT
BEGIN:VEVENT
DTSTART;TZID=America/New_York:20240921T173000
DTEND;TZID=America/New_York:20240921T190000
DTSTAMP:20260424T211147
CREATED:20231127T205215Z
LAST-MODIFIED:20231127T205215Z
UID:10001317-1726939800-1726945200@rmhctriangle.org
SUMMARY:Zakat Foundation
DESCRIPTION:
URL:https://rmhctriangle.org/family-event/zakat-foundation-16/
CATEGORIES:Chapel Hill Meals
END:VEVENT
BEGIN:VEVENT
DTSTART;TZID=America/New_York:20240922T163000
DTEND;TZID=America/New_York:20240922T183000
DTSTAMP:20260424T211147
CREATED:20240712T160630Z
LAST-MODIFIED:20240712T160630Z
UID:10001838-1727022600-1727029800@rmhctriangle.org
SUMMARY:Cary Page Rotary
DESCRIPTION:
URL:https://rmhctriangle.org/family-event/cary-page-rotary/
CATEGORIES:Chapel Hill Meals
END:VEVENT
BEGIN:VEVENT
DTSTART;TZID=America/New_York:20240922T170000
DTEND;TZID=America/New_York:20240922T173000
DTSTAMP:20260424T211147
CREATED:20231009T174654Z
LAST-MODIFIED:20240530T174039Z
UID:10001759-1727024400-1727026200@rmhctriangle.org
SUMMARY:Pure Platinum Social Club
DESCRIPTION:
URL:https://rmhctriangle.org/family-event/pure-platinum-social-club/2024-09-22/
CATEGORIES:Durham Meals
END:VEVENT
BEGIN:VEVENT
DTSTART;TZID=America/New_York:20240923T170000
DTEND;TZID=America/New_York:20240923T173000
DTSTAMP:20260424T211147
CREATED:20240403T205334Z
LAST-MODIFIED:20240520T154934Z
UID:10001692-1727110800-1727112600@rmhctriangle.org
SUMMARY:Mercalis
DESCRIPTION:
URL:https://rmhctriangle.org/family-event/mercalis-5/2024-09-23/
CATEGORIES:Durham Meals
END:VEVENT
BEGIN:VEVENT
DTSTART;TZID=America/New_York:20240923T173000
DTEND;TZID=America/New_York:20240923T190000
DTSTAMP:20260424T211147
CREATED:20230713T185113Z
LAST-MODIFIED:20230713T185113Z
UID:10000373-1727112600-1727118000@rmhctriangle.org
SUMMARY:McDonald's
DESCRIPTION:
URL:https://rmhctriangle.org/family-event/mcdonalds-2/2024-09-23/
CATEGORIES:Chapel Hill Meals
END:VEVENT
BEGIN:VEVENT
DTSTART;TZID=America/New_York:20240924T170000
DTEND;TZID=America/New_York:20240924T173000
DTSTAMP:20260424T211147
CREATED:20240708T164440Z
LAST-MODIFIED:20240708T164440Z
UID:10001825-1727197200-1727199000@rmhctriangle.org
SUMMARY:Eisai
DESCRIPTION:
URL:https://rmhctriangle.org/family-event/eisai/
CATEGORIES:Durham Meals
END:VEVENT
BEGIN:VEVENT
DTSTART;TZID=America/New_York:20240924T173000
DTEND;TZID=America/New_York:20240924T190000
DTSTAMP:20260424T211147
CREATED:20230713T185449Z
LAST-MODIFIED:20230713T185449Z
UID:10000603-1727199000-1727204400@rmhctriangle.org
SUMMARY:Barbara & Jean
DESCRIPTION:
URL:https://rmhctriangle.org/family-event/barbara-jean/2024-09-24/
CATEGORIES:Chapel Hill Meals
END:VEVENT
END:VCALENDAR