BEGIN:VCALENDAR
VERSION:2.0
PRODID:-//Ronald McDonald House Charities of the Triangle - ECPv6.15.17.1//NONSGML v1.0//EN
CALSCALE:GREGORIAN
METHOD:PUBLISH
X-WR-CALNAME:Ronald McDonald House Charities of the Triangle
X-ORIGINAL-URL:https://rmhctriangle.org
X-WR-CALDESC:Events for Ronald McDonald House Charities of the Triangle
REFRESH-INTERVAL;VALUE=DURATION:PT1H
X-Robots-Tag:noindex
X-PUBLISHED-TTL:PT1H
BEGIN:VTIMEZONE
TZID:America/New_York
BEGIN:DAYLIGHT
TZOFFSETFROM:-0500
TZOFFSETTO:-0400
TZNAME:EDT
DTSTART:20240310T070000
END:DAYLIGHT
BEGIN:STANDARD
TZOFFSETFROM:-0400
TZOFFSETTO:-0500
TZNAME:EST
DTSTART:20241103T060000
END:STANDARD
BEGIN:DAYLIGHT
TZOFFSETFROM:-0500
TZOFFSETTO:-0400
TZNAME:EDT
DTSTART:20250309T070000
END:DAYLIGHT
BEGIN:STANDARD
TZOFFSETFROM:-0400
TZOFFSETTO:-0500
TZNAME:EST
DTSTART:20251102T060000
END:STANDARD
BEGIN:DAYLIGHT
TZOFFSETFROM:-0500
TZOFFSETTO:-0400
TZNAME:EDT
DTSTART:20260308T070000
END:DAYLIGHT
BEGIN:STANDARD
TZOFFSETFROM:-0400
TZOFFSETTO:-0500
TZNAME:EST
DTSTART:20261101T060000
END:STANDARD
END:VTIMEZONE
BEGIN:VEVENT
DTSTART;TZID=America/New_York:20250406T153000
DTEND;TZID=America/New_York:20250406T183000
DTSTAMP:20260422T203821
CREATED:20241115T140405Z
LAST-MODIFIED:20241115T140405Z
UID:10002021-1743953400-1743964200@rmhctriangle.org
SUMMARY:CFTK
DESCRIPTION:
URL:https://rmhctriangle.org/family-event/cftk-11/
CATEGORIES:Chapel Hill Meals
END:VEVENT
BEGIN:VEVENT
DTSTART;TZID=America/New_York:20250406T170000
DTEND;TZID=America/New_York:20250406T170000
DTSTAMP:20260422T203821
CREATED:20250211T171842Z
LAST-MODIFIED:20250211T171842Z
UID:10002257-1743958800-1743958800@rmhctriangle.org
SUMMARY:Dinner: Pure Platinum Social Club
DESCRIPTION:
URL:https://rmhctriangle.org/family-event/dinner-pure-platinum-social-club/
CATEGORIES:Durham Meals
END:VEVENT
BEGIN:VEVENT
DTSTART;TZID=America/New_York:20250407T170000
DTEND;TZID=America/New_York:20250407T170000
DTSTAMP:20260422T203821
CREATED:20250102T214557Z
LAST-MODIFIED:20250102T214557Z
UID:10002129-1744045200-1744045200@rmhctriangle.org
SUMMARY:NCSU ADPi
DESCRIPTION:
URL:https://rmhctriangle.org/family-event/ncsu-adpi-5/2025-04-07/
CATEGORIES:Durham Meals
END:VEVENT
BEGIN:VEVENT
DTSTART;TZID=America/New_York:20250407T173000
DTEND;TZID=America/New_York:20250407T190000
DTSTAMP:20260422T203821
CREATED:20230713T185113Z
LAST-MODIFIED:20230713T185113Z
UID:10000401-1744047000-1744052400@rmhctriangle.org
SUMMARY:McDonald's
DESCRIPTION:
URL:https://rmhctriangle.org/family-event/mcdonalds-2/2025-04-07/
CATEGORIES:Chapel Hill Meals
END:VEVENT
BEGIN:VEVENT
DTSTART;TZID=America/New_York:20250408T170000
DTEND;TZID=America/New_York:20250408T170000
DTSTAMP:20260422T203821
CREATED:20250220T193941Z
LAST-MODIFIED:20250220T193941Z
UID:10002272-1744131600-1744131600@rmhctriangle.org
SUMMARY:Bodwin Realty
DESCRIPTION:
URL:https://rmhctriangle.org/family-event/bodwin-realty/
CATEGORIES:Durham Meals
END:VEVENT
BEGIN:VEVENT
DTSTART;TZID=America/New_York:20250408T173000
DTEND;TZID=America/New_York:20250408T190000
DTSTAMP:20260422T203821
CREATED:20230713T185449Z
LAST-MODIFIED:20230713T185449Z
UID:10000617-1744133400-1744138800@rmhctriangle.org
SUMMARY:Barbara & Jean
DESCRIPTION:
URL:https://rmhctriangle.org/family-event/barbara-jean/2025-04-08/
CATEGORIES:Chapel Hill Meals
END:VEVENT
BEGIN:VEVENT
DTSTART;TZID=America/New_York:20250409T153000
DTEND;TZID=America/New_York:20250409T183000
DTSTAMP:20260422T203821
CREATED:20250121T154653Z
LAST-MODIFIED:20250121T154653Z
UID:10002199-1744212600-1744223400@rmhctriangle.org
SUMMARY:Business Cares Club
DESCRIPTION:
URL:https://rmhctriangle.org/family-event/business-cares-club-4/
CATEGORIES:Chapel Hill Meals
END:VEVENT
BEGIN:VEVENT
DTSTART;TZID=America/New_York:20250409T170000
DTEND;TZID=America/New_York:20250409T170000
DTSTAMP:20260422T203821
CREATED:20250130T170426Z
LAST-MODIFIED:20250130T170426Z
UID:10002239-1744218000-1744218000@rmhctriangle.org
SUMMARY:Elevation Church
DESCRIPTION:
URL:https://rmhctriangle.org/family-event/elevation-church-4/
CATEGORIES:Durham Meals
END:VEVENT
BEGIN:VEVENT
DTSTART;TZID=America/New_York:20250410T153000
DTEND;TZID=America/New_York:20250410T183000
DTSTAMP:20260422T203821
CREATED:20250314T190000Z
LAST-MODIFIED:20250314T190000Z
UID:10002296-1744299000-1744309800@rmhctriangle.org
SUMMARY:Strada
DESCRIPTION:
URL:https://rmhctriangle.org/family-event/strada/
CATEGORIES:Chapel Hill Meals
END:VEVENT
BEGIN:VEVENT
DTSTART;TZID=America/New_York:20250410T170000
DTEND;TZID=America/New_York:20250410T170000
DTSTAMP:20260422T203821
CREATED:20250107T175649Z
LAST-MODIFIED:20250107T175649Z
UID:10002146-1744304400-1744304400@rmhctriangle.org
SUMMARY:Durham and Vicinity Association of Ministers Wives and Widows
DESCRIPTION:
URL:https://rmhctriangle.org/family-event/durham-and-vicinity-association-of-ministers-wives-and-widows/2025-04-10/
CATEGORIES:Durham Meals
END:VEVENT
BEGIN:VEVENT
DTSTART;TZID=America/New_York:20250411T170000
DTEND;TZID=America/New_York:20250411T170000
DTSTAMP:20260422T203821
CREATED:20250219T173819Z
LAST-MODIFIED:20250219T173819Z
UID:10002270-1744390800-1744390800@rmhctriangle.org
SUMMARY:Henderson Grove Missionary Baptist Church
DESCRIPTION:
URL:https://rmhctriangle.org/family-event/henderson-grove-missionary-baptist-church-2/
CATEGORIES:Durham Meals
END:VEVENT
BEGIN:VEVENT
DTSTART;TZID=America/New_York:20250411T173000
DTEND;TZID=America/New_York:20250411T190000
DTSTAMP:20260422T203821
CREATED:20230713T181540Z
LAST-MODIFIED:20230713T181540Z
UID:10000109-1744392600-1744398000@rmhctriangle.org
SUMMARY:Domino's
DESCRIPTION:
URL:https://rmhctriangle.org/family-event/dominos/2025-04-11/
CATEGORIES:Chapel Hill Meals
END:VEVENT
BEGIN:VEVENT
DTSTART;TZID=America/New_York:20250412T153000
DTEND;TZID=America/New_York:20250412T183000
DTSTAMP:20260422T203821
CREATED:20241220T150605Z
LAST-MODIFIED:20241220T150605Z
UID:10002107-1744471800-1744482600@rmhctriangle.org
SUMMARY:RTPTCA
DESCRIPTION:
URL:https://rmhctriangle.org/family-event/rtptca-6/
CATEGORIES:Chapel Hill Meals
END:VEVENT
BEGIN:VEVENT
DTSTART;TZID=America/New_York:20250412T170000
DTEND;TZID=America/New_York:20250412T170000
DTSTAMP:20260422T203821
CREATED:20250131T204859Z
LAST-MODIFIED:20250131T204859Z
UID:10002241-1744477200-1744477200@rmhctriangle.org
SUMMARY:Alpha Zeta Omega Chapter of Alpha Kappa Alpha Sorority\, Inc.
DESCRIPTION:
URL:https://rmhctriangle.org/family-event/alpha-zeta-omega-chapter-of-alpha-kappa-alpha-sorority-inc-2/
CATEGORIES:Durham Meals
END:VEVENT
BEGIN:VEVENT
DTSTART;TZID=America/New_York:20250413T163000
DTEND;TZID=America/New_York:20250413T183000
DTSTAMP:20260422T203821
CREATED:20240702T190919Z
LAST-MODIFIED:20240702T190919Z
UID:10001814-1744561800-1744569000@rmhctriangle.org
SUMMARY:NCL
DESCRIPTION:
URL:https://rmhctriangle.org/family-event/ncl-9/
CATEGORIES:Chapel Hill Meals
END:VEVENT
BEGIN:VEVENT
DTSTART;TZID=America/New_York:20250413T170000
DTEND;TZID=America/New_York:20250413T170000
DTSTAMP:20260422T203821
CREATED:20250306T141454Z
LAST-MODIFIED:20250306T141454Z
UID:10002283-1744563600-1744563600@rmhctriangle.org
SUMMARY:Shepherd's Angel
DESCRIPTION:
URL:https://rmhctriangle.org/family-event/shepherds-angel-8/
CATEGORIES:Durham Meals
END:VEVENT
BEGIN:VEVENT
DTSTART;TZID=America/New_York:20250414T170000
DTEND;TZID=America/New_York:20250414T170000
DTSTAMP:20260422T203821
CREATED:20250218T204221Z
LAST-MODIFIED:20250218T204221Z
UID:10002267-1744650000-1744650000@rmhctriangle.org
SUMMARY:Robins & Morton
DESCRIPTION:
URL:https://rmhctriangle.org/family-event/robins-morton/
CATEGORIES:Durham Meals
END:VEVENT
BEGIN:VEVENT
DTSTART;TZID=America/New_York:20250414T173000
DTEND;TZID=America/New_York:20250414T190000
DTSTAMP:20260422T203821
CREATED:20230713T185113Z
LAST-MODIFIED:20230713T185113Z
UID:10000402-1744651800-1744657200@rmhctriangle.org
SUMMARY:McDonald's
DESCRIPTION:
URL:https://rmhctriangle.org/family-event/mcdonalds-2/2025-04-14/
CATEGORIES:Chapel Hill Meals
END:VEVENT
BEGIN:VEVENT
DTSTART;TZID=America/New_York:20250415T153000
DTEND;TZID=America/New_York:20250415T183000
DTSTAMP:20260422T203821
CREATED:20250501T123341Z
LAST-MODIFIED:20250409T161219Z
UID:10001927-1744731000-1744741800@rmhctriangle.org
SUMMARY:Szczesniaks Family
DESCRIPTION:
URL:https://rmhctriangle.org/family-event/szczesniaks-family-5/
CATEGORIES:Chapel Hill Meals
END:VEVENT
BEGIN:VEVENT
DTSTART;TZID=America/New_York:20250415T170000
DTEND;TZID=America/New_York:20250415T170000
DTSTAMP:20260422T203821
CREATED:20250219T161637Z
LAST-MODIFIED:20250219T161637Z
UID:10002268-1744736400-1744736400@rmhctriangle.org
SUMMARY:Walter P Moore
DESCRIPTION:
URL:https://rmhctriangle.org/family-event/walter-p-moore-2/
CATEGORIES:Durham Meals
END:VEVENT
BEGIN:VEVENT
DTSTART;TZID=America/New_York:20250416T153000
DTEND;TZID=America/New_York:20250416T183000
DTSTAMP:20260422T203821
CREATED:20250116T190509Z
LAST-MODIFIED:20250116T190509Z
UID:10002191-1744817400-1744828200@rmhctriangle.org
SUMMARY:First National Bank
DESCRIPTION:
URL:https://rmhctriangle.org/family-event/first-national-bank/
CATEGORIES:Chapel Hill Meals
END:VEVENT
BEGIN:VEVENT
DTSTART;TZID=America/New_York:20250416T170000
DTEND;TZID=America/New_York:20250416T170000
DTSTAMP:20260422T203821
CREATED:20241210T192405Z
LAST-MODIFIED:20251029T172214Z
UID:10002077-1744822800-1744822800@rmhctriangle.org
SUMMARY:St. Francis of Assisi
DESCRIPTION:
URL:https://rmhctriangle.org/family-event/st-francis-of-assisi-3/2025-04-16/
CATEGORIES:Durham Meals
END:VEVENT
BEGIN:VEVENT
DTSTART;TZID=America/New_York:20250417T153000
DTEND;TZID=America/New_York:20250417T183000
DTSTAMP:20260422T203821
CREATED:20250218T165113Z
LAST-MODIFIED:20250218T165113Z
UID:10002266-1744903800-1744914600@rmhctriangle.org
SUMMARY:Mt. Gilead Baptist Church
DESCRIPTION:
URL:https://rmhctriangle.org/family-event/mt-gilead-baptist-church-5/
CATEGORIES:Chapel Hill Meals
END:VEVENT
BEGIN:VEVENT
DTSTART;TZID=America/New_York:20250417T170000
DTEND;TZID=America/New_York:20250417T170000
DTSTAMP:20260422T203821
CREATED:20250218T164247Z
LAST-MODIFIED:20250218T164247Z
UID:10002265-1744909200-1744909200@rmhctriangle.org
SUMMARY:Alyson Johnson Group
DESCRIPTION:
URL:https://rmhctriangle.org/family-event/alyson-johnson-group/
CATEGORIES:Durham Meals
END:VEVENT
BEGIN:VEVENT
DTSTART;TZID=America/New_York:20250418T170000
DTEND;TZID=America/New_York:20250418T170000
DTSTAMP:20260422T203821
CREATED:20250224T172423Z
LAST-MODIFIED:20250224T172423Z
UID:10002274-1744995600-1744995600@rmhctriangle.org
SUMMARY:Chinese Christian Missions Church
DESCRIPTION:
URL:https://rmhctriangle.org/family-event/chinese-christian-missions-church/
CATEGORIES:Durham Meals
END:VEVENT
BEGIN:VEVENT
DTSTART;TZID=America/New_York:20250418T173000
DTEND;TZID=America/New_York:20250418T190000
DTSTAMP:20260422T203821
CREATED:20230713T181540Z
LAST-MODIFIED:20230713T181540Z
UID:10000110-1744997400-1745002800@rmhctriangle.org
SUMMARY:Domino's
DESCRIPTION:
URL:https://rmhctriangle.org/family-event/dominos/2025-04-18/
CATEGORIES:Chapel Hill Meals
END:VEVENT
BEGIN:VEVENT
DTSTART;TZID=America/New_York:20250419T153000
DTEND;TZID=America/New_York:20250419T183000
DTSTAMP:20260422T203821
CREATED:20241125T132451Z
LAST-MODIFIED:20241125T132451Z
UID:10002052-1745076600-1745087400@rmhctriangle.org
SUMMARY:UNC AED
DESCRIPTION:
URL:https://rmhctriangle.org/family-event/unc-aed-11/
CATEGORIES:Chapel Hill Meals
END:VEVENT
BEGIN:VEVENT
DTSTART;TZID=America/New_York:20250419T170000
DTEND;TZID=America/New_York:20250419T170000
DTSTAMP:20260422T203821
CREATED:20250203T135027Z
LAST-MODIFIED:20250203T135027Z
UID:10002242-1745082000-1745082000@rmhctriangle.org
SUMMARY:Victorious Praise
DESCRIPTION:
URL:https://rmhctriangle.org/family-event/victorious-praise-2/
CATEGORIES:Durham Meals
END:VEVENT
BEGIN:VEVENT
DTSTART;TZID=America/New_York:20250420T153000
DTEND;TZID=America/New_York:20250420T183000
DTSTAMP:20260422T203821
CREATED:20241105T144320Z
LAST-MODIFIED:20241105T144320Z
UID:10001997-1745163000-1745173800@rmhctriangle.org
SUMMARY:New Hope Church
DESCRIPTION:
URL:https://rmhctriangle.org/family-event/new-hope-church-9/
CATEGORIES:Chapel Hill Meals
END:VEVENT
BEGIN:VEVENT
DTSTART;TZID=America/New_York:20250420T170000
DTEND;TZID=America/New_York:20250420T170000
DTSTAMP:20260422T203821
CREATED:20250310T194612Z
LAST-MODIFIED:20250310T194612Z
UID:10002286-1745168400-1745168400@rmhctriangle.org
SUMMARY:D&G Drywall
DESCRIPTION:
URL:https://rmhctriangle.org/family-event/dg-drywall-2/2025-04-20/
CATEGORIES:Durham Meals
END:VEVENT
END:VCALENDAR