BEGIN:VCALENDAR
VERSION:2.0
PRODID:-//Ronald McDonald House Charities of the Triangle - ECPv6.15.17.1//NONSGML v1.0//EN
CALSCALE:GREGORIAN
METHOD:PUBLISH
X-WR-CALNAME:Ronald McDonald House Charities of the Triangle
X-ORIGINAL-URL:https://rmhctriangle.org
X-WR-CALDESC:Events for Ronald McDonald House Charities of the Triangle
REFRESH-INTERVAL;VALUE=DURATION:PT1H
X-Robots-Tag:noindex
X-PUBLISHED-TTL:PT1H
BEGIN:VTIMEZONE
TZID:America/New_York
BEGIN:DAYLIGHT
TZOFFSETFROM:-0500
TZOFFSETTO:-0400
TZNAME:EDT
DTSTART:20240310T070000
END:DAYLIGHT
BEGIN:STANDARD
TZOFFSETFROM:-0400
TZOFFSETTO:-0500
TZNAME:EST
DTSTART:20241103T060000
END:STANDARD
BEGIN:DAYLIGHT
TZOFFSETFROM:-0500
TZOFFSETTO:-0400
TZNAME:EDT
DTSTART:20250309T070000
END:DAYLIGHT
BEGIN:STANDARD
TZOFFSETFROM:-0400
TZOFFSETTO:-0500
TZNAME:EST
DTSTART:20251102T060000
END:STANDARD
BEGIN:DAYLIGHT
TZOFFSETFROM:-0500
TZOFFSETTO:-0400
TZNAME:EDT
DTSTART:20260308T070000
END:DAYLIGHT
BEGIN:STANDARD
TZOFFSETFROM:-0400
TZOFFSETTO:-0500
TZNAME:EST
DTSTART:20261101T060000
END:STANDARD
END:VTIMEZONE
BEGIN:VEVENT
DTSTART;TZID=America/New_York:20250209T163000
DTEND;TZID=America/New_York:20250209T183000
DTSTAMP:20260420T053010
CREATED:20240702T190821Z
LAST-MODIFIED:20240702T190821Z
UID:10001812-1739118600-1739125800@rmhctriangle.org
SUMMARY:NCL
DESCRIPTION:
URL:https://rmhctriangle.org/family-event/ncl-7/
CATEGORIES:Chapel Hill Meals
END:VEVENT
BEGIN:VEVENT
DTSTART;TZID=America/New_York:20250209T170000
DTEND;TZID=America/New_York:20250209T170000
DTSTAMP:20260420T053010
CREATED:20241211T185011Z
LAST-MODIFIED:20241211T185011Z
UID:10002099-1739120400-1739120400@rmhctriangle.org
SUMMARY:Wakefield UMC
DESCRIPTION:
URL:https://rmhctriangle.org/family-event/wakefield-umc/2025-02-09/
CATEGORIES:Durham Meals
END:VEVENT
BEGIN:VEVENT
DTSTART;TZID=America/New_York:20250210T170000
DTEND;TZID=America/New_York:20250210T170000
DTSTAMP:20260420T053010
CREATED:20250113T203926Z
LAST-MODIFIED:20250113T203926Z
UID:10002178-1739206800-1739206800@rmhctriangle.org
SUMMARY:Whiting-Turner
DESCRIPTION:
URL:https://rmhctriangle.org/family-event/whiting-turner-2/
CATEGORIES:Durham Meals
END:VEVENT
BEGIN:VEVENT
DTSTART;TZID=America/New_York:20250210T173000
DTEND;TZID=America/New_York:20250210T190000
DTSTAMP:20260420T053010
CREATED:20230713T185113Z
LAST-MODIFIED:20230713T185113Z
UID:10000393-1739208600-1739214000@rmhctriangle.org
SUMMARY:McDonald's
DESCRIPTION:
URL:https://rmhctriangle.org/family-event/mcdonalds-2/2025-02-10/
CATEGORIES:Chapel Hill Meals
END:VEVENT
BEGIN:VEVENT
DTSTART;TZID=America/New_York:20250211T170000
DTEND;TZID=America/New_York:20250211T170000
DTSTAMP:20260420T053010
CREATED:20250113T154553Z
LAST-MODIFIED:20250113T154553Z
UID:10002168-1739293200-1739293200@rmhctriangle.org
SUMMARY:Couch Oil
DESCRIPTION:
URL:https://rmhctriangle.org/family-event/couch-oil-2/
CATEGORIES:Durham Meals
END:VEVENT
BEGIN:VEVENT
DTSTART;TZID=America/New_York:20250211T173000
DTEND;TZID=America/New_York:20250211T190000
DTSTAMP:20260420T053010
CREATED:20230713T185449Z
LAST-MODIFIED:20230713T185449Z
UID:10000613-1739295000-1739300400@rmhctriangle.org
SUMMARY:Barbara & Jean
DESCRIPTION:
URL:https://rmhctriangle.org/family-event/barbara-jean/2025-02-11/
CATEGORIES:Chapel Hill Meals
END:VEVENT
BEGIN:VEVENT
DTSTART;TZID=America/New_York:20250212T153000
DTEND;TZID=America/New_York:20250212T183000
DTSTAMP:20260420T053010
CREATED:20241210T180743Z
LAST-MODIFIED:20241210T180743Z
UID:10002070-1739374200-1739385000@rmhctriangle.org
SUMMARY:Mt. Gilead Baptist Church
DESCRIPTION:
URL:https://rmhctriangle.org/family-event/mt-gilead-baptist-church-6/
CATEGORIES:Chapel Hill Meals
END:VEVENT
BEGIN:VEVENT
DTSTART;TZID=America/New_York:20250212T170000
DTEND;TZID=America/New_York:20250212T170000
DTSTAMP:20260420T053010
CREATED:20250103T151618Z
LAST-MODIFIED:20250103T212642Z
UID:10002139-1739379600-1739379600@rmhctriangle.org
SUMMARY:Kelli Blackmond Group
DESCRIPTION:
URL:https://rmhctriangle.org/family-event/kelli-blackmond-group-2/2025-02-12/
CATEGORIES:Durham Meals
END:VEVENT
BEGIN:VEVENT
DTSTART;TZID=America/New_York:20250213T153000
DTEND;TZID=America/New_York:20250213T183000
DTSTAMP:20260420T053010
CREATED:20241213T143522Z
LAST-MODIFIED:20241213T143522Z
UID:10002102-1739460600-1739471400@rmhctriangle.org
SUMMARY:Team Select Home Care
DESCRIPTION:
URL:https://rmhctriangle.org/family-event/team-select-home-care/
CATEGORIES:Chapel Hill Meals
END:VEVENT
BEGIN:VEVENT
DTSTART;TZID=America/New_York:20250213T170000
DTEND;TZID=America/New_York:20250213T170000
DTSTAMP:20260420T053010
CREATED:20250108T194013Z
LAST-MODIFIED:20250108T194013Z
UID:10002160-1739466000-1739466000@rmhctriangle.org
SUMMARY:Duke Women's Golf
DESCRIPTION:
URL:https://rmhctriangle.org/family-event/duke-womens-golf/
CATEGORIES:Durham Meals
END:VEVENT
BEGIN:VEVENT
DTSTART;TZID=America/New_York:20250214T170000
DTEND;TZID=America/New_York:20250214T170000
DTSTAMP:20260420T053010
CREATED:20241210T191521Z
LAST-MODIFIED:20241210T191521Z
UID:10002071-1739552400-1739552400@rmhctriangle.org
SUMMARY:Triangle Hearts in Action
DESCRIPTION:
URL:https://rmhctriangle.org/family-event/triangle-hearts-in-action-2/
CATEGORIES:Durham Meals
END:VEVENT
BEGIN:VEVENT
DTSTART;TZID=America/New_York:20250214T173000
DTEND;TZID=America/New_York:20250214T190000
DTSTAMP:20260420T053010
CREATED:20230713T181540Z
LAST-MODIFIED:20230713T181540Z
UID:10000101-1739554200-1739559600@rmhctriangle.org
SUMMARY:Domino's
DESCRIPTION:
URL:https://rmhctriangle.org/family-event/dominos/2025-02-14/
CATEGORIES:Chapel Hill Meals
END:VEVENT
BEGIN:VEVENT
DTSTART;TZID=America/New_York:20250215T153000
DTEND;TZID=America/New_York:20250215T183000
DTSTAMP:20260420T053010
CREATED:20241119T153732Z
LAST-MODIFIED:20241119T153732Z
UID:10002039-1739633400-1739644200@rmhctriangle.org
SUMMARY:Chapel Hill High RMH Club
DESCRIPTION:
URL:https://rmhctriangle.org/family-event/chapel-hill-high-rmh-club/
CATEGORIES:Chapel Hill Meals
END:VEVENT
BEGIN:VEVENT
DTSTART;TZID=America/New_York:20250215T170000
DTEND;TZID=America/New_York:20250215T170000
DTSTAMP:20260420T053010
CREATED:20250103T204350Z
LAST-MODIFIED:20250103T204710Z
UID:10002136-1739638800-1739638800@rmhctriangle.org
SUMMARY:World Overcomers
DESCRIPTION:
URL:https://rmhctriangle.org/family-event/world-overcomers-2/2025-02-15/
CATEGORIES:Durham Meals
END:VEVENT
BEGIN:VEVENT
DTSTART;TZID=America/New_York:20250216T153000
DTEND;TZID=America/New_York:20250216T183000
DTSTAMP:20260420T053010
CREATED:20240826T164146Z
LAST-MODIFIED:20240826T164146Z
UID:10001911-1739719800-1739730600@rmhctriangle.org
SUMMARY:Sheri & Shannon
DESCRIPTION:
URL:https://rmhctriangle.org/family-event/sheri-shannon-4/
CATEGORIES:Chapel Hill Meals
END:VEVENT
BEGIN:VEVENT
DTSTART;TZID=America/New_York:20250216T170000
DTEND;TZID=America/New_York:20250216T170000
DTSTAMP:20260420T053010
CREATED:20250122T162247Z
LAST-MODIFIED:20250122T162247Z
UID:10002201-1739725200-1739725200@rmhctriangle.org
SUMMARY:Cap City Clutch
DESCRIPTION:
URL:https://rmhctriangle.org/family-event/cap-city-clutch-2/
CATEGORIES:Durham Meals
END:VEVENT
BEGIN:VEVENT
DTSTART;TZID=America/New_York:20250217T170000
DTEND;TZID=America/New_York:20250217T170000
DTSTAMP:20260420T053010
CREATED:20241220T185409Z
LAST-MODIFIED:20241220T185409Z
UID:10002110-1739811600-1739811600@rmhctriangle.org
SUMMARY:Panther Creek's Ronald McDonald House Club
DESCRIPTION:
URL:https://rmhctriangle.org/family-event/panther-creeks-ronald-mcdonald-house-club/
CATEGORIES:Durham Meals
END:VEVENT
BEGIN:VEVENT
DTSTART;TZID=America/New_York:20250217T173000
DTEND;TZID=America/New_York:20250217T190000
DTSTAMP:20260420T053010
CREATED:20230713T185113Z
LAST-MODIFIED:20230713T185113Z
UID:10000394-1739813400-1739818800@rmhctriangle.org
SUMMARY:McDonald's
DESCRIPTION:
URL:https://rmhctriangle.org/family-event/mcdonalds-2/2025-02-17/
CATEGORIES:Chapel Hill Meals
END:VEVENT
BEGIN:VEVENT
DTSTART;TZID=America/New_York:20250218T153000
DTEND;TZID=America/New_York:20250218T183000
DTSTAMP:20260420T053010
CREATED:20250114T160320Z
LAST-MODIFIED:20250114T160320Z
UID:10002179-1739892600-1739903400@rmhctriangle.org
SUMMARY:UNC GlobalMed
DESCRIPTION:
URL:https://rmhctriangle.org/family-event/unc-globalmed/
CATEGORIES:Chapel Hill Meals
END:VEVENT
BEGIN:VEVENT
DTSTART;TZID=America/New_York:20250218T170000
DTEND;TZID=America/New_York:20250218T170000
DTSTAMP:20260420T053010
CREATED:20250102T214557Z
LAST-MODIFIED:20250102T214557Z
UID:10002126-1739898000-1739898000@rmhctriangle.org
SUMMARY:NCSU ADPi
DESCRIPTION:
URL:https://rmhctriangle.org/family-event/ncsu-adpi-5/2025-02-18/
CATEGORIES:Durham Meals
END:VEVENT
BEGIN:VEVENT
DTSTART;TZID=America/New_York:20250219T153000
DTEND;TZID=America/New_York:20250219T183000
DTSTAMP:20260420T053010
CREATED:20241115T140318Z
LAST-MODIFIED:20241115T140318Z
UID:10002019-1739979000-1739989800@rmhctriangle.org
SUMMARY:CFTK
DESCRIPTION:
URL:https://rmhctriangle.org/family-event/cftk-9/
CATEGORIES:Chapel Hill Meals
END:VEVENT
BEGIN:VEVENT
DTSTART;TZID=America/New_York:20250219T170000
DTEND;TZID=America/New_York:20250219T170000
DTSTAMP:20260420T053010
CREATED:20241210T192405Z
LAST-MODIFIED:20251029T172214Z
UID:10002075-1739984400-1739984400@rmhctriangle.org
SUMMARY:St. Francis of Assisi
DESCRIPTION:
URL:https://rmhctriangle.org/family-event/st-francis-of-assisi-3/2025-02-19/
CATEGORIES:Durham Meals
END:VEVENT
BEGIN:VEVENT
DTSTART;TZID=America/New_York:20250220T153000
DTEND;TZID=America/New_York:20250220T183000
DTSTAMP:20260420T053010
CREATED:20241125T192521Z
LAST-MODIFIED:20241125T192521Z
UID:10002059-1740065400-1740076200@rmhctriangle.org
SUMMARY:Carolina Cancer Association
DESCRIPTION:
URL:https://rmhctriangle.org/family-event/carolina-cancer-association-7/
CATEGORIES:Chapel Hill Meals
END:VEVENT
BEGIN:VEVENT
DTSTART;TZID=America/New_York:20250220T170000
DTEND;TZID=America/New_York:20250220T173000
DTSTAMP:20260420T053010
CREATED:20241105T170145Z
LAST-MODIFIED:20241105T170145Z
UID:10002005-1740070800-1740072600@rmhctriangle.org
SUMMARY:Bodwin Realty Group
DESCRIPTION:
URL:https://rmhctriangle.org/family-event/bodwin-realty-group-2/
CATEGORIES:Durham Meals
END:VEVENT
BEGIN:VEVENT
DTSTART;TZID=America/New_York:20250221T170000
DTEND;TZID=America/New_York:20250221T170000
DTSTAMP:20260420T053010
CREATED:20250115T170211Z
LAST-MODIFIED:20250115T170211Z
UID:10002189-1740157200-1740157200@rmhctriangle.org
SUMMARY:Egan Company
DESCRIPTION:
URL:https://rmhctriangle.org/family-event/egan-company/
CATEGORIES:Durham Meals
END:VEVENT
BEGIN:VEVENT
DTSTART;TZID=America/New_York:20250221T173000
DTEND;TZID=America/New_York:20250221T190000
DTSTAMP:20260420T053010
CREATED:20230713T181540Z
LAST-MODIFIED:20230713T181540Z
UID:10000102-1740159000-1740164400@rmhctriangle.org
SUMMARY:Domino's
DESCRIPTION:
URL:https://rmhctriangle.org/family-event/dominos/2025-02-21/
CATEGORIES:Chapel Hill Meals
END:VEVENT
BEGIN:VEVENT
DTSTART;TZID=America/New_York:20250222T153000
DTEND;TZID=America/New_York:20250222T183000
DTSTAMP:20260420T053010
CREATED:20241111T133049Z
LAST-MODIFIED:20241111T133049Z
UID:10002009-1740238200-1740249000@rmhctriangle.org
SUMMARY:East Chapel Hill High School RMH Club
DESCRIPTION:
URL:https://rmhctriangle.org/family-event/east-chapel-hill-high-school-rmh-club/
CATEGORIES:Chapel Hill Meals
END:VEVENT
BEGIN:VEVENT
DTSTART;TZID=America/New_York:20250222T170000
DTEND;TZID=America/New_York:20250222T170000
DTSTAMP:20260420T053010
CREATED:20250128T210956Z
LAST-MODIFIED:20250131T183059Z
UID:10002229-1740243600-1740243600@rmhctriangle.org
SUMMARY:Kannan Family
DESCRIPTION:
URL:https://rmhctriangle.org/family-event/kannan-family/
CATEGORIES:Durham Meals
END:VEVENT
BEGIN:VEVENT
DTSTART;TZID=America/New_York:20250223T153000
DTEND;TZID=America/New_York:20250223T183000
DTSTAMP:20260420T053010
CREATED:20241105T144237Z
LAST-MODIFIED:20241105T144237Z
UID:10001995-1740324600-1740335400@rmhctriangle.org
SUMMARY:New Hope Church
DESCRIPTION:
URL:https://rmhctriangle.org/family-event/new-hope-church-7/
CATEGORIES:Chapel Hill Meals
END:VEVENT
BEGIN:VEVENT
DTSTART;TZID=America/New_York:20250223T170000
DTEND;TZID=America/New_York:20250223T170000
DTSTAMP:20260420T053010
CREATED:20250128T184103Z
LAST-MODIFIED:20260102T145738Z
UID:10002216-1740330000-1740330000@rmhctriangle.org
SUMMARY:TUTA
DESCRIPTION:
URL:https://rmhctriangle.org/family-event/tuta-2/2025-02-23/
CATEGORIES:Durham Meals
END:VEVENT
END:VCALENDAR