BEGIN:VCALENDAR
VERSION:2.0
PRODID:-//Ronald McDonald House Charities of the Triangle - ECPv6.15.17.1//NONSGML v1.0//EN
CALSCALE:GREGORIAN
METHOD:PUBLISH
X-WR-CALNAME:Ronald McDonald House Charities of the Triangle
X-ORIGINAL-URL:https://rmhctriangle.org
X-WR-CALDESC:Events for Ronald McDonald House Charities of the Triangle
REFRESH-INTERVAL;VALUE=DURATION:PT1H
X-Robots-Tag:noindex
X-PUBLISHED-TTL:PT1H
BEGIN:VTIMEZONE
TZID:America/New_York
BEGIN:DAYLIGHT
TZOFFSETFROM:-0500
TZOFFSETTO:-0400
TZNAME:EDT
DTSTART:20230312T070000
END:DAYLIGHT
BEGIN:STANDARD
TZOFFSETFROM:-0400
TZOFFSETTO:-0500
TZNAME:EST
DTSTART:20231105T060000
END:STANDARD
BEGIN:DAYLIGHT
TZOFFSETFROM:-0500
TZOFFSETTO:-0400
TZNAME:EDT
DTSTART:20240310T070000
END:DAYLIGHT
BEGIN:STANDARD
TZOFFSETFROM:-0400
TZOFFSETTO:-0500
TZNAME:EST
DTSTART:20241103T060000
END:STANDARD
BEGIN:DAYLIGHT
TZOFFSETFROM:-0500
TZOFFSETTO:-0400
TZNAME:EDT
DTSTART:20250309T070000
END:DAYLIGHT
BEGIN:STANDARD
TZOFFSETFROM:-0400
TZOFFSETTO:-0500
TZNAME:EST
DTSTART:20251102T060000
END:STANDARD
BEGIN:DAYLIGHT
TZOFFSETFROM:-0500
TZOFFSETTO:-0400
TZNAME:EDT
DTSTART:20260308T070000
END:DAYLIGHT
BEGIN:STANDARD
TZOFFSETFROM:-0400
TZOFFSETTO:-0500
TZNAME:EST
DTSTART:20261101T060000
END:STANDARD
END:VTIMEZONE
BEGIN:VEVENT
DTSTART;TZID=America/New_York:20241220T170000
DTEND;TZID=America/New_York:20241220T173000
DTSTAMP:20260421T030655
CREATED:20241021T160347Z
LAST-MODIFIED:20241021T160347Z
UID:10001983-1734714000-1734715800@rmhctriangle.org
SUMMARY:Shepherd's Angel
DESCRIPTION:
URL:https://rmhctriangle.org/family-event/shepherds-angel-4/2024-12-20/
CATEGORIES:Durham Meals
END:VEVENT
BEGIN:VEVENT
DTSTART;TZID=America/New_York:20241220T173000
DTEND;TZID=America/New_York:20241220T190000
DTSTAMP:20260421T030655
CREATED:20230713T181540Z
LAST-MODIFIED:20230713T181540Z
UID:10000093-1734715800-1734721200@rmhctriangle.org
SUMMARY:Domino's
DESCRIPTION:
URL:https://rmhctriangle.org/family-event/dominos/2024-12-20/
CATEGORIES:Chapel Hill Meals
END:VEVENT
BEGIN:VEVENT
DTSTART;TZID=America/New_York:20241221T170000
DTEND;TZID=America/New_York:20241221T173000
DTSTAMP:20260421T030655
CREATED:20241113T155318Z
LAST-MODIFIED:20241113T155318Z
UID:10002014-1734800400-1734802200@rmhctriangle.org
SUMMARY:Loyka-Bruschi & Friends
DESCRIPTION:
URL:https://rmhctriangle.org/family-event/loyka-bruschi-friends/
CATEGORIES:Durham Meals
END:VEVENT
BEGIN:VEVENT
DTSTART;TZID=America/New_York:20241221T173000
DTEND;TZID=America/New_York:20241221T190000
DTSTAMP:20260421T030655
CREATED:20231127T205323Z
LAST-MODIFIED:20231127T205323Z
UID:10001320-1734802200-1734807600@rmhctriangle.org
SUMMARY:Zakat Foundation
DESCRIPTION:
URL:https://rmhctriangle.org/family-event/zakat-foundation-19/
CATEGORIES:Chapel Hill Meals
END:VEVENT
BEGIN:VEVENT
DTSTART;TZID=America/New_York:20241222T153000
DTEND;TZID=America/New_York:20241222T183000
DTSTAMP:20260421T030655
CREATED:20240924T134235Z
LAST-MODIFIED:20240924T134235Z
UID:10001954-1734881400-1734892200@rmhctriangle.org
SUMMARY:Love All Serve All
DESCRIPTION:
URL:https://rmhctriangle.org/family-event/love-all-serve-all-7/
CATEGORIES:Chapel Hill Meals
END:VEVENT
BEGIN:VEVENT
DTSTART;TZID=America/New_York:20241222T170000
DTEND;TZID=America/New_York:20241222T170000
DTSTAMP:20260421T030655
CREATED:20241125T154015Z
LAST-MODIFIED:20241125T154015Z
UID:10002055-1734886800-1734886800@rmhctriangle.org
SUMMARY:Gray Family & Friends
DESCRIPTION:
URL:https://rmhctriangle.org/family-event/gray-family-friends/
CATEGORIES:Durham Meals
END:VEVENT
BEGIN:VEVENT
DTSTART;TZID=America/New_York:20241223T170000
DTEND;TZID=America/New_York:20241223T173000
DTSTAMP:20260421T030655
CREATED:20241118T173813Z
LAST-MODIFIED:20241118T173813Z
UID:10002026-1734973200-1734975000@rmhctriangle.org
SUMMARY:Kelli Blackmond Group
DESCRIPTION:
URL:https://rmhctriangle.org/family-event/kelli-blackmond-group/
CATEGORIES:Durham Meals
END:VEVENT
BEGIN:VEVENT
DTSTART;TZID=America/New_York:20241223T173000
DTEND;TZID=America/New_York:20241223T190000
DTSTAMP:20260421T030655
CREATED:20230713T185113Z
LAST-MODIFIED:20230713T185113Z
UID:10000386-1734975000-1734980400@rmhctriangle.org
SUMMARY:McDonald's
DESCRIPTION:
URL:https://rmhctriangle.org/family-event/mcdonalds-2/2024-12-23/
CATEGORIES:Chapel Hill Meals
END:VEVENT
BEGIN:VEVENT
DTSTART;TZID=America/New_York:20241224T153000
DTEND;TZID=America/New_York:20241224T183000
DTSTAMP:20260421T030655
CREATED:20240930T164236Z
LAST-MODIFIED:20240930T164236Z
UID:10001958-1735054200-1735065000@rmhctriangle.org
SUMMARY:Murfy and Annie
DESCRIPTION:
URL:https://rmhctriangle.org/family-event/murfy-and-annie/
CATEGORIES:Chapel Hill Meals
END:VEVENT
BEGIN:VEVENT
DTSTART;TZID=America/New_York:20241224T170000
DTEND;TZID=America/New_York:20241224T173000
DTSTAMP:20260421T030655
CREATED:20241105T212420Z
LAST-MODIFIED:20241105T212420Z
UID:10002006-1735059600-1735061400@rmhctriangle.org
SUMMARY:Gayle Flynn
DESCRIPTION:
URL:https://rmhctriangle.org/family-event/gayle-flynn-2/
CATEGORIES:Durham Meals
END:VEVENT
BEGIN:VEVENT
DTSTART;TZID=America/New_York:20241225T153000
DTEND;TZID=America/New_York:20241225T183000
DTSTAMP:20260421T030655
CREATED:20240930T164326Z
LAST-MODIFIED:20240930T164326Z
UID:10001959-1735140600-1735151400@rmhctriangle.org
SUMMARY:Murfy and Annie
DESCRIPTION:
URL:https://rmhctriangle.org/family-event/murfy-and-annie-2/
CATEGORIES:Chapel Hill Meals
END:VEVENT
BEGIN:VEVENT
DTSTART;TZID=America/New_York:20241225T170000
DTEND;TZID=America/New_York:20241225T173000
DTSTAMP:20260421T030655
CREATED:20241009T141819Z
LAST-MODIFIED:20241009T141819Z
UID:10001971-1735146000-1735147800@rmhctriangle.org
SUMMARY:Lula and Sadies
DESCRIPTION:
URL:https://rmhctriangle.org/family-event/lula-and-sadies/2024-12-25/
CATEGORIES:Durham Meals
END:VEVENT
BEGIN:VEVENT
DTSTART;TZID=America/New_York:20241226T170000
DTEND;TZID=America/New_York:20241226T170000
DTSTAMP:20260421T030655
CREATED:20241120T165126Z
LAST-MODIFIED:20241120T165126Z
UID:10002048-1735232400-1735232400@rmhctriangle.org
SUMMARY:Parks Family
DESCRIPTION:
URL:https://rmhctriangle.org/family-event/parks-family-2/
CATEGORIES:Durham Meals
END:VEVENT
BEGIN:VEVENT
DTSTART;TZID=America/New_York:20241226T173000
DTEND;TZID=America/New_York:20241226T190000
DTSTAMP:20260421T030655
CREATED:20231219T151501Z
LAST-MODIFIED:20231219T151501Z
UID:10001401-1735234200-1735239600@rmhctriangle.org
SUMMARY:Antioch Church
DESCRIPTION:
URL:https://rmhctriangle.org/family-event/antioch-church-6/2024-12-26/
CATEGORIES:Chapel Hill Meals
END:VEVENT
BEGIN:VEVENT
DTSTART;TZID=America/New_York:20241227T173000
DTEND;TZID=America/New_York:20241227T173000
DTSTAMP:20260421T030655
CREATED:20241126T145044Z
LAST-MODIFIED:20241126T145044Z
UID:10002061-1735320600-1735320600@rmhctriangle.org
SUMMARY:Longley Family
DESCRIPTION:
URL:https://rmhctriangle.org/family-event/longley-family/
CATEGORIES:Durham Meals
END:VEVENT
BEGIN:VEVENT
DTSTART;TZID=America/New_York:20241227T173000
DTEND;TZID=America/New_York:20241227T190000
DTSTAMP:20260421T030655
CREATED:20230713T181540Z
LAST-MODIFIED:20230713T181540Z
UID:10000094-1735320600-1735326000@rmhctriangle.org
SUMMARY:Domino's
DESCRIPTION:
URL:https://rmhctriangle.org/family-event/dominos/2024-12-27/
CATEGORIES:Chapel Hill Meals
END:VEVENT
BEGIN:VEVENT
DTSTART;TZID=America/New_York:20241228T153000
DTEND;TZID=America/New_York:20241228T183000
DTSTAMP:20260421T030655
CREATED:20241203T153718Z
LAST-MODIFIED:20241203T153718Z
UID:10002064-1735399800-1735410600@rmhctriangle.org
SUMMARY:Apostolic House of Prayer
DESCRIPTION:
URL:https://rmhctriangle.org/family-event/apostolic-house-of-prayer/
CATEGORIES:Chapel Hill Meals
END:VEVENT
BEGIN:VEVENT
DTSTART;TZID=America/New_York:20241228T170000
DTEND;TZID=America/New_York:20241228T173000
DTSTAMP:20260421T030655
CREATED:20241202T154756Z
LAST-MODIFIED:20241202T154756Z
UID:10002062-1735405200-1735407000@rmhctriangle.org
SUMMARY:JaniKing
DESCRIPTION:
URL:https://rmhctriangle.org/family-event/janiking/
CATEGORIES:Durham Meals
END:VEVENT
BEGIN:VEVENT
DTSTART;TZID=America/New_York:20241229T153000
DTEND;TZID=America/New_York:20241229T183000
DTSTAMP:20260421T030655
CREATED:20241120T160013Z
LAST-MODIFIED:20241120T160013Z
UID:10002047-1735486200-1735497000@rmhctriangle.org
SUMMARY:Lauren Updyke and Family
DESCRIPTION:
URL:https://rmhctriangle.org/family-event/lauren-updyke-and-family/
CATEGORIES:Chapel Hill Meals
END:VEVENT
BEGIN:VEVENT
DTSTART;TZID=America/New_York:20241229T173000
DTEND;TZID=America/New_York:20241229T173000
DTSTAMP:20260421T030655
CREATED:20230713T184227Z
LAST-MODIFIED:20250127T201530Z
UID:10000726-1735493400-1735493400@rmhctriangle.org
SUMMARY:TUTA
DESCRIPTION:
URL:https://rmhctriangle.org/family-event/tuta/2024-12-29/
CATEGORIES:Durham Meals
END:VEVENT
BEGIN:VEVENT
DTSTART;TZID=America/New_York:20241230T080000
DTEND;TZID=America/New_York:20241230T170000
DTSTAMP:20260421T030655
CREATED:20230713T184402Z
LAST-MODIFIED:20230814T180412Z
UID:10000294-1735545600-1735578000@rmhctriangle.org
SUMMARY:Kiwanis Club of the Friendly City
DESCRIPTION:
URL:https://rmhctriangle.org/family-event/kiwanis-club-of-the-friendly-city/2024-12-30/
CATEGORIES:Durham Meals
END:VEVENT
BEGIN:VEVENT
DTSTART;TZID=America/New_York:20241230T173000
DTEND;TZID=America/New_York:20241230T190000
DTSTAMP:20260421T030655
CREATED:20230713T185113Z
LAST-MODIFIED:20230713T185113Z
UID:10000387-1735579800-1735585200@rmhctriangle.org
SUMMARY:McDonald's
DESCRIPTION:
URL:https://rmhctriangle.org/family-event/mcdonalds-2/2024-12-30/
CATEGORIES:Chapel Hill Meals
END:VEVENT
BEGIN:VEVENT
DTSTART;TZID=America/New_York:20241231T170000
DTEND;TZID=America/New_York:20241231T173000
DTSTAMP:20260421T030655
CREATED:20241118T142318Z
LAST-MODIFIED:20241118T172932Z
UID:10002024-1735664400-1735666200@rmhctriangle.org
SUMMARY:Seven Marks Church Small Group
DESCRIPTION:
URL:https://rmhctriangle.org/family-event/loyka-bruschi-friends-2/
CATEGORIES:Durham Meals
END:VEVENT
BEGIN:VEVENT
DTSTART;TZID=America/New_York:20241231T173000
DTEND;TZID=America/New_York:20241231T190000
DTSTAMP:20260421T030655
CREATED:20230713T185449Z
LAST-MODIFIED:20230713T185449Z
UID:10000610-1735666200-1735671600@rmhctriangle.org
SUMMARY:Barbara & Jean
DESCRIPTION:
URL:https://rmhctriangle.org/family-event/barbara-jean/2024-12-31/
CATEGORIES:Chapel Hill Meals
END:VEVENT
BEGIN:VEVENT
DTSTART;TZID=America/New_York:20250101T153000
DTEND;TZID=America/New_York:20250101T183000
DTSTAMP:20260421T030655
CREATED:20241206T161032Z
LAST-MODIFIED:20241206T161032Z
UID:10002066-1735745400-1735756200@rmhctriangle.org
SUMMARY:Cynthia Horowitz & Family
DESCRIPTION:
URL:https://rmhctriangle.org/family-event/cynthia-horowitz-family/
CATEGORIES:Chapel Hill Meals
END:VEVENT
BEGIN:VEVENT
DTSTART;TZID=America/New_York:20250101T170000
DTEND;TZID=America/New_York:20250101T173000
DTSTAMP:20260421T030655
CREATED:20241212T213258Z
LAST-MODIFIED:20241212T213258Z
UID:10002101-1735750800-1735752600@rmhctriangle.org
SUMMARY:Jodi Darrohn
DESCRIPTION:
URL:https://rmhctriangle.org/family-event/jodi-darrohn-2/
CATEGORIES:Durham Meals
END:VEVENT
BEGIN:VEVENT
DTSTART;TZID=America/New_York:20250102T153000
DTEND;TZID=America/New_York:20250102T180000
DTSTAMP:20260421T030655
CREATED:20241007T151043Z
LAST-MODIFIED:20241007T151043Z
UID:10001967-1735831800-1735840800@rmhctriangle.org
SUMMARY:Smiling While Sending Hope
DESCRIPTION:
URL:https://rmhctriangle.org/family-event/smiling-while-sending-hope-4/
CATEGORIES:Chapel Hill Meals
END:VEVENT
BEGIN:VEVENT
DTSTART;TZID=America/New_York:20250102T170000
DTEND;TZID=America/New_York:20250102T170000
DTSTAMP:20260421T030655
CREATED:20241230T171353Z
LAST-MODIFIED:20241230T171353Z
UID:10002117-1735837200-1735837200@rmhctriangle.org
SUMMARY:McDonald's
DESCRIPTION:
URL:https://rmhctriangle.org/family-event/mcdonalds-10/2025-01-02/
CATEGORIES:Durham Meals
END:VEVENT
BEGIN:VEVENT
DTSTART;TZID=America/New_York:20250103T170000
DTEND;TZID=America/New_York:20250103T173000
DTSTAMP:20260421T030655
CREATED:20241213T151634Z
LAST-MODIFIED:20241213T151634Z
UID:10002103-1735923600-1735925400@rmhctriangle.org
SUMMARY:Birksloop Family
DESCRIPTION:
URL:https://rmhctriangle.org/family-event/birksloop-family-2/
CATEGORIES:Durham Meals
END:VEVENT
BEGIN:VEVENT
DTSTART;TZID=America/New_York:20250103T173000
DTEND;TZID=America/New_York:20250103T190000
DTSTAMP:20260421T030655
CREATED:20230713T181540Z
LAST-MODIFIED:20230713T181540Z
UID:10000095-1735925400-1735930800@rmhctriangle.org
SUMMARY:Domino's
DESCRIPTION:
URL:https://rmhctriangle.org/family-event/dominos/2025-01-03/
CATEGORIES:Chapel Hill Meals
END:VEVENT
END:VCALENDAR