BEGIN:VCALENDAR
VERSION:2.0
PRODID:-//Ronald McDonald House Charities of the Triangle - ECPv6.15.17.1//NONSGML v1.0//EN
CALSCALE:GREGORIAN
METHOD:PUBLISH
X-WR-CALNAME:Ronald McDonald House Charities of the Triangle
X-ORIGINAL-URL:https://rmhctriangle.org
X-WR-CALDESC:Events for Ronald McDonald House Charities of the Triangle
REFRESH-INTERVAL;VALUE=DURATION:PT1H
X-Robots-Tag:noindex
X-PUBLISHED-TTL:PT1H
BEGIN:VTIMEZONE
TZID:America/New_York
BEGIN:DAYLIGHT
TZOFFSETFROM:-0500
TZOFFSETTO:-0400
TZNAME:EDT
DTSTART:20230312T070000
END:DAYLIGHT
BEGIN:STANDARD
TZOFFSETFROM:-0400
TZOFFSETTO:-0500
TZNAME:EST
DTSTART:20231105T060000
END:STANDARD
BEGIN:DAYLIGHT
TZOFFSETFROM:-0500
TZOFFSETTO:-0400
TZNAME:EDT
DTSTART:20240310T070000
END:DAYLIGHT
BEGIN:STANDARD
TZOFFSETFROM:-0400
TZOFFSETTO:-0500
TZNAME:EST
DTSTART:20241103T060000
END:STANDARD
BEGIN:DAYLIGHT
TZOFFSETFROM:-0500
TZOFFSETTO:-0400
TZNAME:EDT
DTSTART:20250309T070000
END:DAYLIGHT
BEGIN:STANDARD
TZOFFSETFROM:-0400
TZOFFSETTO:-0500
TZNAME:EST
DTSTART:20251102T060000
END:STANDARD
END:VTIMEZONE
BEGIN:VEVENT
DTSTART;TZID=America/New_York:20241208T163000
DTEND;TZID=America/New_York:20241208T183000
DTSTAMP:20260421T181830
CREATED:20240702T190725Z
LAST-MODIFIED:20240702T190725Z
UID:10001810-1733675400-1733682600@rmhctriangle.org
SUMMARY:NCL
DESCRIPTION:
URL:https://rmhctriangle.org/family-event/ncl-5/
CATEGORIES:Chapel Hill Meals
END:VEVENT
BEGIN:VEVENT
DTSTART;TZID=America/New_York:20241208T170000
DTEND;TZID=America/New_York:20241208T173000
DTSTAMP:20260421T181830
CREATED:20241104T174600Z
LAST-MODIFIED:20241104T174600Z
UID:10001993-1733677200-1733679000@rmhctriangle.org
SUMMARY:Cypress Creek Civitans
DESCRIPTION:
URL:https://rmhctriangle.org/family-event/cypress-creek-civitans-4/
CATEGORIES:Durham Meals
END:VEVENT
BEGIN:VEVENT
DTSTART;TZID=America/New_York:20241209T170000
DTEND;TZID=America/New_York:20241209T173000
DTSTAMP:20260421T181830
CREATED:20240805T175519Z
LAST-MODIFIED:20240805T175519Z
UID:10001868-1733763600-1733765400@rmhctriangle.org
SUMMARY:The Summerhouse Cookers
DESCRIPTION:
URL:https://rmhctriangle.org/family-event/the-summerhouse-cookers-2/
CATEGORIES:Durham Meals
END:VEVENT
BEGIN:VEVENT
DTSTART;TZID=America/New_York:20241209T173000
DTEND;TZID=America/New_York:20241209T190000
DTSTAMP:20260421T181830
CREATED:20230713T185113Z
LAST-MODIFIED:20230713T185113Z
UID:10000384-1733765400-1733770800@rmhctriangle.org
SUMMARY:McDonald's
DESCRIPTION:
URL:https://rmhctriangle.org/family-event/mcdonalds-2/2024-12-09/
CATEGORIES:Chapel Hill Meals
END:VEVENT
BEGIN:VEVENT
DTSTART;TZID=America/New_York:20241210T153000
DTEND;TZID=America/New_York:20241210T183000
DTSTAMP:20260421T181830
CREATED:20240830T123209Z
LAST-MODIFIED:20240830T123209Z
UID:10001923-1733844600-1733855400@rmhctriangle.org
SUMMARY:Szczesniaks Family
DESCRIPTION:
URL:https://rmhctriangle.org/family-event/szczesniaks-family/
CATEGORIES:Chapel Hill Meals
END:VEVENT
BEGIN:VEVENT
DTSTART;TZID=America/New_York:20241210T170000
DTEND;TZID=America/New_York:20241210T173000
DTSTAMP:20260421T181830
CREATED:20240925T180808Z
LAST-MODIFIED:20240925T180808Z
UID:10001956-1733850000-1733851800@rmhctriangle.org
SUMMARY:Jabil
DESCRIPTION:
URL:https://rmhctriangle.org/family-event/jabil/
CATEGORIES:Durham Meals
END:VEVENT
BEGIN:VEVENT
DTSTART;TZID=America/New_York:20241211T153000
DTEND;TZID=America/New_York:20241211T183000
DTSTAMP:20260421T181830
CREATED:20240807T183031Z
LAST-MODIFIED:20240807T183031Z
UID:10001874-1733931000-1733941800@rmhctriangle.org
SUMMARY:CFTK
DESCRIPTION:
URL:https://rmhctriangle.org/family-event/cftk-8/
CATEGORIES:Chapel Hill Meals
END:VEVENT
BEGIN:VEVENT
DTSTART;TZID=America/New_York:20241211T170000
DTEND;TZID=America/New_York:20241211T173000
DTSTAMP:20260421T181830
CREATED:20240912T205233Z
LAST-MODIFIED:20240912T205233Z
UID:10001942-1733936400-1733938200@rmhctriangle.org
SUMMARY:Endrusick Enterprises
DESCRIPTION:
URL:https://rmhctriangle.org/family-event/endrusick-enterprises/
CATEGORIES:Durham Meals
END:VEVENT
BEGIN:VEVENT
DTSTART;TZID=America/New_York:20241212T163000
DTEND;TZID=America/New_York:20241212T183000
DTSTAMP:20260421T181830
CREATED:20240807T181453Z
LAST-MODIFIED:20240807T181453Z
UID:10001870-1734021000-1734028200@rmhctriangle.org
SUMMARY:UNC Anesthesiology
DESCRIPTION:
URL:https://rmhctriangle.org/family-event/unc-anesthesiology/
CATEGORIES:Chapel Hill Meals
END:VEVENT
BEGIN:VEVENT
DTSTART;TZID=America/New_York:20241212T170000
DTEND;TZID=America/New_York:20241212T170000
DTSTAMP:20260421T181830
CREATED:20241210T191541Z
LAST-MODIFIED:20241210T191541Z
UID:10002072-1734022800-1734022800@rmhctriangle.org
SUMMARY:Avalara
DESCRIPTION:
URL:https://rmhctriangle.org/family-event/avalara/
CATEGORIES:Durham Meals
END:VEVENT
BEGIN:VEVENT
DTSTART;TZID=America/New_York:20241213T170000
DTEND;TZID=America/New_York:20241213T173000
DTSTAMP:20260421T181830
CREATED:20241009T143611Z
LAST-MODIFIED:20241009T143611Z
UID:10001972-1734109200-1734111000@rmhctriangle.org
SUMMARY:Debbie Perrigo
DESCRIPTION:
URL:https://rmhctriangle.org/family-event/debbie-perrigo-3/
CATEGORIES:Durham Meals
END:VEVENT
BEGIN:VEVENT
DTSTART;TZID=America/New_York:20241213T173000
DTEND;TZID=America/New_York:20241213T190000
DTSTAMP:20260421T181830
CREATED:20230713T181540Z
LAST-MODIFIED:20230713T181540Z
UID:10000092-1734111000-1734116400@rmhctriangle.org
SUMMARY:Domino's
DESCRIPTION:
URL:https://rmhctriangle.org/family-event/dominos/2024-12-13/
CATEGORIES:Chapel Hill Meals
END:VEVENT
BEGIN:VEVENT
DTSTART;TZID=America/New_York:20241214T153000
DTEND;TZID=America/New_York:20241214T183000
DTSTAMP:20260421T181830
CREATED:20240904T152517Z
LAST-MODIFIED:20240904T152517Z
UID:10001931-1734190200-1734201000@rmhctriangle.org
SUMMARY:Green Hope High School CFTK Club
DESCRIPTION:
URL:https://rmhctriangle.org/family-event/green-hope-high-school-cftk-club/
CATEGORIES:Chapel Hill Meals
END:VEVENT
BEGIN:VEVENT
DTSTART;TZID=America/New_York:20241214T170000
DTEND;TZID=America/New_York:20241214T173000
DTSTAMP:20260421T181830
CREATED:20241003T184135Z
LAST-MODIFIED:20241003T184135Z
UID:10001963-1734195600-1734197400@rmhctriangle.org
SUMMARY:Alpha Zeta Omega Chapter of Alpha Kappa Alpha Sorority\, Inc.
DESCRIPTION:
URL:https://rmhctriangle.org/family-event/alpha-zeta-omega-chapter-of-alpha-kappa-alpha-sorority-inc/2024-12-14/
CATEGORIES:Durham Meals
END:VEVENT
BEGIN:VEVENT
DTSTART;TZID=America/New_York:20241215T153000
DTEND;TZID=America/New_York:20241215T183000
DTSTAMP:20260421T181830
CREATED:20240905T133909Z
LAST-MODIFIED:20240905T133909Z
UID:10001932-1734276600-1734287400@rmhctriangle.org
SUMMARY:NW High School
DESCRIPTION:
URL:https://rmhctriangle.org/family-event/nw-high-school/
CATEGORIES:Chapel Hill Meals
END:VEVENT
BEGIN:VEVENT
DTSTART;TZID=America/New_York:20241215T170000
DTEND;TZID=America/New_York:20241215T173000
DTSTAMP:20260421T181830
CREATED:20231031T183806Z
LAST-MODIFIED:20240129T164724Z
UID:10001548-1734282000-1734283800@rmhctriangle.org
SUMMARY:Well Fellowship
DESCRIPTION:
URL:https://rmhctriangle.org/family-event/well-fellowship/2024-12-15/
CATEGORIES:Durham Meals
END:VEVENT
BEGIN:VEVENT
DTSTART;TZID=America/New_York:20241216T170000
DTEND;TZID=America/New_York:20241216T173000
DTSTAMP:20260421T181830
CREATED:20241018T135145Z
LAST-MODIFIED:20241018T135145Z
UID:10001980-1734368400-1734370200@rmhctriangle.org
SUMMARY:Sophia and Friends
DESCRIPTION:
URL:https://rmhctriangle.org/family-event/sophia-and-friends/
CATEGORIES:Durham Meals
END:VEVENT
BEGIN:VEVENT
DTSTART;TZID=America/New_York:20241216T173000
DTEND;TZID=America/New_York:20241216T190000
DTSTAMP:20260421T181830
CREATED:20230713T185113Z
LAST-MODIFIED:20230713T185113Z
UID:10000385-1734370200-1734375600@rmhctriangle.org
SUMMARY:McDonald's
DESCRIPTION:
URL:https://rmhctriangle.org/family-event/mcdonalds-2/2024-12-16/
CATEGORIES:Chapel Hill Meals
END:VEVENT
BEGIN:VEVENT
DTSTART;TZID=America/New_York:20241217T170000
DTEND;TZID=America/New_York:20241217T173000
DTSTAMP:20260421T181830
CREATED:20241021T153715Z
LAST-MODIFIED:20241021T153715Z
UID:10001981-1734454800-1734456600@rmhctriangle.org
SUMMARY:Gunter Enterprises
DESCRIPTION:
URL:https://rmhctriangle.org/family-event/gunter-enterprises-3/
CATEGORIES:Durham Meals
END:VEVENT
BEGIN:VEVENT
DTSTART;TZID=America/New_York:20241217T173000
DTEND;TZID=America/New_York:20241217T190000
DTSTAMP:20260421T181830
CREATED:20230713T185449Z
LAST-MODIFIED:20230713T185449Z
UID:10000609-1734456600-1734462000@rmhctriangle.org
SUMMARY:Barbara & Jean
DESCRIPTION:
URL:https://rmhctriangle.org/family-event/barbara-jean/2024-12-17/
CATEGORIES:Chapel Hill Meals
END:VEVENT
BEGIN:VEVENT
DTSTART;TZID=America/New_York:20241218T170000
DTEND;TZID=America/New_York:20241218T170000
DTSTAMP:20260421T181830
CREATED:20241210T192405Z
LAST-MODIFIED:20251029T172214Z
UID:10002073-1734541200-1734541200@rmhctriangle.org
SUMMARY:St. Francis of Assisi
DESCRIPTION:
URL:https://rmhctriangle.org/family-event/st-francis-of-assisi-3/2024-12-18/
CATEGORIES:Durham Meals
END:VEVENT
BEGIN:VEVENT
DTSTART;TZID=America/New_York:20241218T173000
DTEND;TZID=America/New_York:20241218T190000
DTSTAMP:20260421T181830
CREATED:20240403T194358Z
LAST-MODIFIED:20240403T194358Z
UID:10001689-1734543000-1734548400@rmhctriangle.org
SUMMARY:Mercalis
DESCRIPTION:
URL:https://rmhctriangle.org/family-event/mercalis-4/
CATEGORIES:Chapel Hill Meals
END:VEVENT
BEGIN:VEVENT
DTSTART;TZID=America/New_York:20241219T153000
DTEND;TZID=America/New_York:20241219T183000
DTSTAMP:20260421T181830
CREATED:20241022T174557Z
LAST-MODIFIED:20241022T174557Z
UID:10001985-1734622200-1734633000@rmhctriangle.org
SUMMARY:Pfizer
DESCRIPTION:
URL:https://rmhctriangle.org/family-event/pfizer-2/
CATEGORIES:Chapel Hill Meals
END:VEVENT
BEGIN:VEVENT
DTSTART;TZID=America/New_York:20241219T173000
DTEND;TZID=America/New_York:20241219T173000
DTSTAMP:20260421T181830
CREATED:20230814T161536Z
LAST-MODIFIED:20231207T154046Z
UID:10001375-1734629400-1734629400@rmhctriangle.org
SUMMARY:Chiesi
DESCRIPTION:
URL:https://rmhctriangle.org/family-event/chiesi-2/2024-12-19/
CATEGORIES:Durham Meals
END:VEVENT
BEGIN:VEVENT
DTSTART;TZID=America/New_York:20241220T170000
DTEND;TZID=America/New_York:20241220T173000
DTSTAMP:20260421T181830
CREATED:20241021T160347Z
LAST-MODIFIED:20241021T160347Z
UID:10001983-1734714000-1734715800@rmhctriangle.org
SUMMARY:Shepherd's Angel
DESCRIPTION:
URL:https://rmhctriangle.org/family-event/shepherds-angel-4/2024-12-20/
CATEGORIES:Durham Meals
END:VEVENT
BEGIN:VEVENT
DTSTART;TZID=America/New_York:20241220T173000
DTEND;TZID=America/New_York:20241220T190000
DTSTAMP:20260421T181830
CREATED:20230713T181540Z
LAST-MODIFIED:20230713T181540Z
UID:10000093-1734715800-1734721200@rmhctriangle.org
SUMMARY:Domino's
DESCRIPTION:
URL:https://rmhctriangle.org/family-event/dominos/2024-12-20/
CATEGORIES:Chapel Hill Meals
END:VEVENT
BEGIN:VEVENT
DTSTART;TZID=America/New_York:20241221T170000
DTEND;TZID=America/New_York:20241221T173000
DTSTAMP:20260421T181830
CREATED:20241113T155318Z
LAST-MODIFIED:20241113T155318Z
UID:10002014-1734800400-1734802200@rmhctriangle.org
SUMMARY:Loyka-Bruschi & Friends
DESCRIPTION:
URL:https://rmhctriangle.org/family-event/loyka-bruschi-friends/
CATEGORIES:Durham Meals
END:VEVENT
BEGIN:VEVENT
DTSTART;TZID=America/New_York:20241221T173000
DTEND;TZID=America/New_York:20241221T190000
DTSTAMP:20260421T181830
CREATED:20231127T205323Z
LAST-MODIFIED:20231127T205323Z
UID:10001320-1734802200-1734807600@rmhctriangle.org
SUMMARY:Zakat Foundation
DESCRIPTION:
URL:https://rmhctriangle.org/family-event/zakat-foundation-19/
CATEGORIES:Chapel Hill Meals
END:VEVENT
BEGIN:VEVENT
DTSTART;TZID=America/New_York:20241222T153000
DTEND;TZID=America/New_York:20241222T183000
DTSTAMP:20260421T181830
CREATED:20240924T134235Z
LAST-MODIFIED:20240924T134235Z
UID:10001954-1734881400-1734892200@rmhctriangle.org
SUMMARY:Love All Serve All
DESCRIPTION:
URL:https://rmhctriangle.org/family-event/love-all-serve-all-7/
CATEGORIES:Chapel Hill Meals
END:VEVENT
BEGIN:VEVENT
DTSTART;TZID=America/New_York:20241222T170000
DTEND;TZID=America/New_York:20241222T170000
DTSTAMP:20260421T181830
CREATED:20241125T154015Z
LAST-MODIFIED:20241125T154015Z
UID:10002055-1734886800-1734886800@rmhctriangle.org
SUMMARY:Gray Family & Friends
DESCRIPTION:
URL:https://rmhctriangle.org/family-event/gray-family-friends/
CATEGORIES:Durham Meals
END:VEVENT
END:VCALENDAR