BEGIN:VCALENDAR
VERSION:2.0
PRODID:-//Ronald McDonald House Charities of the Triangle - ECPv6.15.17.1//NONSGML v1.0//EN
CALSCALE:GREGORIAN
METHOD:PUBLISH
X-WR-CALNAME:Ronald McDonald House Charities of the Triangle
X-ORIGINAL-URL:https://rmhctriangle.org
X-WR-CALDESC:Events for Ronald McDonald House Charities of the Triangle
REFRESH-INTERVAL;VALUE=DURATION:PT1H
X-Robots-Tag:noindex
X-PUBLISHED-TTL:PT1H
BEGIN:VTIMEZONE
TZID:America/New_York
BEGIN:DAYLIGHT
TZOFFSETFROM:-0500
TZOFFSETTO:-0400
TZNAME:EDT
DTSTART:20230312T070000
END:DAYLIGHT
BEGIN:STANDARD
TZOFFSETFROM:-0400
TZOFFSETTO:-0500
TZNAME:EST
DTSTART:20231105T060000
END:STANDARD
BEGIN:DAYLIGHT
TZOFFSETFROM:-0500
TZOFFSETTO:-0400
TZNAME:EDT
DTSTART:20240310T070000
END:DAYLIGHT
BEGIN:STANDARD
TZOFFSETFROM:-0400
TZOFFSETTO:-0500
TZNAME:EST
DTSTART:20241103T060000
END:STANDARD
BEGIN:DAYLIGHT
TZOFFSETFROM:-0500
TZOFFSETTO:-0400
TZNAME:EDT
DTSTART:20250309T070000
END:DAYLIGHT
BEGIN:STANDARD
TZOFFSETFROM:-0400
TZOFFSETTO:-0500
TZNAME:EST
DTSTART:20251102T060000
END:STANDARD
END:VTIMEZONE
BEGIN:VEVENT
DTSTART;TZID=America/New_York:20241029T153000
DTEND;TZID=America/New_York:20241029T183000
DTSTAMP:20260424T180633
CREATED:20240809T125852Z
LAST-MODIFIED:20240809T125852Z
UID:10001880-1730215800-1730226600@rmhctriangle.org
SUMMARY:American Association of Public Health Dentists
DESCRIPTION:
URL:https://rmhctriangle.org/family-event/american-association-of-public-health-dentists/
CATEGORIES:Chapel Hill Meals
END:VEVENT
BEGIN:VEVENT
DTSTART;TZID=America/New_York:20241029T170000
DTEND;TZID=America/New_York:20241029T173000
DTSTAMP:20260424T180633
CREATED:20240905T195034Z
LAST-MODIFIED:20241111T162942Z
UID:10001934-1730221200-1730223000@rmhctriangle.org
SUMMARY:Pre-Health Post-Baccalaureate Program at Meredith College
DESCRIPTION:
URL:https://rmhctriangle.org/family-event/pre-health-post-baccalaureate-program-at-meredith-college/2024-10-29/
CATEGORIES:Durham Meals
END:VEVENT
BEGIN:VEVENT
DTSTART;TZID=America/New_York:20241030T153000
DTEND;TZID=America/New_York:20241030T183000
DTSTAMP:20260424T180633
CREATED:20240824T123412Z
LAST-MODIFIED:20240824T123412Z
UID:10001907-1730302200-1730313000@rmhctriangle.org
SUMMARY:Business Cares Club
DESCRIPTION:
URL:https://rmhctriangle.org/family-event/business-cares-club/
CATEGORIES:Chapel Hill Meals
END:VEVENT
BEGIN:VEVENT
DTSTART;TZID=America/New_York:20241030T170000
DTEND;TZID=America/New_York:20241030T173000
DTSTAMP:20260424T180633
CREATED:20230814T173435Z
LAST-MODIFIED:20240320T145845Z
UID:10001662-1730307600-1730309400@rmhctriangle.org
SUMMARY:Abundant Hope
DESCRIPTION:
URL:https://rmhctriangle.org/family-event/abundant-hope-3/2024-10-30/
CATEGORIES:Durham Meals
END:VEVENT
BEGIN:VEVENT
DTSTART;TZID=America/New_York:20241031T170000
DTEND;TZID=America/New_York:20241031T173000
DTSTAMP:20260424T180633
CREATED:20241007T125113Z
LAST-MODIFIED:20241007T125113Z
UID:10001966-1730394000-1730395800@rmhctriangle.org
SUMMARY:Friends of RMH
DESCRIPTION:
URL:https://rmhctriangle.org/family-event/friends-of-rmh/
CATEGORIES:Durham Meals
END:VEVENT
BEGIN:VEVENT
DTSTART;TZID=America/New_York:20241101T170000
DTEND;TZID=America/New_York:20241101T173000
DTSTAMP:20260424T180633
CREATED:20240916T155642Z
LAST-MODIFIED:20240916T155642Z
UID:10001944-1730480400-1730482200@rmhctriangle.org
SUMMARY:NCSU ADPi
DESCRIPTION:
URL:https://rmhctriangle.org/family-event/ncsu-adpi-4/2024-11-01/
CATEGORIES:Durham Meals
END:VEVENT
BEGIN:VEVENT
DTSTART;TZID=America/New_York:20241101T173000
DTEND;TZID=America/New_York:20241101T190000
DTSTAMP:20260424T180633
CREATED:20230713T181540Z
LAST-MODIFIED:20230713T181540Z
UID:10000086-1730482200-1730487600@rmhctriangle.org
SUMMARY:Domino's
DESCRIPTION:
URL:https://rmhctriangle.org/family-event/dominos/2024-11-01/
CATEGORIES:Chapel Hill Meals
END:VEVENT
BEGIN:VEVENT
DTSTART;TZID=America/New_York:20241102T170000
DTEND;TZID=America/New_York:20241102T173000
DTSTAMP:20260424T180633
CREATED:20240116T165944Z
LAST-MODIFIED:20240215T172037Z
UID:10001528-1730566800-1730568600@rmhctriangle.org
SUMMARY:Zakat Foundation
DESCRIPTION:
URL:https://rmhctriangle.org/family-event/zakat-foundation-21/2024-11-02/
CATEGORIES:Durham Meals
END:VEVENT
BEGIN:VEVENT
DTSTART;TZID=America/New_York:20241102T173000
DTEND;TZID=America/New_York:20241102T190000
DTSTAMP:20260424T180633
CREATED:20240105T155645Z
LAST-MODIFIED:20240105T155645Z
UID:10001449-1730568600-1730574000@rmhctriangle.org
SUMMARY:St. Thomas More
DESCRIPTION:
URL:https://rmhctriangle.org/family-event/st-thomas-more-8/2024-11-02/
CATEGORIES:Chapel Hill Meals
END:VEVENT
BEGIN:VEVENT
DTSTART;TZID=America/New_York:20241103T163000
DTEND;TZID=America/New_York:20241103T183000
DTSTAMP:20260424T180633
CREATED:20240712T161022Z
LAST-MODIFIED:20240712T161022Z
UID:10001841-1730651400-1730658600@rmhctriangle.org
SUMMARY:Cary Page Rotary
DESCRIPTION:
URL:https://rmhctriangle.org/family-event/cary-page-rotary-4/
CATEGORIES:Chapel Hill Meals
END:VEVENT
BEGIN:VEVENT
DTSTART;TZID=America/New_York:20241103T170000
DTEND;TZID=America/New_York:20241103T173000
DTSTAMP:20260424T180633
CREATED:20241003T184135Z
LAST-MODIFIED:20241003T184135Z
UID:10001962-1730653200-1730655000@rmhctriangle.org
SUMMARY:Alpha Zeta Omega Chapter of Alpha Kappa Alpha Sorority\, Inc.
DESCRIPTION:
URL:https://rmhctriangle.org/family-event/alpha-zeta-omega-chapter-of-alpha-kappa-alpha-sorority-inc/2024-11-03/
CATEGORIES:Durham Meals
END:VEVENT
BEGIN:VEVENT
DTSTART;TZID=America/New_York:20241104T170000
DTEND;TZID=America/New_York:20241104T173000
DTSTAMP:20260424T180633
CREATED:20240830T192336Z
LAST-MODIFIED:20240830T192336Z
UID:10001929-1730739600-1730741400@rmhctriangle.org
SUMMARY:Bodwin Realty Group
DESCRIPTION:
URL:https://rmhctriangle.org/family-event/bodwin-realty-group/
CATEGORIES:Durham Meals
END:VEVENT
BEGIN:VEVENT
DTSTART;TZID=America/New_York:20241104T173000
DTEND;TZID=America/New_York:20241104T190000
DTSTAMP:20260424T180633
CREATED:20230713T185113Z
LAST-MODIFIED:20230713T185113Z
UID:10000379-1730741400-1730746800@rmhctriangle.org
SUMMARY:McDonald's
DESCRIPTION:
URL:https://rmhctriangle.org/family-event/mcdonalds-2/2024-11-04/
CATEGORIES:Chapel Hill Meals
END:VEVENT
BEGIN:VEVENT
DTSTART;TZID=America/New_York:20241105T170000
DTEND;TZID=America/New_York:20241105T173000
DTSTAMP:20260424T180633
CREATED:20240916T155642Z
LAST-MODIFIED:20240916T155642Z
UID:10001945-1730826000-1730827800@rmhctriangle.org
SUMMARY:NCSU ADPi
DESCRIPTION:
URL:https://rmhctriangle.org/family-event/ncsu-adpi-4/2024-11-05/
CATEGORIES:Durham Meals
END:VEVENT
BEGIN:VEVENT
DTSTART;TZID=America/New_York:20241105T173000
DTEND;TZID=America/New_York:20241105T190000
DTSTAMP:20260424T180633
CREATED:20230713T185449Z
LAST-MODIFIED:20230713T185449Z
UID:10000606-1730827800-1730833200@rmhctriangle.org
SUMMARY:Barbara & Jean
DESCRIPTION:
URL:https://rmhctriangle.org/family-event/barbara-jean/2024-11-05/
CATEGORIES:Chapel Hill Meals
END:VEVENT
BEGIN:VEVENT
DTSTART;TZID=America/New_York:20241106T153000
DTEND;TZID=America/New_York:20241106T183000
DTSTAMP:20260424T180633
CREATED:20240809T171727Z
LAST-MODIFIED:20240809T171727Z
UID:10001881-1730907000-1730917800@rmhctriangle.org
SUMMARY:Cadence Garner Senior Living Community
DESCRIPTION:
URL:https://rmhctriangle.org/family-event/cadence-garner-senior-living-community/
CATEGORIES:Chapel Hill Meals
END:VEVENT
BEGIN:VEVENT
DTSTART;TZID=America/New_York:20241106T170000
DTEND;TZID=America/New_York:20241106T173000
DTSTAMP:20260424T180633
CREATED:20240611T174655Z
LAST-MODIFIED:20240611T174752Z
UID:10001775-1730912400-1730914200@rmhctriangle.org
SUMMARY:Vertical IQ Customer Success Team
DESCRIPTION:
URL:https://rmhctriangle.org/family-event/vertical-iq-customer-success-team/
CATEGORIES:Durham Meals
END:VEVENT
BEGIN:VEVENT
DTSTART;TZID=America/New_York:20241107T163000
DTEND;TZID=America/New_York:20241107T183000
DTSTAMP:20260424T180633
CREATED:20240712T172123Z
LAST-MODIFIED:20240712T172123Z
UID:10001843-1730997000-1731004200@rmhctriangle.org
SUMMARY:Chapel Hill Rotary
DESCRIPTION:
URL:https://rmhctriangle.org/family-event/chapel-hill-rotary-7/
CATEGORIES:Chapel Hill Meals
END:VEVENT
BEGIN:VEVENT
DTSTART;TZID=America/New_York:20241107T170000
DTEND;TZID=America/New_York:20241107T173000
DTSTAMP:20260424T180633
CREATED:20230814T175818Z
LAST-MODIFIED:20240214T171455Z
UID:10001600-1730998800-1731000600@rmhctriangle.org
SUMMARY:Notre Dame Women's Group
DESCRIPTION:
URL:https://rmhctriangle.org/family-event/notre-dame-womens-group-2/2024-11-07/
CATEGORIES:Durham Meals
END:VEVENT
BEGIN:VEVENT
DTSTART;TZID=America/New_York:20241108T170000
DTEND;TZID=America/New_York:20241108T173000
DTSTAMP:20260424T180633
CREATED:20240916T155642Z
LAST-MODIFIED:20240916T155642Z
UID:10001946-1731085200-1731087000@rmhctriangle.org
SUMMARY:NCSU ADPi
DESCRIPTION:
URL:https://rmhctriangle.org/family-event/ncsu-adpi-4/2024-11-08/
CATEGORIES:Durham Meals
END:VEVENT
BEGIN:VEVENT
DTSTART;TZID=America/New_York:20241108T173000
DTEND;TZID=America/New_York:20241108T190000
DTSTAMP:20260424T180633
CREATED:20230713T181540Z
LAST-MODIFIED:20230713T181540Z
UID:10000087-1731087000-1731092400@rmhctriangle.org
SUMMARY:Domino's
DESCRIPTION:
URL:https://rmhctriangle.org/family-event/dominos/2024-11-08/
CATEGORIES:Chapel Hill Meals
END:VEVENT
BEGIN:VEVENT
DTSTART;TZID=America/New_York:20241109T163000
DTEND;TZID=America/New_York:20241109T183000
DTSTAMP:20260424T180633
CREATED:20240722T141331Z
LAST-MODIFIED:20240722T141331Z
UID:10001855-1731169800-1731177000@rmhctriangle.org
SUMMARY:Bella Females
DESCRIPTION:
URL:https://rmhctriangle.org/family-event/bella-females/
CATEGORIES:Chapel Hill Meals
END:VEVENT
BEGIN:VEVENT
DTSTART;TZID=America/New_York:20241109T170000
DTEND;TZID=America/New_York:20241109T173000
DTSTAMP:20260424T180633
CREATED:20240711T163242Z
LAST-MODIFIED:20240711T163242Z
UID:10001836-1731171600-1731173400@rmhctriangle.org
SUMMARY:Kingdom Life Manifested Ministries
DESCRIPTION:
URL:https://rmhctriangle.org/family-event/kingdom-life-manifested-ministries/2024-11-09/
CATEGORIES:Durham Meals
END:VEVENT
BEGIN:VEVENT
DTSTART;TZID=America/New_York:20241110T163000
DTEND;TZID=America/New_York:20241110T183000
DTSTAMP:20260424T180633
CREATED:20240702T190650Z
LAST-MODIFIED:20240702T190650Z
UID:10001809-1731256200-1731263400@rmhctriangle.org
SUMMARY:NCL
DESCRIPTION:
URL:https://rmhctriangle.org/family-event/ncl-4/
CATEGORIES:Chapel Hill Meals
END:VEVENT
BEGIN:VEVENT
DTSTART;TZID=America/New_York:20241110T170000
DTEND;TZID=America/New_York:20241110T173000
DTSTAMP:20260424T180633
CREATED:20240814T141913Z
LAST-MODIFIED:20240814T141920Z
UID:10001888-1731258000-1731259800@rmhctriangle.org
SUMMARY:Wakefield UMC
DESCRIPTION:
URL:https://rmhctriangle.org/family-event/wakefield/
CATEGORIES:Durham Meals
END:VEVENT
BEGIN:VEVENT
DTSTART;TZID=America/New_York:20241111T170000
DTEND;TZID=America/New_York:20241111T173000
DTSTAMP:20260424T180633
CREATED:20240917T182035Z
LAST-MODIFIED:20240917T182035Z
UID:10001948-1731344400-1731346200@rmhctriangle.org
SUMMARY:Smith Anderson Law
DESCRIPTION:
URL:https://rmhctriangle.org/family-event/smith-anderson-law/
CATEGORIES:Durham Meals
END:VEVENT
BEGIN:VEVENT
DTSTART;TZID=America/New_York:20241111T173000
DTEND;TZID=America/New_York:20241111T190000
DTSTAMP:20260424T180633
CREATED:20230713T185113Z
LAST-MODIFIED:20230713T185113Z
UID:10000380-1731346200-1731351600@rmhctriangle.org
SUMMARY:McDonald's
DESCRIPTION:
URL:https://rmhctriangle.org/family-event/mcdonalds-2/2024-11-11/
CATEGORIES:Chapel Hill Meals
END:VEVENT
BEGIN:VEVENT
DTSTART;TZID=America/New_York:20241112T153000
DTEND;TZID=America/New_York:20241112T183000
DTSTAMP:20260424T180633
CREATED:20240807T182942Z
LAST-MODIFIED:20240807T182942Z
UID:10001872-1731425400-1731436200@rmhctriangle.org
SUMMARY:CFTK
DESCRIPTION:
URL:https://rmhctriangle.org/family-event/cftk-6/
CATEGORIES:Chapel Hill Meals
END:VEVENT
BEGIN:VEVENT
DTSTART;TZID=America/New_York:20241112T170000
DTEND;TZID=America/New_York:20241112T173000
DTSTAMP:20260424T180633
CREATED:20240730T181105Z
LAST-MODIFIED:20240730T181105Z
UID:10001866-1731430800-1731432600@rmhctriangle.org
SUMMARY:Immanuel Temple
DESCRIPTION:
URL:https://rmhctriangle.org/family-event/immanuel-temple/
CATEGORIES:Durham Meals
END:VEVENT
BEGIN:VEVENT
DTSTART;TZID=America/New_York:20241113T163000
DTEND;TZID=America/New_York:20241113T183000
DTSTAMP:20260424T180633
CREATED:20240724T121842Z
LAST-MODIFIED:20240724T121842Z
UID:10001860-1731515400-1731522600@rmhctriangle.org
SUMMARY:UNC AED
DESCRIPTION:
URL:https://rmhctriangle.org/family-event/unc-aed-8/
CATEGORIES:Chapel Hill Meals
END:VEVENT
END:VCALENDAR