BEGIN:VCALENDAR
VERSION:2.0
PRODID:-//Ronald McDonald House Charities of the Triangle - ECPv6.15.17.1//NONSGML v1.0//EN
CALSCALE:GREGORIAN
METHOD:PUBLISH
X-WR-CALNAME:Ronald McDonald House Charities of the Triangle
X-ORIGINAL-URL:https://rmhctriangle.org
X-WR-CALDESC:Events for Ronald McDonald House Charities of the Triangle
REFRESH-INTERVAL;VALUE=DURATION:PT1H
X-Robots-Tag:noindex
X-PUBLISHED-TTL:PT1H
BEGIN:VTIMEZONE
TZID:America/New_York
BEGIN:DAYLIGHT
TZOFFSETFROM:-0500
TZOFFSETTO:-0400
TZNAME:EDT
DTSTART:20230312T070000
END:DAYLIGHT
BEGIN:STANDARD
TZOFFSETFROM:-0400
TZOFFSETTO:-0500
TZNAME:EST
DTSTART:20231105T060000
END:STANDARD
BEGIN:DAYLIGHT
TZOFFSETFROM:-0500
TZOFFSETTO:-0400
TZNAME:EDT
DTSTART:20240310T070000
END:DAYLIGHT
BEGIN:STANDARD
TZOFFSETFROM:-0400
TZOFFSETTO:-0500
TZNAME:EST
DTSTART:20241103T060000
END:STANDARD
BEGIN:DAYLIGHT
TZOFFSETFROM:-0500
TZOFFSETTO:-0400
TZNAME:EDT
DTSTART:20250309T070000
END:DAYLIGHT
BEGIN:STANDARD
TZOFFSETFROM:-0400
TZOFFSETTO:-0500
TZNAME:EST
DTSTART:20251102T060000
END:STANDARD
END:VTIMEZONE
BEGIN:VEVENT
DTSTART;TZID=America/New_York:20240301T170000
DTEND;TZID=America/New_York:20240301T173000
DTSTAMP:20260420T033855
CREATED:20231204T193729Z
LAST-MODIFIED:20240301T212457Z
UID:10001343-1709312400-1709314200@rmhctriangle.org
SUMMARY:Debbie Perrigo
DESCRIPTION:
URL:https://rmhctriangle.org/family-event/debbie-perrigo-2/2024-03-01/
CATEGORIES:Durham Meals
END:VEVENT
BEGIN:VEVENT
DTSTART;TZID=America/New_York:20240301T173000
DTEND;TZID=America/New_York:20240301T190000
DTSTAMP:20260420T033855
CREATED:20230713T181540Z
LAST-MODIFIED:20230713T181540Z
UID:10000051-1709314200-1709319600@rmhctriangle.org
SUMMARY:Domino's
DESCRIPTION:
URL:https://rmhctriangle.org/family-event/dominos/2024-03-01/
CATEGORIES:Chapel Hill Meals
END:VEVENT
BEGIN:VEVENT
DTSTART;TZID=America/New_York:20240302T170000
DTEND;TZID=America/New_York:20240302T173000
DTSTAMP:20260420T033855
CREATED:20240116T165944Z
LAST-MODIFIED:20240215T172037Z
UID:10001520-1709398800-1709400600@rmhctriangle.org
SUMMARY:Zakat Foundation
DESCRIPTION:
URL:https://rmhctriangle.org/family-event/zakat-foundation-21/2024-03-02/
CATEGORIES:Durham Meals
END:VEVENT
BEGIN:VEVENT
DTSTART;TZID=America/New_York:20240302T173000
DTEND;TZID=America/New_York:20240302T190000
DTSTAMP:20260420T033855
CREATED:20240105T155645Z
LAST-MODIFIED:20240105T155645Z
UID:10001441-1709400600-1709406000@rmhctriangle.org
SUMMARY:St. Thomas More
DESCRIPTION:
URL:https://rmhctriangle.org/family-event/st-thomas-more-8/2024-03-02/
CATEGORIES:Chapel Hill Meals
END:VEVENT
BEGIN:VEVENT
DTSTART;TZID=America/New_York:20240303T170000
DTEND;TZID=America/New_York:20240303T173000
DTSTAMP:20260420T033855
CREATED:20231204T171807Z
LAST-MODIFIED:20240216T204051Z
UID:10001341-1709485200-1709487000@rmhctriangle.org
SUMMARY:Wakefield United
DESCRIPTION:
URL:https://rmhctriangle.org/family-event/wakefield-united-2/2024-03-03/
CATEGORIES:Durham Meals
END:VEVENT
BEGIN:VEVENT
DTSTART;TZID=America/New_York:20240303T173000
DTEND;TZID=America/New_York:20240303T190000
DTSTAMP:20260420T033855
CREATED:20240105T155810Z
LAST-MODIFIED:20240105T155810Z
UID:10001500-1709487000-1709492400@rmhctriangle.org
SUMMARY:CFTK
DESCRIPTION:
URL:https://rmhctriangle.org/family-event/cftk-4/
CATEGORIES:Chapel Hill Meals
END:VEVENT
BEGIN:VEVENT
DTSTART;TZID=America/New_York:20240304T170000
DTEND;TZID=America/New_York:20240304T173000
DTSTAMP:20260420T033855
CREATED:20240227T204427Z
LAST-MODIFIED:20240227T204427Z
UID:10001632-1709571600-1709573400@rmhctriangle.org
SUMMARY:NCSU Give Kids the World
DESCRIPTION:
URL:https://rmhctriangle.org/family-event/ncsu-give-kids-the-world/
CATEGORIES:Durham Meals
END:VEVENT
BEGIN:VEVENT
DTSTART;TZID=America/New_York:20240304T173000
DTEND;TZID=America/New_York:20240304T190000
DTSTAMP:20260420T033855
CREATED:20230713T185113Z
LAST-MODIFIED:20230713T185113Z
UID:10000344-1709573400-1709578800@rmhctriangle.org
SUMMARY:McDonald's
DESCRIPTION:
URL:https://rmhctriangle.org/family-event/mcdonalds-2/2024-03-04/
CATEGORIES:Chapel Hill Meals
END:VEVENT
BEGIN:VEVENT
DTSTART;TZID=America/New_York:20240305T170000
DTEND;TZID=America/New_York:20240305T173000
DTSTAMP:20260420T033855
CREATED:20240221T152952Z
LAST-MODIFIED:20240221T152952Z
UID:10001618-1709658000-1709659800@rmhctriangle.org
SUMMARY:The Welburn Organization
DESCRIPTION:
URL:https://rmhctriangle.org/family-event/the-welburn-organization/
CATEGORIES:Durham Meals
END:VEVENT
BEGIN:VEVENT
DTSTART;TZID=America/New_York:20240305T170000
DTEND;TZID=America/New_York:20240305T180000
DTSTAMP:20260420T033855
CREATED:20240115T233307Z
LAST-MODIFIED:20240115T233307Z
UID:10001511-1709658000-1709661600@rmhctriangle.org
SUMMARY:Business Cares Club Kenan-Flagler
DESCRIPTION:Business Cares Club at Kenan-Flagler \n2/21 \n3/5 \n3/19 \n4/2 \n4/16
URL:https://rmhctriangle.org/family-event/business-cares-club-kenan-flagler/2024-03-05/
CATEGORIES:Chapel Hill Meals
END:VEVENT
BEGIN:VEVENT
DTSTART;TZID=America/New_York:20240306T170000
DTEND;TZID=America/New_York:20240306T173000
DTSTAMP:20260420T033855
CREATED:20230814T163147Z
LAST-MODIFIED:20240718T200203Z
UID:10001573-1709744400-1709746200@rmhctriangle.org
SUMMARY:Couch Oil
DESCRIPTION:
URL:https://rmhctriangle.org/family-event/couch-oil/2024-03-06/
CATEGORIES:Durham Meals
END:VEVENT
BEGIN:VEVENT
DTSTART;TZID=America/New_York:20240306T170000
DTEND;TZID=America/New_York:20240306T180000
DTSTAMP:20260420T033855
CREATED:20240117T145610Z
LAST-MODIFIED:20240117T145610Z
UID:10001532-1709744400-1709748000@rmhctriangle.org
SUMMARY:Sentinelra
DESCRIPTION:
URL:https://rmhctriangle.org/family-event/sentinelra/
CATEGORIES:Chapel Hill Meals
END:VEVENT
BEGIN:VEVENT
DTSTART;TZID=America/New_York:20240307T170000
DTEND;TZID=America/New_York:20240307T173000
DTSTAMP:20260420T033855
CREATED:20240213T172511Z
LAST-MODIFIED:20240213T172511Z
UID:10001593-1709830800-1709832600@rmhctriangle.org
SUMMARY:Choate
DESCRIPTION:
URL:https://rmhctriangle.org/family-event/choate/
CATEGORIES:Durham Meals
END:VEVENT
BEGIN:VEVENT
DTSTART;TZID=America/New_York:20240308T170000
DTEND;TZID=America/New_York:20240308T173000
DTSTAMP:20260420T033855
CREATED:20240212T194829Z
LAST-MODIFIED:20240212T194856Z
UID:10001585-1709917200-1709919000@rmhctriangle.org
SUMMARY:Northwestern Mutual
DESCRIPTION:
URL:https://rmhctriangle.org/family-event/northwestern-mutual/
CATEGORIES:Durham Meals
END:VEVENT
BEGIN:VEVENT
DTSTART;TZID=America/New_York:20240308T173000
DTEND;TZID=America/New_York:20240308T190000
DTSTAMP:20260420T033855
CREATED:20230713T181540Z
LAST-MODIFIED:20230713T181540Z
UID:10000052-1709919000-1709924400@rmhctriangle.org
SUMMARY:Domino's
DESCRIPTION:
URL:https://rmhctriangle.org/family-event/dominos/2024-03-08/
CATEGORIES:Chapel Hill Meals
END:VEVENT
BEGIN:VEVENT
DTSTART;TZID=America/New_York:20240309T170000
DTEND;TZID=America/New_York:20240309T173000
DTSTAMP:20260420T033855
CREATED:20240116T212031Z
LAST-MODIFIED:20240212T195139Z
UID:10001586-1710003600-1710005400@rmhctriangle.org
SUMMARY:Lucas Middle Jr. Honors Society
DESCRIPTION:
URL:https://rmhctriangle.org/family-event/lucas-middle-jr-honors-society/2024-03-09/
CATEGORIES:Durham Meals
END:VEVENT
BEGIN:VEVENT
DTSTART;TZID=America/New_York:20240309T173000
DTEND;TZID=America/New_York:20240309T190000
DTSTAMP:20260420T033855
CREATED:20240105T155739Z
LAST-MODIFIED:20240105T155739Z
UID:10001499-1710005400-1710010800@rmhctriangle.org
SUMMARY:NCL Lily
DESCRIPTION:
URL:https://rmhctriangle.org/family-event/ncl-lily-7/
CATEGORIES:Chapel Hill Meals
END:VEVENT
BEGIN:VEVENT
DTSTART;TZID=America/New_York:20240310T170000
DTEND;TZID=America/New_York:20240310T173000
DTSTAMP:20260420T033855
CREATED:20231228T165701Z
LAST-MODIFIED:20240111T174507Z
UID:10001411-1710090000-1710091800@rmhctriangle.org
SUMMARY:Michigan Triangle Alumni
DESCRIPTION:
URL:https://rmhctriangle.org/family-event/michigan-triangle-alumni/
CATEGORIES:Durham Meals
END:VEVENT
BEGIN:VEVENT
DTSTART;TZID=America/New_York:20240310T173000
DTEND;TZID=America/New_York:20240310T190000
DTSTAMP:20260420T033855
CREATED:20240130T203708Z
LAST-MODIFIED:20240130T204235Z
UID:10001553-1710091800-1710097200@rmhctriangle.org
SUMMARY:UNC Pediatric Pharmacy Association
DESCRIPTION:
URL:https://rmhctriangle.org/family-event/unc-pediatric-pharmacy-association/
CATEGORIES:Chapel Hill Meals
END:VEVENT
BEGIN:VEVENT
DTSTART;TZID=America/New_York:20240311T170000
DTEND;TZID=America/New_York:20240311T173000
DTSTAMP:20260420T033855
CREATED:20240214T144145Z
LAST-MODIFIED:20240216T150615Z
UID:10001597-1710176400-1710178200@rmhctriangle.org
SUMMARY:Endeavor Charter School PTA
DESCRIPTION:
URL:https://rmhctriangle.org/family-event/pta/
CATEGORIES:Durham Meals
END:VEVENT
BEGIN:VEVENT
DTSTART;TZID=America/New_York:20240311T173000
DTEND;TZID=America/New_York:20240311T190000
DTSTAMP:20260420T033855
CREATED:20230713T185113Z
LAST-MODIFIED:20230713T185113Z
UID:10000345-1710178200-1710183600@rmhctriangle.org
SUMMARY:McDonald's
DESCRIPTION:
URL:https://rmhctriangle.org/family-event/mcdonalds-2/2024-03-11/
CATEGORIES:Chapel Hill Meals
END:VEVENT
BEGIN:VEVENT
DTSTART;TZID=America/New_York:20240312T170000
DTEND;TZID=America/New_York:20240312T173000
DTSTAMP:20260420T033855
CREATED:20240201T163440Z
LAST-MODIFIED:20240328T185916Z
UID:10001559-1710262800-1710264600@rmhctriangle.org
SUMMARY:Duke PA Program
DESCRIPTION:
URL:https://rmhctriangle.org/family-event/duke-pa-program/2024-03-12/
CATEGORIES:Durham Meals
END:VEVENT
BEGIN:VEVENT
DTSTART;TZID=America/New_York:20240312T173000
DTEND;TZID=America/New_York:20240312T190000
DTSTAMP:20260420T033855
CREATED:20230713T185449Z
LAST-MODIFIED:20230713T185449Z
UID:10000589-1710264600-1710270000@rmhctriangle.org
SUMMARY:Barbara & Jean
DESCRIPTION:
URL:https://rmhctriangle.org/family-event/barbara-jean/2024-03-12/
CATEGORIES:Chapel Hill Meals
END:VEVENT
BEGIN:VEVENT
DTSTART;TZID=America/New_York:20240313T170000
DTEND;TZID=America/New_York:20240313T173000
DTSTAMP:20260420T033855
CREATED:20230814T164925Z
LAST-MODIFIED:20240227T221345Z
UID:10001554-1710349200-1710351000@rmhctriangle.org
SUMMARY:Guerbet
DESCRIPTION:
URL:https://rmhctriangle.org/family-event/guerbet-2/2024-03-13/
CATEGORIES:Durham Meals
END:VEVENT
BEGIN:VEVENT
DTSTART;TZID=America/New_York:20240313T170000
DTEND;TZID=America/New_York:20240313T173000
DTSTAMP:20260420T033855
CREATED:20240118T024850Z
LAST-MODIFIED:20240118T024850Z
UID:10001534-1710349200-1710351000@rmhctriangle.org
SUMMARY:Red Shoe Crew
DESCRIPTION:Cara Greening
URL:https://rmhctriangle.org/family-event/red-shoe-crew-3/
CATEGORIES:Chapel Hill Meals
END:VEVENT
BEGIN:VEVENT
DTSTART;TZID=America/New_York:20240314T170000
DTEND;TZID=America/New_York:20240314T173000
DTSTAMP:20260420T033855
CREATED:20240301T212305Z
LAST-MODIFIED:20240301T212305Z
UID:10001649-1710435600-1710437400@rmhctriangle.org
SUMMARY:Amazon
DESCRIPTION:
URL:https://rmhctriangle.org/family-event/amazon/
CATEGORIES:Durham Meals
END:VEVENT
BEGIN:VEVENT
DTSTART;TZID=America/New_York:20240314T173000
DTEND;TZID=America/New_York:20240314T190000
DTSTAMP:20260420T033855
CREATED:20240102T203645Z
LAST-MODIFIED:20240102T203645Z
UID:10001426-1710437400-1710442800@rmhctriangle.org
SUMMARY:UNC TABS
DESCRIPTION:
URL:https://rmhctriangle.org/family-event/unc-tabs-2/
CATEGORIES:Chapel Hill Meals
END:VEVENT
BEGIN:VEVENT
DTSTART;TZID=America/New_York:20240315T170000
DTEND;TZID=America/New_York:20240315T173000
DTSTAMP:20260420T033855
CREATED:20240220T204527Z
LAST-MODIFIED:20240220T204527Z
UID:10001616-1710522000-1710523800@rmhctriangle.org
SUMMARY:Middle Creek High National Honors Society
DESCRIPTION:
URL:https://rmhctriangle.org/family-event/middle-creek-high-national-honors-society/2024-03-15/
CATEGORIES:Durham Meals
END:VEVENT
BEGIN:VEVENT
DTSTART;TZID=America/New_York:20240315T173000
DTEND;TZID=America/New_York:20240315T190000
DTSTAMP:20260420T033855
CREATED:20230713T181540Z
LAST-MODIFIED:20230713T181540Z
UID:10000053-1710523800-1710529200@rmhctriangle.org
SUMMARY:Domino's
DESCRIPTION:
URL:https://rmhctriangle.org/family-event/dominos/2024-03-15/
CATEGORIES:Chapel Hill Meals
END:VEVENT
BEGIN:VEVENT
DTSTART;TZID=America/New_York:20240316T170000
DTEND;TZID=America/New_York:20240316T173000
DTSTAMP:20260420T033855
CREATED:20240208T201346Z
LAST-MODIFIED:20240208T203101Z
UID:10001572-1710608400-1710610200@rmhctriangle.org
SUMMARY:Shady Grove United Methodist Church
DESCRIPTION:
URL:https://rmhctriangle.org/family-event/donna-anderson-group/
CATEGORIES:Durham Meals
END:VEVENT
END:VCALENDAR