BEGIN:VCALENDAR
VERSION:2.0
PRODID:-//Ronald McDonald House Charities of the Triangle - ECPv6.15.17.1//NONSGML v1.0//EN
CALSCALE:GREGORIAN
METHOD:PUBLISH
X-WR-CALNAME:Ronald McDonald House Charities of the Triangle
X-ORIGINAL-URL:https://rmhctriangle.org
X-WR-CALDESC:Events for Ronald McDonald House Charities of the Triangle
REFRESH-INTERVAL;VALUE=DURATION:PT1H
X-Robots-Tag:noindex
X-PUBLISHED-TTL:PT1H
BEGIN:VTIMEZONE
TZID:America/New_York
BEGIN:DAYLIGHT
TZOFFSETFROM:-0500
TZOFFSETTO:-0400
TZNAME:EDT
DTSTART:20230312T070000
END:DAYLIGHT
BEGIN:STANDARD
TZOFFSETFROM:-0400
TZOFFSETTO:-0500
TZNAME:EST
DTSTART:20231105T060000
END:STANDARD
BEGIN:DAYLIGHT
TZOFFSETFROM:-0500
TZOFFSETTO:-0400
TZNAME:EDT
DTSTART:20240310T070000
END:DAYLIGHT
BEGIN:STANDARD
TZOFFSETFROM:-0400
TZOFFSETTO:-0500
TZNAME:EST
DTSTART:20241103T060000
END:STANDARD
BEGIN:DAYLIGHT
TZOFFSETFROM:-0500
TZOFFSETTO:-0400
TZNAME:EDT
DTSTART:20250309T070000
END:DAYLIGHT
BEGIN:STANDARD
TZOFFSETFROM:-0400
TZOFFSETTO:-0500
TZNAME:EST
DTSTART:20251102T060000
END:STANDARD
END:VTIMEZONE
BEGIN:VEVENT
DTSTART;TZID=America/New_York:20241202T173000
DTEND;TZID=America/New_York:20241202T190000
DTSTAMP:20260423T123852
CREATED:20230713T185113Z
LAST-MODIFIED:20230713T185113Z
UID:10000383-1733160600-1733166000@rmhctriangle.org
SUMMARY:McDonald's
DESCRIPTION:
URL:https://rmhctriangle.org/family-event/mcdonalds-2/2024-12-02/
CATEGORIES:Chapel Hill Meals
END:VEVENT
BEGIN:VEVENT
DTSTART;TZID=America/New_York:20241202T170000
DTEND;TZID=America/New_York:20241202T173000
DTSTAMP:20260423T123852
CREATED:20240917T182003Z
LAST-MODIFIED:20240917T205812Z
UID:10001947-1733158800-1733160600@rmhctriangle.org
SUMMARY:Soul Tenders
DESCRIPTION:
URL:https://rmhctriangle.org/family-event/pilgrim-planning-team/
CATEGORIES:Durham Meals
END:VEVENT
BEGIN:VEVENT
DTSTART;TZID=America/New_York:20241201T170000
DTEND;TZID=America/New_York:20241201T173000
DTSTAMP:20260423T123852
CREATED:20241031T170847Z
LAST-MODIFIED:20241031T170847Z
UID:10001990-1733072400-1733074200@rmhctriangle.org
SUMMARY:Dinner: UNC Hospitals - Hillsborough Campus
DESCRIPTION:
URL:https://rmhctriangle.org/family-event/dinner-unc-hospitals-hillsborough-campus/
CATEGORIES:Durham Meals
END:VEVENT
BEGIN:VEVENT
DTSTART;TZID=America/New_York:20241201T153000
DTEND;TZID=America/New_York:20241201T183000
DTSTAMP:20260423T123852
CREATED:20240826T164116Z
LAST-MODIFIED:20240826T164116Z
UID:10001910-1733067000-1733077800@rmhctriangle.org
SUMMARY:Sheri & Shannon
DESCRIPTION:
URL:https://rmhctriangle.org/family-event/sheri-shannon-3/
CATEGORIES:Chapel Hill Meals
END:VEVENT
BEGIN:VEVENT
DTSTART;TZID=America/New_York:20241130T170000
DTEND;TZID=America/New_York:20241130T173000
DTSTAMP:20260423T123852
CREATED:20241016T191648Z
LAST-MODIFIED:20241016T191648Z
UID:10001979-1732986000-1732987800@rmhctriangle.org
SUMMARY:Evans-Robinson Family
DESCRIPTION:
URL:https://rmhctriangle.org/family-event/evans-robinson-family/
CATEGORIES:Durham Meals
END:VEVENT
BEGIN:VEVENT
DTSTART;TZID=America/New_York:20241130T153000
DTEND;TZID=America/New_York:20241130T183000
DTSTAMP:20260423T123852
CREATED:20240911T123638Z
LAST-MODIFIED:20240911T123638Z
UID:10001941-1732980600-1732991400@rmhctriangle.org
SUMMARY:Super Joey Foundation
DESCRIPTION:
URL:https://rmhctriangle.org/family-event/super-joey-foundation-4/
CATEGORIES:Chapel Hill Meals
END:VEVENT
BEGIN:VEVENT
DTSTART;TZID=America/New_York:20241129T173000
DTEND;TZID=America/New_York:20241129T190000
DTSTAMP:20260423T123852
CREATED:20230713T181540Z
LAST-MODIFIED:20230713T181540Z
UID:10000090-1732901400-1732906800@rmhctriangle.org
SUMMARY:Domino's
DESCRIPTION:
URL:https://rmhctriangle.org/family-event/dominos/2024-11-29/
CATEGORIES:Chapel Hill Meals
END:VEVENT
BEGIN:VEVENT
DTSTART;TZID=America/New_York:20241129T170000
DTEND;TZID=America/New_York:20241129T173000
DTSTAMP:20260423T123852
CREATED:20241111T214453Z
LAST-MODIFIED:20241111T214453Z
UID:10002013-1732899600-1732901400@rmhctriangle.org
SUMMARY:McDonald's
DESCRIPTION:
URL:https://rmhctriangle.org/family-event/mcdonalds-9/2024-11-29/
CATEGORIES:Durham Meals
END:VEVENT
BEGIN:VEVENT
DTSTART;TZID=America/New_York:20241128T173000
DTEND;TZID=America/New_York:20241128T190000
DTSTAMP:20260423T123852
CREATED:20240731T120714Z
LAST-MODIFIED:20240731T120722Z
UID:10001400-1732815000-1732820400@rmhctriangle.org
SUMMARY:Antioch Church
DESCRIPTION:
URL:https://rmhctriangle.org/family-event/antioch-church-6-2/
END:VEVENT
BEGIN:VEVENT
DTSTART;TZID=America/New_York:20241128T170000
DTEND;TZID=America/New_York:20241128T173000
DTSTAMP:20260423T123852
CREATED:20241015T141552Z
LAST-MODIFIED:20241015T141552Z
UID:10001975-1732813200-1732815000@rmhctriangle.org
SUMMARY:Anne and Friends
DESCRIPTION:
URL:https://rmhctriangle.org/family-event/anne-and-friends/
CATEGORIES:Chapel Hill Meals
END:VEVENT
BEGIN:VEVENT
DTSTART;TZID=America/New_York:20241128T170000
DTEND;TZID=America/New_York:20241128T173000
DTSTAMP:20260423T123852
CREATED:20241009T141819Z
LAST-MODIFIED:20241009T141819Z
UID:10001970-1732813200-1732815000@rmhctriangle.org
SUMMARY:Lula and Sadies
DESCRIPTION:
URL:https://rmhctriangle.org/family-event/lula-and-sadies/2024-11-28/
CATEGORIES:Durham Meals
END:VEVENT
BEGIN:VEVENT
DTSTART;TZID=America/New_York:20241127T170000
DTEND;TZID=America/New_York:20241127T173000
DTSTAMP:20260423T123852
CREATED:20241121T202926Z
LAST-MODIFIED:20241121T202926Z
UID:10002049-1732726800-1732728600@rmhctriangle.org
SUMMARY:Hock
DESCRIPTION:
URL:https://rmhctriangle.org/family-event/hock/
CATEGORIES:Durham Meals
END:VEVENT
BEGIN:VEVENT
DTSTART;TZID=America/New_York:20241127T153000
DTEND;TZID=America/New_York:20241127T183000
DTSTAMP:20260423T123852
CREATED:20241028T123302Z
LAST-MODIFIED:20241028T123302Z
UID:10001988-1732721400-1732732200@rmhctriangle.org
SUMMARY:Shannon and Family
DESCRIPTION:
URL:https://rmhctriangle.org/family-event/shannon-and-family/
CATEGORIES:Chapel Hill Meals
END:VEVENT
BEGIN:VEVENT
DTSTART;TZID=America/New_York:20241126T170000
DTEND;TZID=America/New_York:20241126T173000
DTSTAMP:20260423T123852
CREATED:20240918T153040Z
LAST-MODIFIED:20240918T153040Z
UID:10001949-1732640400-1732642200@rmhctriangle.org
SUMMARY:Young Construction Co.
DESCRIPTION:
URL:https://rmhctriangle.org/family-event/young-construction-co/
CATEGORIES:Durham Meals
END:VEVENT
BEGIN:VEVENT
DTSTART;TZID=America/New_York:20241126T163000
DTEND;TZID=America/New_York:20241126T183000
DTSTAMP:20260423T123852
CREATED:20240806T135208Z
LAST-MODIFIED:20240806T135208Z
UID:10001869-1732638600-1732645800@rmhctriangle.org
SUMMARY:UNC PMNR
DESCRIPTION:
URL:https://rmhctriangle.org/family-event/unc-pmnr/
CATEGORIES:Chapel Hill Meals
END:VEVENT
BEGIN:VEVENT
DTSTART;TZID=America/New_York:20241125T173000
DTEND;TZID=America/New_York:20241125T190000
DTSTAMP:20260423T123852
CREATED:20230713T185113Z
LAST-MODIFIED:20230713T185113Z
UID:10000382-1732555800-1732561200@rmhctriangle.org
SUMMARY:McDonald's
DESCRIPTION:
URL:https://rmhctriangle.org/family-event/mcdonalds-2/2024-11-25/
CATEGORIES:Chapel Hill Meals
END:VEVENT
BEGIN:VEVENT
DTSTART;TZID=America/New_York:20241125T080000
DTEND;TZID=America/New_York:20241125T170000
DTSTAMP:20260423T123852
CREATED:20230713T184402Z
LAST-MODIFIED:20230814T180412Z
UID:10000779-1732521600-1732554000@rmhctriangle.org
SUMMARY:Kiwanis Club of the Friendly City
DESCRIPTION:
URL:https://rmhctriangle.org/family-event/kiwanis-club-of-the-friendly-city/2024-11-25/
CATEGORIES:Durham Meals
END:VEVENT
BEGIN:VEVENT
DTSTART;TZID=America/New_York:20241124T173000
DTEND;TZID=America/New_York:20241124T173000
DTSTAMP:20260423T123852
CREATED:20230713T184227Z
LAST-MODIFIED:20250127T201530Z
UID:10000725-1732469400-1732469400@rmhctriangle.org
SUMMARY:TUTA
DESCRIPTION:
URL:https://rmhctriangle.org/family-event/tuta/2024-11-24/
CATEGORIES:Durham Meals
END:VEVENT
BEGIN:VEVENT
DTSTART;TZID=America/New_York:20241124T153000
DTEND;TZID=America/New_York:20241124T183000
DTSTAMP:20260423T123852
CREATED:20240807T183006Z
LAST-MODIFIED:20240807T183006Z
UID:10001873-1732462200-1732473000@rmhctriangle.org
SUMMARY:CFTK
DESCRIPTION:
URL:https://rmhctriangle.org/family-event/cftk-7/
CATEGORIES:Chapel Hill Meals
END:VEVENT
BEGIN:VEVENT
DTSTART;TZID=America/New_York:20241123T170000
DTEND;TZID=America/New_York:20241123T173000
DTSTAMP:20260423T123852
CREATED:20240925T180202Z
LAST-MODIFIED:20240925T180202Z
UID:10001955-1732381200-1732383000@rmhctriangle.org
SUMMARY:D&G Drywall
DESCRIPTION:
URL:https://rmhctriangle.org/family-event/dg-drywall/
CATEGORIES:Durham Meals
END:VEVENT
BEGIN:VEVENT
DTSTART;TZID=America/New_York:20241123T153000
DTEND;TZID=America/New_York:20241123T183000
DTSTAMP:20260423T123852
CREATED:20240603T162311Z
LAST-MODIFIED:20240603T163013Z
UID:10001766-1732375800-1732386600@rmhctriangle.org
SUMMARY:YMSL
DESCRIPTION:
URL:https://rmhctriangle.org/family-event/ymls-3/
CATEGORIES:Chapel Hill Meals
END:VEVENT
BEGIN:VEVENT
DTSTART;TZID=America/New_York:20241122T173000
DTEND;TZID=America/New_York:20241122T190000
DTSTAMP:20260423T123852
CREATED:20230713T181540Z
LAST-MODIFIED:20230713T181540Z
UID:10000089-1732296600-1732302000@rmhctriangle.org
SUMMARY:Domino's
DESCRIPTION:
URL:https://rmhctriangle.org/family-event/dominos/2024-11-22/
CATEGORIES:Chapel Hill Meals
END:VEVENT
BEGIN:VEVENT
DTSTART;TZID=America/New_York:20241122T170000
DTEND;TZID=America/New_York:20241122T173000
DTSTAMP:20260423T123852
CREATED:20241021T160347Z
LAST-MODIFIED:20241021T160347Z
UID:10001982-1732294800-1732296600@rmhctriangle.org
SUMMARY:Shepherd's Angel
DESCRIPTION:
URL:https://rmhctriangle.org/family-event/shepherds-angel-4/2024-11-22/
CATEGORIES:Durham Meals
END:VEVENT
BEGIN:VEVENT
DTSTART;TZID=America/New_York:20241121T173000
DTEND;TZID=America/New_York:20241121T173000
DTSTAMP:20260423T123852
CREATED:20230814T161536Z
LAST-MODIFIED:20231207T154046Z
UID:10001374-1732210200-1732210200@rmhctriangle.org
SUMMARY:Chiesi
DESCRIPTION:
URL:https://rmhctriangle.org/family-event/chiesi-2/2024-11-21/
CATEGORIES:Durham Meals
END:VEVENT
BEGIN:VEVENT
DTSTART;TZID=America/New_York:20241121T153000
DTEND;TZID=America/New_York:20241121T183000
DTSTAMP:20260423T123852
CREATED:20240824T123437Z
LAST-MODIFIED:20240824T123437Z
UID:10001908-1732203000-1732213800@rmhctriangle.org
SUMMARY:UNC Business Cares Club
DESCRIPTION:
URL:https://rmhctriangle.org/family-event/unc-business-cares-club-3/
CATEGORIES:Chapel Hill Meals
END:VEVENT
BEGIN:VEVENT
DTSTART;TZID=America/New_York:20241120T173000
DTEND;TZID=America/New_York:20241120T173000
DTSTAMP:20260423T123852
CREATED:20230814T161409Z
LAST-MODIFIED:20231205T212548Z
UID:10001359-1732123800-1732123800@rmhctriangle.org
SUMMARY:St. Francis of Assisi
DESCRIPTION:
URL:https://rmhctriangle.org/family-event/st-francis-of-assisi-2/2024-11-20/
CATEGORIES:Durham Meals
END:VEVENT
BEGIN:VEVENT
DTSTART;TZID=America/New_York:20241120T153000
DTEND;TZID=America/New_York:20241120T183000
DTSTAMP:20260423T123852
CREATED:20240820T152859Z
LAST-MODIFIED:20240820T152859Z
UID:10001894-1732116600-1732127400@rmhctriangle.org
SUMMARY:T. A. Loving Company
DESCRIPTION:
URL:https://rmhctriangle.org/family-event/t-a-loving-company/
CATEGORIES:Chapel Hill Meals
END:VEVENT
BEGIN:VEVENT
DTSTART;TZID=America/New_York:20241119T173000
DTEND;TZID=America/New_York:20241119T190000
DTSTAMP:20260423T123852
CREATED:20230713T185449Z
LAST-MODIFIED:20230713T185449Z
UID:10000607-1732037400-1732042800@rmhctriangle.org
SUMMARY:Barbara & Jean
DESCRIPTION:
URL:https://rmhctriangle.org/family-event/barbara-jean/2024-11-19/
CATEGORIES:Chapel Hill Meals
END:VEVENT
BEGIN:VEVENT
DTSTART;TZID=America/New_York:20241119T170000
DTEND;TZID=America/New_York:20241119T173000
DTSTAMP:20260423T123852
CREATED:20241111T163011Z
LAST-MODIFIED:20241111T163011Z
UID:10002011-1732035600-1732037400@rmhctriangle.org
SUMMARY:IQVIA
DESCRIPTION:
URL:https://rmhctriangle.org/family-event/iqvia/
CATEGORIES:Durham Meals
END:VEVENT
BEGIN:VEVENT
DTSTART;TZID=America/New_York:20241118T173000
DTEND;TZID=America/New_York:20241118T190000
DTSTAMP:20260423T123852
CREATED:20230713T185113Z
LAST-MODIFIED:20230713T185113Z
UID:10000381-1731951000-1731956400@rmhctriangle.org
SUMMARY:McDonald's
DESCRIPTION:
URL:https://rmhctriangle.org/family-event/mcdonalds-2/2024-11-18/
CATEGORIES:Chapel Hill Meals
END:VEVENT
END:VCALENDAR