BEGIN:VCALENDAR
VERSION:2.0
PRODID:-//Ronald McDonald House Charities of the Triangle - ECPv6.15.17.1//NONSGML v1.0//EN
CALSCALE:GREGORIAN
METHOD:PUBLISH
X-WR-CALNAME:Ronald McDonald House Charities of the Triangle
X-ORIGINAL-URL:https://rmhctriangle.org
X-WR-CALDESC:Events for Ronald McDonald House Charities of the Triangle
REFRESH-INTERVAL;VALUE=DURATION:PT1H
X-Robots-Tag:noindex
X-PUBLISHED-TTL:PT1H
BEGIN:VTIMEZONE
TZID:America/New_York
BEGIN:DAYLIGHT
TZOFFSETFROM:-0500
TZOFFSETTO:-0400
TZNAME:EDT
DTSTART:20230312T070000
END:DAYLIGHT
BEGIN:STANDARD
TZOFFSETFROM:-0400
TZOFFSETTO:-0500
TZNAME:EST
DTSTART:20231105T060000
END:STANDARD
BEGIN:DAYLIGHT
TZOFFSETFROM:-0500
TZOFFSETTO:-0400
TZNAME:EDT
DTSTART:20240310T070000
END:DAYLIGHT
BEGIN:STANDARD
TZOFFSETFROM:-0400
TZOFFSETTO:-0500
TZNAME:EST
DTSTART:20241103T060000
END:STANDARD
BEGIN:DAYLIGHT
TZOFFSETFROM:-0500
TZOFFSETTO:-0400
TZNAME:EDT
DTSTART:20250309T070000
END:DAYLIGHT
BEGIN:STANDARD
TZOFFSETFROM:-0400
TZOFFSETTO:-0500
TZNAME:EST
DTSTART:20251102T060000
END:STANDARD
END:VTIMEZONE
BEGIN:VEVENT
DTSTART;TZID=America/New_York:20241028T173000
DTEND;TZID=America/New_York:20241028T190000
DTSTAMP:20260424T180916
CREATED:20230713T185113Z
LAST-MODIFIED:20230713T185113Z
UID:10000378-1730136600-1730142000@rmhctriangle.org
SUMMARY:McDonald's
DESCRIPTION:
URL:https://rmhctriangle.org/family-event/mcdonalds-2/2024-10-28/
CATEGORIES:Chapel Hill Meals
END:VEVENT
BEGIN:VEVENT
DTSTART;TZID=America/New_York:20241028T080000
DTEND;TZID=America/New_York:20241028T170000
DTSTAMP:20260424T180916
CREATED:20230713T184402Z
LAST-MODIFIED:20230814T180412Z
UID:10000778-1730102400-1730134800@rmhctriangle.org
SUMMARY:Kiwanis Club of the Friendly City
DESCRIPTION:
URL:https://rmhctriangle.org/family-event/kiwanis-club-of-the-friendly-city/2024-10-28/
CATEGORIES:Durham Meals
END:VEVENT
BEGIN:VEVENT
DTSTART;TZID=America/New_York:20241027T173000
DTEND;TZID=America/New_York:20241027T173000
DTSTAMP:20260424T180916
CREATED:20230713T184227Z
LAST-MODIFIED:20250127T201530Z
UID:10000724-1730050200-1730050200@rmhctriangle.org
SUMMARY:TUTA
DESCRIPTION:
URL:https://rmhctriangle.org/family-event/tuta/2024-10-27/
CATEGORIES:Durham Meals
END:VEVENT
BEGIN:VEVENT
DTSTART;TZID=America/New_York:20241027T153000
DTEND;TZID=America/New_York:20241027T183000
DTSTAMP:20260424T180916
CREATED:20240821T124456Z
LAST-MODIFIED:20240821T124456Z
UID:10001896-1730043000-1730053800@rmhctriangle.org
SUMMARY:UNC Business Cares Club
DESCRIPTION:
URL:https://rmhctriangle.org/family-event/unc-business-cares-club-2/
CATEGORIES:Chapel Hill Meals
END:VEVENT
BEGIN:VEVENT
DTSTART;TZID=America/New_York:20241026T170000
DTEND;TZID=America/New_York:20241026T173000
DTSTAMP:20260424T180916
CREATED:20240705T174038Z
LAST-MODIFIED:20240708T142800Z
UID:10001822-1729962000-1729963800@rmhctriangle.org
SUMMARY:St. Mary Magdalene Young Adult Group
DESCRIPTION:
URL:https://rmhctriangle.org/family-event/st-mary-magdalene-young-adult-group/2024-10-26/
CATEGORIES:Durham Meals
END:VEVENT
BEGIN:VEVENT
DTSTART;TZID=America/New_York:20241026T153000
DTEND;TZID=America/New_York:20241026T183000
DTSTAMP:20260424T180916
CREATED:20240603T162225Z
LAST-MODIFIED:20240603T163052Z
UID:10001765-1729956600-1729967400@rmhctriangle.org
SUMMARY:YMSL
DESCRIPTION:
URL:https://rmhctriangle.org/family-event/ymls-2/
CATEGORIES:Chapel Hill Meals
END:VEVENT
BEGIN:VEVENT
DTSTART;TZID=America/New_York:20241025T173000
DTEND;TZID=America/New_York:20241025T190000
DTSTAMP:20260424T180916
CREATED:20230713T181540Z
LAST-MODIFIED:20230713T181540Z
UID:10000085-1729877400-1729882800@rmhctriangle.org
SUMMARY:Domino's
DESCRIPTION:
URL:https://rmhctriangle.org/family-event/dominos/2024-10-25/
CATEGORIES:Chapel Hill Meals
END:VEVENT
BEGIN:VEVENT
DTSTART;TZID=America/New_York:20241025T170000
DTEND;TZID=America/New_York:20241025T173000
DTSTAMP:20260424T180916
CREATED:20240829T165246Z
LAST-MODIFIED:20240829T165246Z
UID:10001919-1729875600-1729877400@rmhctriangle.org
SUMMARY:Shepherd's Angel
DESCRIPTION:
URL:https://rmhctriangle.org/family-event/shepherds-angel-3/
CATEGORIES:Durham Meals
END:VEVENT
BEGIN:VEVENT
DTSTART;TZID=America/New_York:20241024T173000
DTEND;TZID=America/New_York:20241024T190000
DTSTAMP:20260424T180916
CREATED:20231219T151501Z
LAST-MODIFIED:20231219T151501Z
UID:10001399-1729791000-1729796400@rmhctriangle.org
SUMMARY:Antioch Church
DESCRIPTION:
URL:https://rmhctriangle.org/family-event/antioch-church-6/2024-10-24/
CATEGORIES:Chapel Hill Meals
END:VEVENT
BEGIN:VEVENT
DTSTART;TZID=America/New_York:20241024T170000
DTEND;TZID=America/New_York:20241024T173000
DTSTAMP:20260424T180916
CREATED:20240823T144444Z
LAST-MODIFIED:20240923T170812Z
UID:10001906-1729789200-1729791000@rmhctriangle.org
SUMMARY:TRUNK OR TREAT PIZZA PARTY\, provided by Avalara!
DESCRIPTION:
URL:https://rmhctriangle.org/family-event/trunk-or-treat-pizza-party-2/
CATEGORIES:Durham Meals
END:VEVENT
BEGIN:VEVENT
DTSTART;TZID=America/New_York:20241023T173000
DTEND;TZID=America/New_York:20241023T183000
DTSTAMP:20260424T180916
CREATED:20240109T145453Z
LAST-MODIFIED:20240109T145453Z
UID:10001505-1729704600-1729708200@rmhctriangle.org
SUMMARY:Blackman & Sloop
DESCRIPTION:
URL:https://rmhctriangle.org/family-event/blackman-sloop/
CATEGORIES:Chapel Hill Meals
END:VEVENT
BEGIN:VEVENT
DTSTART;TZID=America/New_York:20241023T170000
DTEND;TZID=America/New_York:20241023T173000
DTSTAMP:20260424T180916
CREATED:20230814T164925Z
LAST-MODIFIED:20240227T221345Z
UID:10001638-1729702800-1729704600@rmhctriangle.org
SUMMARY:Guerbet
DESCRIPTION:
URL:https://rmhctriangle.org/family-event/guerbet-2/2024-10-23/
CATEGORIES:Durham Meals
END:VEVENT
BEGIN:VEVENT
DTSTART;TZID=America/New_York:20241022T173000
DTEND;TZID=America/New_York:20241022T190000
DTSTAMP:20260424T180916
CREATED:20230713T185449Z
LAST-MODIFIED:20230713T185449Z
UID:10000605-1729618200-1729623600@rmhctriangle.org
SUMMARY:Barbara & Jean
DESCRIPTION:
URL:https://rmhctriangle.org/family-event/barbara-jean/2024-10-22/
CATEGORIES:Chapel Hill Meals
END:VEVENT
BEGIN:VEVENT
DTSTART;TZID=America/New_York:20241022T170000
DTEND;TZID=America/New_York:20241022T173000
DTSTAMP:20260424T180916
CREATED:20240823T141825Z
LAST-MODIFIED:20240823T142720Z
UID:10001901-1729616400-1729618200@rmhctriangle.org
SUMMARY:McDonald York
DESCRIPTION:
URL:https://rmhctriangle.org/family-event/mcdonald-york/
CATEGORIES:Durham Meals
END:VEVENT
BEGIN:VEVENT
DTSTART;TZID=America/New_York:20241021T173000
DTEND;TZID=America/New_York:20241021T190000
DTSTAMP:20260424T180916
CREATED:20230713T185113Z
LAST-MODIFIED:20230713T185113Z
UID:10000377-1729531800-1729537200@rmhctriangle.org
SUMMARY:McDonald's
DESCRIPTION:
URL:https://rmhctriangle.org/family-event/mcdonalds-2/2024-10-21/
CATEGORIES:Chapel Hill Meals
END:VEVENT
BEGIN:VEVENT
DTSTART;TZID=America/New_York:20241021T170000
DTEND;TZID=America/New_York:20241021T173000
DTSTAMP:20260424T180916
CREATED:20240905T190104Z
LAST-MODIFIED:20240905T190104Z
UID:10001933-1729530000-1729531800@rmhctriangle.org
SUMMARY:NCSU ADPi
DESCRIPTION:
URL:https://rmhctriangle.org/family-event/ncsu-adpi-3/
CATEGORIES:Durham Meals
END:VEVENT
BEGIN:VEVENT
DTSTART;TZID=America/New_York:20241020T170000
DTEND;TZID=America/New_York:20241020T173000
DTSTAMP:20260424T180916
CREATED:20240808T145152Z
LAST-MODIFIED:20240808T145152Z
UID:10001876-1729443600-1729445400@rmhctriangle.org
SUMMARY:Lamberth Memorial Baptist
DESCRIPTION:
URL:https://rmhctriangle.org/family-event/lamberth-memorial-baptist/2024-10-20/
CATEGORIES:Durham Meals
END:VEVENT
BEGIN:VEVENT
DTSTART;TZID=America/New_York:20241020T163000
DTEND;TZID=America/New_York:20241020T183000
DTSTAMP:20260424T180916
CREATED:20240618T133431Z
LAST-MODIFIED:20240618T133431Z
UID:10001785-1729441800-1729449000@rmhctriangle.org
SUMMARY:New Hope Church
DESCRIPTION:
URL:https://rmhctriangle.org/family-event/new-hope-church-3/
CATEGORIES:Chapel Hill Meals
END:VEVENT
BEGIN:VEVENT
DTSTART;TZID=America/New_York:20241019T173000
DTEND;TZID=America/New_York:20241019T190000
DTSTAMP:20260424T180916
CREATED:20231127T205241Z
LAST-MODIFIED:20231127T205241Z
UID:10001318-1729359000-1729364400@rmhctriangle.org
SUMMARY:Zakat Foundation
DESCRIPTION:
URL:https://rmhctriangle.org/family-event/zakat-foundation-17/
CATEGORIES:Chapel Hill Meals
END:VEVENT
BEGIN:VEVENT
DTSTART;TZID=America/New_York:20241019T170000
DTEND;TZID=America/New_York:20241019T173000
DTSTAMP:20260424T180916
CREATED:20240705T172146Z
LAST-MODIFIED:20240705T172239Z
UID:10001819-1729357200-1729359000@rmhctriangle.org
SUMMARY:Tabitha's Daughters
DESCRIPTION:
URL:https://rmhctriangle.org/family-event/tabithas-daguthers/
CATEGORIES:Durham Meals
END:VEVENT
BEGIN:VEVENT
DTSTART;TZID=America/New_York:20241018T173000
DTEND;TZID=America/New_York:20241018T190000
DTSTAMP:20260424T180916
CREATED:20230713T181540Z
LAST-MODIFIED:20230713T181540Z
UID:10000084-1729272600-1729278000@rmhctriangle.org
SUMMARY:Domino's
DESCRIPTION:
URL:https://rmhctriangle.org/family-event/dominos/2024-10-18/
CATEGORIES:Chapel Hill Meals
END:VEVENT
BEGIN:VEVENT
DTSTART;TZID=America/New_York:20241018T170000
DTEND;TZID=America/New_York:20241018T173000
DTSTAMP:20260424T180916
CREATED:20240909T193624Z
LAST-MODIFIED:20240909T193624Z
UID:10001939-1729270800-1729272600@rmhctriangle.org
SUMMARY:Merck
DESCRIPTION:
URL:https://rmhctriangle.org/family-event/merck-3/2024-10-18/
CATEGORIES:Durham Meals
END:VEVENT
BEGIN:VEVENT
DTSTART;TZID=America/New_York:20241017T173000
DTEND;TZID=America/New_York:20241017T190000
DTSTAMP:20260424T180916
CREATED:20240423T155322Z
LAST-MODIFIED:20240423T155322Z
UID:10001712-1729186200-1729191600@rmhctriangle.org
SUMMARY:Chapel Hill Rotary
DESCRIPTION:
URL:https://rmhctriangle.org/family-event/chapel-hill-rotary-5/
CATEGORIES:Chapel Hill Meals
END:VEVENT
BEGIN:VEVENT
DTSTART;TZID=America/New_York:20241017T173000
DTEND;TZID=America/New_York:20241017T173000
DTSTAMP:20260424T180916
CREATED:20230814T161536Z
LAST-MODIFIED:20231207T154046Z
UID:10001373-1729186200-1729186200@rmhctriangle.org
SUMMARY:Chiesi
DESCRIPTION:
URL:https://rmhctriangle.org/family-event/chiesi-2/2024-10-17/
CATEGORIES:Durham Meals
END:VEVENT
BEGIN:VEVENT
DTSTART;TZID=America/New_York:20241016T173000
DTEND;TZID=America/New_York:20241016T190000
DTSTAMP:20260424T180916
CREATED:20240403T194333Z
LAST-MODIFIED:20240403T194333Z
UID:10001688-1729099800-1729105200@rmhctriangle.org
SUMMARY:Mercalis
DESCRIPTION:
URL:https://rmhctriangle.org/family-event/mercalis-3/
CATEGORIES:Chapel Hill Meals
END:VEVENT
BEGIN:VEVENT
DTSTART;TZID=America/New_York:20241016T173000
DTEND;TZID=America/New_York:20241016T173000
DTSTAMP:20260424T180916
CREATED:20230814T161409Z
LAST-MODIFIED:20231205T212548Z
UID:10001358-1729099800-1729099800@rmhctriangle.org
SUMMARY:St. Francis of Assisi
DESCRIPTION:
URL:https://rmhctriangle.org/family-event/st-francis-of-assisi-2/2024-10-16/
CATEGORIES:Durham Meals
END:VEVENT
BEGIN:VEVENT
DTSTART;TZID=America/New_York:20241015T170000
DTEND;TZID=America/New_York:20241015T173000
DTSTAMP:20260424T180916
CREATED:20241010T123120Z
LAST-MODIFIED:20241010T123120Z
UID:10001900-1729011600-1729013400@rmhctriangle.org
SUMMARY:Hillside  Theta Phi Psi
DESCRIPTION:
URL:https://rmhctriangle.org/family-event/theta-phi-delta-hillside-2/
CATEGORIES:Durham Meals
END:VEVENT
BEGIN:VEVENT
DTSTART;TZID=America/New_York:20241015T153000
DTEND;TZID=America/New_York:20241015T183000
DTSTAMP:20260424T180916
CREATED:20240807T182921Z
LAST-MODIFIED:20240807T182921Z
UID:10001871-1729006200-1729017000@rmhctriangle.org
SUMMARY:CFTK
DESCRIPTION:
URL:https://rmhctriangle.org/family-event/cftk-5/
CATEGORIES:Chapel Hill Meals
END:VEVENT
BEGIN:VEVENT
DTSTART;TZID=America/New_York:20241014T173000
DTEND;TZID=America/New_York:20241014T190000
DTSTAMP:20260424T180916
CREATED:20230713T185113Z
LAST-MODIFIED:20230713T185113Z
UID:10000376-1728927000-1728932400@rmhctriangle.org
SUMMARY:McDonald's
DESCRIPTION:
URL:https://rmhctriangle.org/family-event/mcdonalds-2/2024-10-14/
CATEGORIES:Chapel Hill Meals
END:VEVENT
BEGIN:VEVENT
DTSTART;TZID=America/New_York:20241014T170000
DTEND;TZID=America/New_York:20241014T173000
DTSTAMP:20260424T180916
CREATED:20240909T193624Z
LAST-MODIFIED:20240909T193624Z
UID:10001938-1728925200-1728927000@rmhctriangle.org
SUMMARY:Merck
DESCRIPTION:
URL:https://rmhctriangle.org/family-event/merck-3/2024-10-14/
CATEGORIES:Durham Meals
END:VEVENT
END:VCALENDAR