BEGIN:VCALENDAR
VERSION:2.0
PRODID:-//Ronald McDonald House Charities of the Triangle - ECPv6.15.17.1//NONSGML v1.0//EN
CALSCALE:GREGORIAN
METHOD:PUBLISH
X-WR-CALNAME:Ronald McDonald House Charities of the Triangle
X-ORIGINAL-URL:https://rmhctriangle.org
X-WR-CALDESC:Events for Ronald McDonald House Charities of the Triangle
REFRESH-INTERVAL;VALUE=DURATION:PT1H
X-Robots-Tag:noindex
X-PUBLISHED-TTL:PT1H
BEGIN:VTIMEZONE
TZID:America/New_York
BEGIN:DAYLIGHT
TZOFFSETFROM:-0500
TZOFFSETTO:-0400
TZNAME:EDT
DTSTART:20230312T070000
END:DAYLIGHT
BEGIN:STANDARD
TZOFFSETFROM:-0400
TZOFFSETTO:-0500
TZNAME:EST
DTSTART:20231105T060000
END:STANDARD
BEGIN:DAYLIGHT
TZOFFSETFROM:-0500
TZOFFSETTO:-0400
TZNAME:EDT
DTSTART:20240310T070000
END:DAYLIGHT
BEGIN:STANDARD
TZOFFSETFROM:-0400
TZOFFSETTO:-0500
TZNAME:EST
DTSTART:20241103T060000
END:STANDARD
BEGIN:DAYLIGHT
TZOFFSETFROM:-0500
TZOFFSETTO:-0400
TZNAME:EDT
DTSTART:20250309T070000
END:DAYLIGHT
BEGIN:STANDARD
TZOFFSETFROM:-0400
TZOFFSETTO:-0500
TZNAME:EST
DTSTART:20251102T060000
END:STANDARD
END:VTIMEZONE
BEGIN:VEVENT
DTSTART;TZID=America/New_York:20240302T173000
DTEND;TZID=America/New_York:20240302T190000
DTSTAMP:20260420T005608
CREATED:20240105T155645Z
LAST-MODIFIED:20240105T155645Z
UID:10001441-1709400600-1709406000@rmhctriangle.org
SUMMARY:St. Thomas More
DESCRIPTION:
URL:https://rmhctriangle.org/family-event/st-thomas-more-8/2024-03-02/
CATEGORIES:Chapel Hill Meals
END:VEVENT
BEGIN:VEVENT
DTSTART;TZID=America/New_York:20240302T170000
DTEND;TZID=America/New_York:20240302T173000
DTSTAMP:20260420T005608
CREATED:20240116T165944Z
LAST-MODIFIED:20240215T172037Z
UID:10001520-1709398800-1709400600@rmhctriangle.org
SUMMARY:Zakat Foundation
DESCRIPTION:
URL:https://rmhctriangle.org/family-event/zakat-foundation-21/2024-03-02/
CATEGORIES:Durham Meals
END:VEVENT
BEGIN:VEVENT
DTSTART;TZID=America/New_York:20240301T173000
DTEND;TZID=America/New_York:20240301T190000
DTSTAMP:20260420T005608
CREATED:20230713T181540Z
LAST-MODIFIED:20230713T181540Z
UID:10000051-1709314200-1709319600@rmhctriangle.org
SUMMARY:Domino's
DESCRIPTION:
URL:https://rmhctriangle.org/family-event/dominos/2024-03-01/
CATEGORIES:Chapel Hill Meals
END:VEVENT
BEGIN:VEVENT
DTSTART;TZID=America/New_York:20240301T170000
DTEND;TZID=America/New_York:20240301T173000
DTSTAMP:20260420T005608
CREATED:20231204T193729Z
LAST-MODIFIED:20240301T212457Z
UID:10001343-1709312400-1709314200@rmhctriangle.org
SUMMARY:Debbie Perrigo
DESCRIPTION:
URL:https://rmhctriangle.org/family-event/debbie-perrigo-2/2024-03-01/
CATEGORIES:Durham Meals
END:VEVENT
BEGIN:VEVENT
DTSTART;TZID=America/New_York:20240229T173000
DTEND;TZID=America/New_York:20240229T190000
DTSTAMP:20260420T005608
CREATED:20240104T192011Z
LAST-MODIFIED:20240104T192011Z
UID:10001433-1709227800-1709233200@rmhctriangle.org
SUMMARY:JPMorgan Chase
DESCRIPTION:
URL:https://rmhctriangle.org/family-event/jpmorgan-chase/
CATEGORIES:Chapel Hill Meals
END:VEVENT
BEGIN:VEVENT
DTSTART;TZID=America/New_York:20240229T170000
DTEND;TZID=America/New_York:20240229T173000
DTSTAMP:20260420T005608
CREATED:20231031T183806Z
LAST-MODIFIED:20240129T164724Z
UID:10001543-1709226000-1709227800@rmhctriangle.org
SUMMARY:Well Fellowship
DESCRIPTION:
URL:https://rmhctriangle.org/family-event/well-fellowship/2024-02-29/
CATEGORIES:Durham Meals
END:VEVENT
BEGIN:VEVENT
DTSTART;TZID=America/New_York:20240228T173000
DTEND;TZID=America/New_York:20240228T190000
DTSTAMP:20260420T005608
CREATED:20240104T182322Z
LAST-MODIFIED:20240104T182322Z
UID:10001432-1709141400-1709146800@rmhctriangle.org
SUMMARY:UNC AED
DESCRIPTION:
URL:https://rmhctriangle.org/family-event/unc-aed-5/
CATEGORIES:Chapel Hill Meals
END:VEVENT
BEGIN:VEVENT
DTSTART;TZID=America/New_York:20240228T170000
DTEND;TZID=America/New_York:20240228T173000
DTSTAMP:20260420T005608
CREATED:20240201T204400Z
LAST-MODIFIED:20240201T204400Z
UID:10001566-1709139600-1709141400@rmhctriangle.org
SUMMARY:Cypress Creek Civitans
DESCRIPTION:
URL:https://rmhctriangle.org/family-event/cypress-creek-civitans-2/
CATEGORIES:Durham Meals
END:VEVENT
BEGIN:VEVENT
DTSTART;TZID=America/New_York:20240227T173000
DTEND;TZID=America/New_York:20240227T190000
DTSTAMP:20260420T005608
CREATED:20230713T185449Z
LAST-MODIFIED:20230713T185449Z
UID:10000588-1709055000-1709060400@rmhctriangle.org
SUMMARY:Barbara & Jean
DESCRIPTION:
URL:https://rmhctriangle.org/family-event/barbara-jean/2024-02-27/
CATEGORIES:Chapel Hill Meals
END:VEVENT
BEGIN:VEVENT
DTSTART;TZID=America/New_York:20240227T170000
DTEND;TZID=America/New_York:20240227T173000
DTSTAMP:20260420T005608
CREATED:20240207T205730Z
LAST-MODIFIED:20240207T205730Z
UID:10001571-1709053200-1709055000@rmhctriangle.org
SUMMARY:Henderson Grove Missionary Baptist Church
DESCRIPTION:
URL:https://rmhctriangle.org/family-event/henderson-grove-missionary-baptist-church/
CATEGORIES:Durham Meals
END:VEVENT
BEGIN:VEVENT
DTSTART;TZID=America/New_York:20240226T173000
DTEND;TZID=America/New_York:20240226T190000
DTSTAMP:20260420T005608
CREATED:20230713T185113Z
LAST-MODIFIED:20230713T185113Z
UID:10000343-1708968600-1708974000@rmhctriangle.org
SUMMARY:McDonald's
DESCRIPTION:
URL:https://rmhctriangle.org/family-event/mcdonalds-2/2024-02-26/
CATEGORIES:Chapel Hill Meals
END:VEVENT
BEGIN:VEVENT
DTSTART;TZID=America/New_York:20240226T080000
DTEND;TZID=America/New_York:20240226T170000
DTSTAMP:20260420T005608
CREATED:20230713T184402Z
LAST-MODIFIED:20230814T180412Z
UID:10000773-1708934400-1708966800@rmhctriangle.org
SUMMARY:Kiwanis Club of the Friendly City
DESCRIPTION:
URL:https://rmhctriangle.org/family-event/kiwanis-club-of-the-friendly-city/2024-02-26/
CATEGORIES:Durham Meals
END:VEVENT
BEGIN:VEVENT
DTSTART;TZID=America/New_York:20240225T173000
DTEND;TZID=America/New_York:20240225T190000
DTSTAMP:20260420T005608
CREATED:20240108T154701Z
LAST-MODIFIED:20240108T154701Z
UID:10001504-1708882200-1708887600@rmhctriangle.org
SUMMARY:NCSU Goodnight Scholars
DESCRIPTION:
URL:https://rmhctriangle.org/family-event/ncsu-goodnight-scholars-3/
CATEGORIES:Chapel Hill Meals
END:VEVENT
BEGIN:VEVENT
DTSTART;TZID=America/New_York:20240225T173000
DTEND;TZID=America/New_York:20240225T173000
DTSTAMP:20260420T005608
CREATED:20230713T184227Z
LAST-MODIFIED:20250127T201530Z
UID:10000716-1708882200-1708882200@rmhctriangle.org
SUMMARY:TUTA
DESCRIPTION:
URL:https://rmhctriangle.org/family-event/tuta/2024-02-25/
CATEGORIES:Durham Meals
END:VEVENT
BEGIN:VEVENT
DTSTART;TZID=America/New_York:20240224T170000
DTEND;TZID=America/New_York:20240224T173000
DTSTAMP:20260420T005608
CREATED:20240201T163702Z
LAST-MODIFIED:20240201T163702Z
UID:10001562-1708794000-1708795800@rmhctriangle.org
SUMMARY:Victorious Praise
DESCRIPTION:
URL:https://rmhctriangle.org/family-event/victorious-praise/
CATEGORIES:Durham Meals
END:VEVENT
BEGIN:VEVENT
DTSTART;TZID=America/New_York:20240223T173000
DTEND;TZID=America/New_York:20240223T190000
DTSTAMP:20260420T005608
CREATED:20230713T181540Z
LAST-MODIFIED:20230713T181540Z
UID:10000050-1708709400-1708714800@rmhctriangle.org
SUMMARY:Domino's
DESCRIPTION:
URL:https://rmhctriangle.org/family-event/dominos/2024-02-23/
CATEGORIES:Chapel Hill Meals
END:VEVENT
BEGIN:VEVENT
DTSTART;TZID=America/New_York:20240223T170000
DTEND;TZID=America/New_York:20240223T173000
DTSTAMP:20260420T005608
CREATED:20230713T175621Z
LAST-MODIFIED:20240605T144734Z
UID:10001564-1708707600-1708709400@rmhctriangle.org
SUMMARY:McDonald's
DESCRIPTION:
URL:https://rmhctriangle.org/family-event/mcdonalds/2024-02-23/
CATEGORIES:Durham Meals
END:VEVENT
BEGIN:VEVENT
DTSTART;TZID=America/New_York:20240222T173000
DTEND;TZID=America/New_York:20240222T190000
DTSTAMP:20260420T005608
CREATED:20231219T151501Z
LAST-MODIFIED:20231219T151501Z
UID:10001391-1708623000-1708628400@rmhctriangle.org
SUMMARY:Antioch Church
DESCRIPTION:
URL:https://rmhctriangle.org/family-event/antioch-church-6/2024-02-22/
CATEGORIES:Chapel Hill Meals
END:VEVENT
BEGIN:VEVENT
DTSTART;TZID=America/New_York:20240222T170000
DTEND;TZID=America/New_York:20240222T173000
DTSTAMP:20260420T005608
CREATED:20231009T173209Z
LAST-MODIFIED:20240227T203937Z
UID:10001509-1708621200-1708623000@rmhctriangle.org
SUMMARY:NCSU ADPi
DESCRIPTION:
URL:https://rmhctriangle.org/family-event/ncsu-adpi/2024-02-22/
CATEGORIES:Durham Meals
END:VEVENT
BEGIN:VEVENT
DTSTART;TZID=America/New_York:20240221T173000
DTEND;TZID=America/New_York:20240221T173000
DTSTAMP:20260420T005608
CREATED:20230814T161409Z
LAST-MODIFIED:20231205T212548Z
UID:10001350-1708536600-1708536600@rmhctriangle.org
SUMMARY:St. Francis of Assisi
DESCRIPTION:
URL:https://rmhctriangle.org/family-event/st-francis-of-assisi-2/2024-02-21/
CATEGORIES:Durham Meals
END:VEVENT
BEGIN:VEVENT
DTSTART;TZID=America/New_York:20240221T170000
DTEND;TZID=America/New_York:20240221T180000
DTSTAMP:20260420T005608
CREATED:20240115T233307Z
LAST-MODIFIED:20240115T233307Z
UID:10001510-1708534800-1708538400@rmhctriangle.org
SUMMARY:Business Cares Club Kenan-Flagler
DESCRIPTION:Business Cares Club at Kenan-Flagler \n2/21 \n3/5 \n3/19 \n4/2 \n4/16
URL:https://rmhctriangle.org/family-event/business-cares-club-kenan-flagler/2024-02-21/
CATEGORIES:Chapel Hill Meals
END:VEVENT
BEGIN:VEVENT
DTSTART;TZID=America/New_York:20240220T170000
DTEND;TZID=America/New_York:20240220T173000
DTSTAMP:20260420T005608
CREATED:20231009T174957Z
LAST-MODIFIED:20240509T143724Z
UID:10001381-1708448400-1708450200@rmhctriangle.org
SUMMARY:Elevation Church
DESCRIPTION:
URL:https://rmhctriangle.org/family-event/elevation-church/2024-02-20/
CATEGORIES:Durham Meals
END:VEVENT
BEGIN:VEVENT
DTSTART;TZID=America/New_York:20240219T173000
DTEND;TZID=America/New_York:20240219T190000
DTSTAMP:20260420T005608
CREATED:20230713T185113Z
LAST-MODIFIED:20230713T185113Z
UID:10000342-1708363800-1708369200@rmhctriangle.org
SUMMARY:McDonald's
DESCRIPTION:
URL:https://rmhctriangle.org/family-event/mcdonalds-2/2024-02-19/
CATEGORIES:Chapel Hill Meals
END:VEVENT
BEGIN:VEVENT
DTSTART;TZID=America/New_York:20240219T170000
DTEND;TZID=America/New_York:20240219T173000
DTSTAMP:20260420T005608
CREATED:20240116T160359Z
LAST-MODIFIED:20240604T142521Z
UID:10001565-1708362000-1708363800@rmhctriangle.org
SUMMARY:Shepherd's Angel
DESCRIPTION:
URL:https://rmhctriangle.org/family-event/shepherds-angel/2024-02-19/
CATEGORIES:Durham Meals
END:VEVENT
BEGIN:VEVENT
DTSTART;TZID=America/New_York:20240218T173000
DTEND;TZID=America/New_York:20240218T190000
DTSTAMP:20260420T005608
CREATED:20240125T180113Z
LAST-MODIFIED:20240130T164906Z
UID:10001542-1708277400-1708282800@rmhctriangle.org
SUMMARY:East CH High RMH Club
DESCRIPTION:
URL:https://rmhctriangle.org/family-event/unc-public-health-360/
CATEGORIES:Chapel Hill Meals
END:VEVENT
BEGIN:VEVENT
DTSTART;TZID=America/New_York:20240218T170000
DTEND;TZID=America/New_York:20240218T173000
DTSTAMP:20260420T005608
CREATED:20230815T194607Z
LAST-MODIFIED:20240116T204827Z
UID:10001417-1708275600-1708277400@rmhctriangle.org
SUMMARY:Shine Like Hailey Foundation
DESCRIPTION:
URL:https://rmhctriangle.org/family-event/shine-like-hailey-foundation/2024-02-18/
CATEGORIES:Durham Meals
END:VEVENT
BEGIN:VEVENT
DTSTART;TZID=America/New_York:20240217T173000
DTEND;TZID=America/New_York:20240217T190000
DTSTAMP:20260420T005608
CREATED:20231127T205016Z
LAST-MODIFIED:20231127T205016Z
UID:10001312-1708191000-1708196400@rmhctriangle.org
SUMMARY:Zakat Foundation
DESCRIPTION:
URL:https://rmhctriangle.org/family-event/zakat-foundation-11/
CATEGORIES:Chapel Hill Meals
END:VEVENT
BEGIN:VEVENT
DTSTART;TZID=America/New_York:20240217T170000
DTEND;TZID=America/New_York:20240217T173000
DTSTAMP:20260420T005608
CREATED:20240214T184856Z
LAST-MODIFIED:20240214T184856Z
UID:10001602-1708189200-1708191000@rmhctriangle.org
SUMMARY:Tonna Wyatt Group
DESCRIPTION:
URL:https://rmhctriangle.org/family-event/tonna-wyatt-group/
CATEGORIES:Durham Meals
END:VEVENT
BEGIN:VEVENT
DTSTART;TZID=America/New_York:20240216T173000
DTEND;TZID=America/New_York:20240216T190000
DTSTAMP:20260420T005608
CREATED:20230713T181540Z
LAST-MODIFIED:20230713T181540Z
UID:10000049-1708104600-1708110000@rmhctriangle.org
SUMMARY:Domino's
DESCRIPTION:
URL:https://rmhctriangle.org/family-event/dominos/2024-02-16/
CATEGORIES:Chapel Hill Meals
END:VEVENT
BEGIN:VEVENT
DTSTART;TZID=America/New_York:20240216T170000
DTEND;TZID=America/New_York:20240216T173000
DTSTAMP:20260420T005608
CREATED:20240129T175716Z
LAST-MODIFIED:20240129T175805Z
UID:10001550-1708102800-1708104600@rmhctriangle.org
SUMMARY:Joy Baptist Church
DESCRIPTION:
URL:https://rmhctriangle.org/family-event/joy-baptist-church/
CATEGORIES:Durham Meals
END:VEVENT
END:VCALENDAR