BEGIN:VCALENDAR
VERSION:2.0
PRODID:-//Ronald McDonald House Charities of the Triangle - ECPv6.15.17.1//NONSGML v1.0//EN
CALSCALE:GREGORIAN
METHOD:PUBLISH
X-WR-CALNAME:Ronald McDonald House Charities of the Triangle
X-ORIGINAL-URL:https://rmhctriangle.org
X-WR-CALDESC:Events for Ronald McDonald House Charities of the Triangle
REFRESH-INTERVAL;VALUE=DURATION:PT1H
X-Robots-Tag:noindex
X-PUBLISHED-TTL:PT1H
BEGIN:VTIMEZONE
TZID:America/New_York
BEGIN:DAYLIGHT
TZOFFSETFROM:-0500
TZOFFSETTO:-0400
TZNAME:EDT
DTSTART:20230312T070000
END:DAYLIGHT
BEGIN:STANDARD
TZOFFSETFROM:-0400
TZOFFSETTO:-0500
TZNAME:EST
DTSTART:20231105T060000
END:STANDARD
BEGIN:DAYLIGHT
TZOFFSETFROM:-0500
TZOFFSETTO:-0400
TZNAME:EDT
DTSTART:20240310T070000
END:DAYLIGHT
BEGIN:STANDARD
TZOFFSETFROM:-0400
TZOFFSETTO:-0500
TZNAME:EST
DTSTART:20241103T060000
END:STANDARD
BEGIN:DAYLIGHT
TZOFFSETFROM:-0500
TZOFFSETTO:-0400
TZNAME:EDT
DTSTART:20250309T070000
END:DAYLIGHT
BEGIN:STANDARD
TZOFFSETFROM:-0400
TZOFFSETTO:-0500
TZNAME:EST
DTSTART:20251102T060000
END:STANDARD
END:VTIMEZONE
BEGIN:VEVENT
DTSTART;TZID=America/New_York:20240212T173000
DTEND;TZID=America/New_York:20240212T190000
DTSTAMP:20260420T113407
CREATED:20230713T185113Z
LAST-MODIFIED:20230713T185113Z
UID:10000341-1707759000-1707764400@rmhctriangle.org
SUMMARY:McDonald's
DESCRIPTION:
URL:https://rmhctriangle.org/family-event/mcdonalds-2/2024-02-12/
CATEGORIES:Chapel Hill Meals
END:VEVENT
BEGIN:VEVENT
DTSTART;TZID=America/New_York:20240212T170000
DTEND;TZID=America/New_York:20240212T173000
DTSTAMP:20260420T113407
CREATED:20231116T150816Z
LAST-MODIFIED:20240202T160609Z
UID:10001568-1707757200-1707759000@rmhctriangle.org
SUMMARY:Gunter Family
DESCRIPTION:
URL:https://rmhctriangle.org/family-event/gunter-enterprises/2024-02-12/
CATEGORIES:Durham Meals
END:VEVENT
BEGIN:VEVENT
DTSTART;TZID=America/New_York:20240211T173000
DTEND;TZID=America/New_York:20240211T190000
DTSTAMP:20260420T113407
CREATED:20240108T154639Z
LAST-MODIFIED:20240108T154639Z
UID:10001503-1707672600-1707678000@rmhctriangle.org
SUMMARY:NCSU Goodnight Scholars
DESCRIPTION:
URL:https://rmhctriangle.org/family-event/ncsu-goodnight-scholars-2/
CATEGORIES:Chapel Hill Meals
END:VEVENT
BEGIN:VEVENT
DTSTART;TZID=America/New_York:20240211T170000
DTEND;TZID=America/New_York:20240211T173000
DTSTAMP:20260420T113407
CREATED:20230815T194607Z
LAST-MODIFIED:20240116T204827Z
UID:10001530-1707670800-1707672600@rmhctriangle.org
SUMMARY:Shine Like Hailey Foundation
DESCRIPTION:
URL:https://rmhctriangle.org/family-event/shine-like-hailey-foundation/2024-02-11/
CATEGORIES:Durham Meals
END:VEVENT
BEGIN:VEVENT
DTSTART;TZID=America/New_York:20240210T173000
DTEND;TZID=America/New_York:20240210T190000
DTSTAMP:20260420T113407
CREATED:20240105T144117Z
LAST-MODIFIED:20240105T144207Z
UID:10001435-1707586200-1707591600@rmhctriangle.org
SUMMARY:NCL Lily
DESCRIPTION:
URL:https://rmhctriangle.org/family-event/ncl-lily-6/
CATEGORIES:Chapel Hill Meals
END:VEVENT
BEGIN:VEVENT
DTSTART;TZID=America/New_York:20240209T173000
DTEND;TZID=America/New_York:20240209T190000
DTSTAMP:20260420T113407
CREATED:20230713T181540Z
LAST-MODIFIED:20230713T181540Z
UID:10000048-1707499800-1707505200@rmhctriangle.org
SUMMARY:Domino's
DESCRIPTION:
URL:https://rmhctriangle.org/family-event/dominos/2024-02-09/
CATEGORIES:Chapel Hill Meals
END:VEVENT
BEGIN:VEVENT
DTSTART;TZID=America/New_York:20240209T170000
DTEND;TZID=America/New_York:20240209T173000
DTSTAMP:20260420T113407
CREATED:20230713T175621Z
LAST-MODIFIED:20240605T144734Z
UID:10001563-1707498000-1707499800@rmhctriangle.org
SUMMARY:McDonald's
DESCRIPTION:
URL:https://rmhctriangle.org/family-event/mcdonalds/2024-02-09/
CATEGORIES:Durham Meals
END:VEVENT
BEGIN:VEVENT
DTSTART;TZID=America/New_York:20240208T173000
DTEND;TZID=America/New_York:20240208T190000
DTSTAMP:20260420T113407
CREATED:20231219T153633Z
LAST-MODIFIED:20231219T153633Z
UID:10001402-1707413400-1707418800@rmhctriangle.org
SUMMARY:Chapel Hill Rotary
DESCRIPTION:
URL:https://rmhctriangle.org/family-event/chapel-hill-rotary-2/
CATEGORIES:Chapel Hill Meals
END:VEVENT
BEGIN:VEVENT
DTSTART;TZID=America/New_York:20240208T170000
DTEND;TZID=America/New_York:20240208T173000
DTSTAMP:20260420T113407
CREATED:20240206T213105Z
LAST-MODIFIED:20240206T213105Z
UID:10001570-1707411600-1707413400@rmhctriangle.org
SUMMARY:Danis
DESCRIPTION:
URL:https://rmhctriangle.org/family-event/danis-2/
CATEGORIES:Durham Meals
END:VEVENT
BEGIN:VEVENT
DTSTART;TZID=America/New_York:20240207T170000
DTEND;TZID=America/New_York:20240207T190000
DTSTAMP:20260420T113407
CREATED:20240124T004014Z
LAST-MODIFIED:20240124T004014Z
UID:10001541-1707325200-1707332400@rmhctriangle.org
SUMMARY:Allison Mentorship Program
DESCRIPTION:
URL:https://rmhctriangle.org/family-event/allison-mentorship-program/
CATEGORIES:Chapel Hill Meals
END:VEVENT
BEGIN:VEVENT
DTSTART;TZID=America/New_York:20240206T173000
DTEND;TZID=America/New_York:20240206T183000
DTSTAMP:20260420T113407
CREATED:20240110T191348Z
LAST-MODIFIED:20240110T191348Z
UID:10001506-1707240600-1707244200@rmhctriangle.org
SUMMARY:Smiling While Sending Hope
DESCRIPTION:
URL:https://rmhctriangle.org/family-event/smiling-while-sending-hope-2/
CATEGORIES:Chapel Hill Meals
END:VEVENT
BEGIN:VEVENT
DTSTART;TZID=America/New_York:20240206T170000
DTEND;TZID=America/New_York:20240206T173000
DTSTAMP:20260420T113407
CREATED:20240201T163440Z
LAST-MODIFIED:20240328T185916Z
UID:10001558-1707238800-1707240600@rmhctriangle.org
SUMMARY:Duke PA Program
DESCRIPTION:
URL:https://rmhctriangle.org/family-event/duke-pa-program/2024-02-06/
CATEGORIES:Durham Meals
END:VEVENT
BEGIN:VEVENT
DTSTART;TZID=America/New_York:20240205T173000
DTEND;TZID=America/New_York:20240205T190000
DTSTAMP:20260420T113407
CREATED:20230713T185113Z
LAST-MODIFIED:20230713T185113Z
UID:10000340-1707154200-1707159600@rmhctriangle.org
SUMMARY:McDonald's
DESCRIPTION:
URL:https://rmhctriangle.org/family-event/mcdonalds-2/2024-02-05/
CATEGORIES:Chapel Hill Meals
END:VEVENT
BEGIN:VEVENT
DTSTART;TZID=America/New_York:20240205T170000
DTEND;TZID=America/New_York:20240205T173000
DTSTAMP:20260420T113407
CREATED:20230814T175818Z
LAST-MODIFIED:20240214T171455Z
UID:10001536-1707152400-1707154200@rmhctriangle.org
SUMMARY:Notre Dame Women's Group
DESCRIPTION:
URL:https://rmhctriangle.org/family-event/notre-dame-womens-group-2/2024-02-05/
CATEGORIES:Durham Meals
END:VEVENT
BEGIN:VEVENT
DTSTART;TZID=America/New_York:20240204T173000
DTEND;TZID=America/New_York:20240204T180000
DTSTAMP:20260420T113407
CREATED:20240118T023606Z
LAST-MODIFIED:20240118T023606Z
UID:10001533-1707067800-1707069600@rmhctriangle.org
SUMMARY:Thales Academy Key Club
DESCRIPTION:Requested Date: February 4th \nGroup Name: Thales Academy Key Club \nLeader Name: Hailey Howard \n 
URL:https://rmhctriangle.org/family-event/thales-academy-key-club-2/
CATEGORIES:Chapel Hill Meals
END:VEVENT
BEGIN:VEVENT
DTSTART;TZID=America/New_York:20240204T170000
DTEND;TZID=America/New_York:20240204T173000
DTSTAMP:20260420T113407
CREATED:20231229T214405Z
LAST-MODIFIED:20231229T214453Z
UID:10001413-1707066000-1707067800@rmhctriangle.org
SUMMARY:Coralee Rogers Group
DESCRIPTION:
URL:https://rmhctriangle.org/family-event/coralee-rogers/
CATEGORIES:Durham Meals
END:VEVENT
BEGIN:VEVENT
DTSTART;TZID=America/New_York:20240203T173000
DTEND;TZID=America/New_York:20240203T190000
DTSTAMP:20260420T113407
CREATED:20240105T144953Z
LAST-MODIFIED:20240105T144953Z
UID:10001439-1706981400-1706986800@rmhctriangle.org
SUMMARY:St. Thomas More
DESCRIPTION:
URL:https://rmhctriangle.org/family-event/st-thomas-more-7/
CATEGORIES:Chapel Hill Meals
END:VEVENT
BEGIN:VEVENT
DTSTART;TZID=America/New_York:20240203T170000
DTEND;TZID=America/New_York:20240203T173000
DTSTAMP:20260420T113407
CREATED:20240116T165944Z
LAST-MODIFIED:20240215T172037Z
UID:10001519-1706979600-1706981400@rmhctriangle.org
SUMMARY:Zakat Foundation
DESCRIPTION:
URL:https://rmhctriangle.org/family-event/zakat-foundation-21/2024-02-03/
CATEGORIES:Durham Meals
END:VEVENT
BEGIN:VEVENT
DTSTART;TZID=America/New_York:20240202T173000
DTEND;TZID=America/New_York:20240202T190000
DTSTAMP:20260420T113408
CREATED:20230713T181540Z
LAST-MODIFIED:20230713T181540Z
UID:10000047-1706895000-1706900400@rmhctriangle.org
SUMMARY:Domino's
DESCRIPTION:
URL:https://rmhctriangle.org/family-event/dominos/2024-02-02/
CATEGORIES:Chapel Hill Meals
END:VEVENT
BEGIN:VEVENT
DTSTART;TZID=America/New_York:20240202T170000
DTEND;TZID=America/New_York:20240202T173000
DTSTAMP:20260420T113408
CREATED:20240118T155637Z
LAST-MODIFIED:20240118T155637Z
UID:10001535-1706893200-1706895000@rmhctriangle.org
SUMMARY:Hipp Design and Consulting
DESCRIPTION:
URL:https://rmhctriangle.org/family-event/hipp-design-and-consulting/
CATEGORIES:Durham Meals
END:VEVENT
BEGIN:VEVENT
DTSTART;TZID=America/New_York:20240201T170000
DTEND;TZID=America/New_York:20240201T173000
DTSTAMP:20260420T113408
CREATED:20240129T164947Z
LAST-MODIFIED:20240129T164947Z
UID:10001549-1706806800-1706808600@rmhctriangle.org
SUMMARY:Ragini Murarka
DESCRIPTION:
URL:https://rmhctriangle.org/family-event/ragini-murarka/
CATEGORIES:Durham Meals
END:VEVENT
BEGIN:VEVENT
DTSTART;TZID=America/New_York:20240131T173000
DTEND;TZID=America/New_York:20240131T190000
DTSTAMP:20260420T113408
CREATED:20240105T184850Z
LAST-MODIFIED:20240105T184850Z
UID:10001502-1706722200-1706727600@rmhctriangle.org
SUMMARY:Pfizer
DESCRIPTION:
URL:https://rmhctriangle.org/family-event/pfizer/
CATEGORIES:Chapel Hill Meals
END:VEVENT
BEGIN:VEVENT
DTSTART;TZID=America/New_York:20240131T170000
DTEND;TZID=America/New_York:20240131T173000
DTSTAMP:20260420T113408
CREATED:20231213T205211Z
LAST-MODIFIED:20240212T221031Z
UID:10001590-1706720400-1706722200@rmhctriangle.org
SUMMARY:Smiling While Sending Hope
DESCRIPTION:
URL:https://rmhctriangle.org/family-event/smiling-while-sending-hope/2024-01-31/
CATEGORIES:Durham Meals
END:VEVENT
BEGIN:VEVENT
DTSTART;TZID=America/New_York:20240130T173000
DTEND;TZID=America/New_York:20240130T190000
DTSTAMP:20260420T113408
CREATED:20230713T185449Z
LAST-MODIFIED:20230713T185449Z
UID:10000586-1706635800-1706641200@rmhctriangle.org
SUMMARY:Barbara & Jean
DESCRIPTION:
URL:https://rmhctriangle.org/family-event/barbara-jean/2024-01-30/
CATEGORIES:Chapel Hill Meals
END:VEVENT
BEGIN:VEVENT
DTSTART;TZID=America/New_York:20240130T170000
DTEND;TZID=America/New_York:20240130T173000
DTSTAMP:20260420T113408
CREATED:20231009T173209Z
LAST-MODIFIED:20240227T203937Z
UID:10001430-1706634000-1706635800@rmhctriangle.org
SUMMARY:NCSU ADPi
DESCRIPTION:
URL:https://rmhctriangle.org/family-event/ncsu-adpi/2024-01-30/
CATEGORIES:Durham Meals
END:VEVENT
BEGIN:VEVENT
DTSTART;TZID=America/New_York:20240129T173000
DTEND;TZID=America/New_York:20240129T190000
DTSTAMP:20260420T113408
CREATED:20230713T185113Z
LAST-MODIFIED:20230713T185113Z
UID:10000339-1706549400-1706554800@rmhctriangle.org
SUMMARY:McDonald's
DESCRIPTION:
URL:https://rmhctriangle.org/family-event/mcdonalds-2/2024-01-29/
CATEGORIES:Chapel Hill Meals
END:VEVENT
BEGIN:VEVENT
DTSTART;TZID=America/New_York:20240129T080000
DTEND;TZID=America/New_York:20240129T170000
DTSTAMP:20260420T113408
CREATED:20230713T184402Z
LAST-MODIFIED:20230814T180412Z
UID:10000290-1706515200-1706547600@rmhctriangle.org
SUMMARY:Kiwanis Club of the Friendly City
DESCRIPTION:
URL:https://rmhctriangle.org/family-event/kiwanis-club-of-the-friendly-city/2024-01-29/
CATEGORIES:Durham Meals
END:VEVENT
BEGIN:VEVENT
DTSTART;TZID=America/New_York:20240128T173000
DTEND;TZID=America/New_York:20240128T190000
DTSTAMP:20260420T113408
CREATED:20231207T162604Z
LAST-MODIFIED:20231207T162604Z
UID:10001378-1706463000-1706468400@rmhctriangle.org
SUMMARY:NCL Sustainers
DESCRIPTION:
URL:https://rmhctriangle.org/family-event/ncl-sustainers/
CATEGORIES:Chapel Hill Meals
END:VEVENT
BEGIN:VEVENT
DTSTART;TZID=America/New_York:20240128T173000
DTEND;TZID=America/New_York:20240128T173000
DTSTAMP:20260420T113408
CREATED:20230713T184227Z
LAST-MODIFIED:20250127T201530Z
UID:10000715-1706463000-1706463000@rmhctriangle.org
SUMMARY:TUTA
DESCRIPTION:
URL:https://rmhctriangle.org/family-event/tuta/2024-01-28/
CATEGORIES:Durham Meals
END:VEVENT
BEGIN:VEVENT
DTSTART;TZID=America/New_York:20240127T173000
DTEND;TZID=America/New_York:20240127T190000
DTSTAMP:20260420T113408
CREATED:20231108T165548Z
LAST-MODIFIED:20231108T165548Z
UID:10001292-1706376600-1706382000@rmhctriangle.org
SUMMARY:Exploring Scouts
DESCRIPTION:
URL:https://rmhctriangle.org/family-event/exploring-scouts/
CATEGORIES:Chapel Hill Meals
END:VEVENT
END:VCALENDAR