BEGIN:VCALENDAR
VERSION:2.0
PRODID:-//Ronald McDonald House Charities of the Triangle - ECPv6.15.17.1//NONSGML v1.0//EN
CALSCALE:GREGORIAN
METHOD:PUBLISH
X-ORIGINAL-URL:https://rmhctriangle.org
X-WR-CALDESC:Events for Ronald McDonald House Charities of the Triangle
REFRESH-INTERVAL;VALUE=DURATION:PT1H
X-Robots-Tag:noindex
X-PUBLISHED-TTL:PT1H
BEGIN:VTIMEZONE
TZID:America/New_York
BEGIN:DAYLIGHT
TZOFFSETFROM:-0500
TZOFFSETTO:-0400
TZNAME:EDT
DTSTART:20250309T070000
END:DAYLIGHT
BEGIN:STANDARD
TZOFFSETFROM:-0400
TZOFFSETTO:-0500
TZNAME:EST
DTSTART:20251102T060000
END:STANDARD
BEGIN:DAYLIGHT
TZOFFSETFROM:-0500
TZOFFSETTO:-0400
TZNAME:EDT
DTSTART:20260308T070000
END:DAYLIGHT
BEGIN:STANDARD
TZOFFSETFROM:-0400
TZOFFSETTO:-0500
TZNAME:EST
DTSTART:20261101T060000
END:STANDARD
BEGIN:DAYLIGHT
TZOFFSETFROM:-0500
TZOFFSETTO:-0400
TZNAME:EDT
DTSTART:20270314T070000
END:DAYLIGHT
BEGIN:STANDARD
TZOFFSETFROM:-0400
TZOFFSETTO:-0500
TZNAME:EST
DTSTART:20271107T060000
END:STANDARD
END:VTIMEZONE
BEGIN:VEVENT
DTSTART;TZID=America/New_York:20260503T170000
DTEND;TZID=America/New_York:20260503T170000
DTSTAMP:20260421T195228
CREATED:20251009T124218Z
LAST-MODIFIED:20251009T124218Z
UID:10002705-1777827600-1777827600@rmhctriangle.org
SUMMARY:Wakefield United Methodist Church
DESCRIPTION:
URL:https://rmhctriangle.org/family-event/wakefield-united-methodist-church-3/2026-05-03/
CATEGORIES:Durham Meals
END:VEVENT
BEGIN:VEVENT
DTSTART;TZID=America/New_York:20260504T170000
DTEND;TZID=America/New_York:20260504T170000
DTSTAMP:20260421T195228
CREATED:20260327T143408Z
LAST-MODIFIED:20260327T143408Z
UID:10003068-1777914000-1777914000@rmhctriangle.org
SUMMARY:Skanska
DESCRIPTION:
URL:https://rmhctriangle.org/family-event/skanska-3/
CATEGORIES:Durham Meals
END:VEVENT
BEGIN:VEVENT
DTSTART;TZID=America/New_York:20260505T170000
DTEND;TZID=America/New_York:20260505T170000
DTSTAMP:20260421T195228
CREATED:20260107T153434Z
LAST-MODIFIED:20260107T153434Z
UID:10002875-1778000400-1778000400@rmhctriangle.org
SUMMARY:Dinner: Duke Hospital
DESCRIPTION:
URL:https://rmhctriangle.org/family-event/dinner-duke-hospital/
CATEGORIES:Durham Meals
END:VEVENT
BEGIN:VEVENT
DTSTART;TZID=America/New_York:20260506T170000
DTEND;TZID=America/New_York:20260506T170000
DTSTAMP:20260421T195228
CREATED:20260224T133814Z
LAST-MODIFIED:20260224T133814Z
UID:10003016-1778086800-1778086800@rmhctriangle.org
SUMMARY:Whole Foods
DESCRIPTION:
URL:https://rmhctriangle.org/family-event/whole-foods-2/
CATEGORIES:Durham Meals
END:VEVENT
BEGIN:VEVENT
DTSTART;TZID=America/New_York:20260507T170000
DTEND;TZID=America/New_York:20260507T170000
DTSTAMP:20260421T195228
CREATED:20260223T142934Z
LAST-MODIFIED:20260223T142934Z
UID:10003009-1778173200-1778173200@rmhctriangle.org
SUMMARY:NC Children's
DESCRIPTION:
URL:https://rmhctriangle.org/family-event/nc-childrens-3/
CATEGORIES:Durham Meals
END:VEVENT
BEGIN:VEVENT
DTSTART;TZID=America/New_York:20260508T170000
DTEND;TZID=America/New_York:20260508T170000
DTSTAMP:20260421T195228
CREATED:20260126T181311Z
LAST-MODIFIED:20260126T181328Z
UID:10002952-1778259600-1778259600@rmhctriangle.org
SUMMARY:Bunn Brantley Enterprises
DESCRIPTION:
URL:https://rmhctriangle.org/family-event/bunn-brantley-enterprises/
CATEGORIES:Durham Meals
END:VEVENT
BEGIN:VEVENT
DTSTART;TZID=America/New_York:20260509T170000
DTEND;TZID=America/New_York:20260509T170000
DTSTAMP:20260421T195228
CREATED:20260327T153605Z
LAST-MODIFIED:20260327T153605Z
UID:10003071-1778346000-1778346000@rmhctriangle.org
SUMMARY:Theta Phi Delta - Northern High School
DESCRIPTION:
URL:https://rmhctriangle.org/family-event/theta-phi-delta-northern-high-school/
CATEGORIES:Durham Meals
END:VEVENT
BEGIN:VEVENT
DTSTART;TZID=America/New_York:20260510T170000
DTEND;TZID=America/New_York:20260510T170000
DTSTAMP:20260421T195228
CREATED:20260330T135730Z
LAST-MODIFIED:20260330T135918Z
UID:10003072-1778432400-1778432400@rmhctriangle.org
SUMMARY:CHC/VDH Nurses
DESCRIPTION:
URL:https://rmhctriangle.org/family-event/duke-nurses/
CATEGORIES:Durham Meals
END:VEVENT
BEGIN:VEVENT
DTSTART;TZID=America/New_York:20260511T170000
DTEND;TZID=America/New_York:20260511T170000
DTSTAMP:20260421T195228
CREATED:20260227T134025Z
LAST-MODIFIED:20260227T134025Z
UID:10003039-1778518800-1778518800@rmhctriangle.org
SUMMARY:Hinton Cares Foundation
DESCRIPTION:
URL:https://rmhctriangle.org/family-event/hinton-cares-foundation/2026-05-11/
CATEGORIES:Durham Meals
END:VEVENT
BEGIN:VEVENT
DTSTART;TZID=America/New_York:20260512T170000
DTEND;TZID=America/New_York:20260512T170000
DTSTAMP:20260421T195228
CREATED:20260126T180908Z
LAST-MODIFIED:20260126T180908Z
UID:10002950-1778605200-1778605200@rmhctriangle.org
SUMMARY:Elevation Church
DESCRIPTION:
URL:https://rmhctriangle.org/family-event/elevation-church-9/2026-05-12/
CATEGORIES:Durham Meals
END:VEVENT
BEGIN:VEVENT
DTSTART;TZID=America/New_York:20260513T170000
DTEND;TZID=America/New_York:20260513T170000
DTSTAMP:20260421T195228
CREATED:20260211T140428Z
LAST-MODIFIED:20260211T140428Z
UID:10002993-1778691600-1778691600@rmhctriangle.org
SUMMARY:UCB
DESCRIPTION:
URL:https://rmhctriangle.org/family-event/ucb-10/
CATEGORIES:Durham Meals
END:VEVENT
BEGIN:VEVENT
DTSTART;TZID=America/New_York:20260514T170000
DTEND;TZID=America/New_York:20260514T170000
DTSTAMP:20260421T195228
CREATED:20251201T180434Z
LAST-MODIFIED:20251201T180434Z
UID:10002799-1778778000-1778778000@rmhctriangle.org
SUMMARY:Hillsborough Kiwanis Club
DESCRIPTION:
URL:https://rmhctriangle.org/family-event/hillsborough-kiwanis-club-4/2026-05-14/
CATEGORIES:Durham Meals
END:VEVENT
BEGIN:VEVENT
DTSTART;TZID=America/New_York:20260515T170000
DTEND;TZID=America/New_York:20260515T170000
DTSTAMP:20260421T195228
CREATED:20260317T194858Z
LAST-MODIFIED:20260317T194858Z
UID:10003055-1778864400-1778864400@rmhctriangle.org
SUMMARY:Ricci Law Firm
DESCRIPTION:
URL:https://rmhctriangle.org/family-event/ricci-law-firm/
CATEGORIES:Durham Meals
END:VEVENT
BEGIN:VEVENT
DTSTART;TZID=America/New_York:20260516T170000
DTEND;TZID=America/New_York:20260516T170000
DTSTAMP:20260421T195228
CREATED:20260320T134550Z
LAST-MODIFIED:20260320T134550Z
UID:10003058-1778950800-1778950800@rmhctriangle.org
SUMMARY:Bailey Family
DESCRIPTION:
URL:https://rmhctriangle.org/family-event/bailey-family-2/
CATEGORIES:Durham Meals
END:VEVENT
BEGIN:VEVENT
DTSTART;TZID=America/New_York:20260517T170000
DTEND;TZID=America/New_York:20260517T170000
DTSTAMP:20260421T195228
CREATED:20250925T201821Z
LAST-MODIFIED:20250929T155854Z
UID:10002687-1779037200-1779037200@rmhctriangle.org
SUMMARY:St. Mary Magdalene
DESCRIPTION:
URL:https://rmhctriangle.org/family-event/st-mary-magdalene/2026-05-17/
CATEGORIES:Durham Meals
END:VEVENT
BEGIN:VEVENT
DTSTART;TZID=America/New_York:20260518T170000
DTEND;TZID=America/New_York:20260518T170000
DTSTAMP:20260421T195228
CREATED:20260121T182900Z
LAST-MODIFIED:20260126T175917Z
UID:10002942-1779123600-1779123600@rmhctriangle.org
SUMMARY:ABCC FLEX
DESCRIPTION:
URL:https://rmhctriangle.org/family-event/abcc-flex/
CATEGORIES:Durham Meals
END:VEVENT
BEGIN:VEVENT
DTSTART;TZID=America/New_York:20260519T170000
DTEND;TZID=America/New_York:20260519T170000
DTSTAMP:20260421T195228
CREATED:20260226T191535Z
LAST-MODIFIED:20260226T191535Z
UID:10003036-1779210000-1779210000@rmhctriangle.org
SUMMARY:World Overcomers
DESCRIPTION:
URL:https://rmhctriangle.org/family-event/world-overcomers-4/2026-05-19/
CATEGORIES:Durham Meals
END:VEVENT
BEGIN:VEVENT
DTSTART;TZID=America/New_York:20260520T170000
DTEND;TZID=America/New_York:20260520T170000
DTSTAMP:20260421T195228
CREATED:20241210T192405Z
LAST-MODIFIED:20251029T172214Z
UID:10002735-1779296400-1779296400@rmhctriangle.org
SUMMARY:St. Francis of Assisi
DESCRIPTION:
URL:https://rmhctriangle.org/family-event/st-francis-of-assisi-3/2026-05-20/
CATEGORIES:Durham Meals
END:VEVENT
BEGIN:VEVENT
DTSTART;TZID=America/New_York:20260521T170000
DTEND;TZID=America/New_York:20260521T170000
DTSTAMP:20260421T195228
CREATED:20260129T170225Z
LAST-MODIFIED:20260129T170225Z
UID:10002965-1779382800-1779382800@rmhctriangle.org
SUMMARY:Notre Dame Women
DESCRIPTION:
URL:https://rmhctriangle.org/family-event/notre-dame-women/2026-05-21/
CATEGORIES:Durham Meals
END:VEVENT
BEGIN:VEVENT
DTSTART;TZID=America/New_York:20260522T170000
DTEND;TZID=America/New_York:20260522T170000
DTSTAMP:20260421T195228
CREATED:20260327T145412Z
LAST-MODIFIED:20260327T145412Z
UID:10003070-1779469200-1779469200@rmhctriangle.org
SUMMARY:Chatham Steel
DESCRIPTION:
URL:https://rmhctriangle.org/family-event/chatham-steel/
CATEGORIES:Durham Meals
END:VEVENT
BEGIN:VEVENT
DTSTART;TZID=America/New_York:20260523T170000
DTEND;TZID=America/New_York:20260523T170000
DTSTAMP:20260421T195228
CREATED:20260114T160723Z
LAST-MODIFIED:20260114T160723Z
UID:10002900-1779555600-1779555600@rmhctriangle.org
SUMMARY:Zakat
DESCRIPTION:
URL:https://rmhctriangle.org/family-event/zakat-2/2026-05-23/
CATEGORIES:Durham Meals
END:VEVENT
BEGIN:VEVENT
DTSTART;TZID=America/New_York:20260524T170000
DTEND;TZID=America/New_York:20260524T170000
DTSTAMP:20260421T195228
CREATED:20260416T174455Z
LAST-MODIFIED:20260416T174455Z
UID:10003247-1779642000-1779642000@rmhctriangle.org
SUMMARY:Nelson Baptist Church
DESCRIPTION:
URL:https://rmhctriangle.org/family-event/nelson-baptist-church-5/
CATEGORIES:Durham Meals
END:VEVENT
BEGIN:VEVENT
DTSTART;TZID=America/New_York:20260525T080000
DTEND;TZID=America/New_York:20260525T170000
DTSTAMP:20260421T195228
CREATED:20230713T184402Z
LAST-MODIFIED:20230814T180412Z
UID:10000791-1779696000-1779728400@rmhctriangle.org
SUMMARY:Kiwanis Club of the Friendly City
DESCRIPTION:
URL:https://rmhctriangle.org/family-event/kiwanis-club-of-the-friendly-city/2026-05-25/
CATEGORIES:Durham Meals
END:VEVENT
BEGIN:VEVENT
DTSTART;TZID=America/New_York:20260526T170000
DTEND;TZID=America/New_York:20260526T170000
DTSTAMP:20260421T195228
CREATED:20260318T190138Z
LAST-MODIFIED:20260318T190148Z
UID:10003056-1779814800-1779814800@rmhctriangle.org
SUMMARY:Shepherd's Angel
DESCRIPTION:
URL:https://rmhctriangle.org/family-event/shepherds-angel-20/
CATEGORIES:Durham Meals
END:VEVENT
BEGIN:VEVENT
DTSTART;TZID=America/New_York:20260527T170000
DTEND;TZID=America/New_York:20260527T170000
DTSTAMP:20260421T195228
CREATED:20260202T205233Z
LAST-MODIFIED:20260202T205233Z
UID:10002973-1779901200-1779901200@rmhctriangle.org
SUMMARY:Couch Oil
DESCRIPTION:
URL:https://rmhctriangle.org/family-event/couch-oil-5/2026-05-27/
CATEGORIES:Durham Meals
END:VEVENT
BEGIN:VEVENT
DTSTART;TZID=America/New_York:20260528T170000
DTEND;TZID=America/New_York:20260528T170000
DTSTAMP:20260421T195228
CREATED:20260317T145922Z
LAST-MODIFIED:20260317T145922Z
UID:10003053-1779987600-1779987600@rmhctriangle.org
SUMMARY:Immanuel Temple
DESCRIPTION:
URL:https://rmhctriangle.org/family-event/immanuel-temple-2/
CATEGORIES:Durham Meals
END:VEVENT
BEGIN:VEVENT
DTSTART;TZID=America/New_York:20260529T170000
DTEND;TZID=America/New_York:20260529T170000
DTSTAMP:20260421T195228
CREATED:20260413T195019Z
LAST-MODIFIED:20260413T195019Z
UID:10003241-1780074000-1780074000@rmhctriangle.org
SUMMARY:The Traits Company
DESCRIPTION:
URL:https://rmhctriangle.org/family-event/the-traits-company/
CATEGORIES:Durham Meals
END:VEVENT
BEGIN:VEVENT
DTSTART;TZID=America/New_York:20260530T170000
DTEND;TZID=America/New_York:20260530T170000
DTSTAMP:20260421T195228
CREATED:20260414T192836Z
LAST-MODIFIED:20260414T192836Z
UID:10003243-1780160400-1780160400@rmhctriangle.org
SUMMARY:Cap City Clutch
DESCRIPTION:
URL:https://rmhctriangle.org/family-event/cap-city-clutch-4/2026-05-30/
CATEGORIES:Durham Meals
END:VEVENT
BEGIN:VEVENT
DTSTART;TZID=America/New_York:20260531T170000
DTEND;TZID=America/New_York:20260531T170000
DTSTAMP:20260421T195228
CREATED:20251125T183916Z
LAST-MODIFIED:20260102T145333Z
UID:10002783-1780246800-1780246800@rmhctriangle.org
SUMMARY:TUTA
DESCRIPTION:
URL:https://rmhctriangle.org/family-event/tuta-3/2026-05-31/
CATEGORIES:Durham Meals
END:VEVENT
BEGIN:VEVENT
DTSTART;TZID=America/New_York:20260602T170000
DTEND;TZID=America/New_York:20260602T170000
DTSTAMP:20260421T195228
CREATED:20260330T184425Z
LAST-MODIFIED:20260330T184425Z
UID:10003077-1780419600-1780419600@rmhctriangle.org
SUMMARY:McKim & Creed
DESCRIPTION:
URL:https://rmhctriangle.org/family-event/mckim-creed-3/
CATEGORIES:Durham Meals
END:VEVENT
END:VCALENDAR