BEGIN:VCALENDAR
VERSION:2.0
PRODID:-//Ronald McDonald House Charities of the Triangle - ECPv6.15.17.1//NONSGML v1.0//EN
CALSCALE:GREGORIAN
METHOD:PUBLISH
X-ORIGINAL-URL:https://rmhctriangle.org
X-WR-CALDESC:Events for Ronald McDonald House Charities of the Triangle
REFRESH-INTERVAL;VALUE=DURATION:PT1H
X-Robots-Tag:noindex
X-PUBLISHED-TTL:PT1H
BEGIN:VTIMEZONE
TZID:America/New_York
BEGIN:DAYLIGHT
TZOFFSETFROM:-0500
TZOFFSETTO:-0400
TZNAME:EDT
DTSTART:20240310T070000
END:DAYLIGHT
BEGIN:STANDARD
TZOFFSETFROM:-0400
TZOFFSETTO:-0500
TZNAME:EST
DTSTART:20241103T060000
END:STANDARD
BEGIN:DAYLIGHT
TZOFFSETFROM:-0500
TZOFFSETTO:-0400
TZNAME:EDT
DTSTART:20250309T070000
END:DAYLIGHT
BEGIN:STANDARD
TZOFFSETFROM:-0400
TZOFFSETTO:-0500
TZNAME:EST
DTSTART:20251102T060000
END:STANDARD
BEGIN:DAYLIGHT
TZOFFSETFROM:-0500
TZOFFSETTO:-0400
TZNAME:EDT
DTSTART:20260308T070000
END:DAYLIGHT
BEGIN:STANDARD
TZOFFSETFROM:-0400
TZOFFSETTO:-0500
TZNAME:EST
DTSTART:20261101T060000
END:STANDARD
END:VTIMEZONE
BEGIN:VEVENT
DTSTART;TZID=America/New_York:20250801T170000
DTEND;TZID=America/New_York:20250801T170000
DTSTAMP:20260422T215403
CREATED:20250313T133218Z
LAST-MODIFIED:20250313T133218Z
UID:10002291-1754067600-1754067600@rmhctriangle.org
SUMMARY:Elevation (Love Week)
DESCRIPTION:
URL:https://rmhctriangle.org/family-event/elevation-love-week/2025-08-01/
CATEGORIES:Durham Meals
END:VEVENT
BEGIN:VEVENT
DTSTART;TZID=America/New_York:20250802T170000
DTEND;TZID=America/New_York:20250802T170000
DTSTAMP:20260422T215403
CREATED:20241211T184514Z
LAST-MODIFIED:20250102T213801Z
UID:10002094-1754154000-1754154000@rmhctriangle.org
SUMMARY:Zakat Foundation
DESCRIPTION:
URL:https://rmhctriangle.org/family-event/zakat-foundation-22/2025-08-02/
CATEGORIES:Durham Meals
END:VEVENT
BEGIN:VEVENT
DTSTART;TZID=America/New_York:20250805T170000
DTEND;TZID=America/New_York:20250805T173000
DTSTAMP:20260422T215403
CREATED:20240918T155354Z
LAST-MODIFIED:20240918T155354Z
UID:10001951-1754413200-1754415000@rmhctriangle.org
SUMMARY:New Red Mountain Women's Ministry
DESCRIPTION:
URL:https://rmhctriangle.org/family-event/new-red-mountain-womens-ministry/2025-08-05/
CATEGORIES:Durham Meals
END:VEVENT
BEGIN:VEVENT
DTSTART;TZID=America/New_York:20250806T170000
DTEND;TZID=America/New_York:20250806T173000
DTSTAMP:20260422T215403
CREATED:20241015T141923Z
LAST-MODIFIED:20241015T141923Z
UID:10001978-1754499600-1754501400@rmhctriangle.org
SUMMARY:Red Shoe Crew
DESCRIPTION:
URL:https://rmhctriangle.org/family-event/red-shoe-crew-6/2025-08-06/
CATEGORIES:Chapel Hill Meals,Durham Meals
END:VEVENT
BEGIN:VEVENT
DTSTART;TZID=America/New_York:20250807T170000
DTEND;TZID=America/New_York:20250807T170000
DTSTAMP:20260422T215403
CREATED:20250627T191402Z
LAST-MODIFIED:20250627T191402Z
UID:10002432-1754586000-1754586000@rmhctriangle.org
SUMMARY:McKim & Creed
DESCRIPTION:
URL:https://rmhctriangle.org/family-event/mckim-creed-2/
CATEGORIES:Durham Meals
END:VEVENT
BEGIN:VEVENT
DTSTART;TZID=America/New_York:20250809T170000
DTEND;TZID=America/New_York:20250809T170000
DTSTAMP:20260422T215403
CREATED:20250723T205552Z
LAST-MODIFIED:20250723T205552Z
UID:10002480-1754758800-1754758800@rmhctriangle.org
SUMMARY:Bailey Family
DESCRIPTION:
URL:https://rmhctriangle.org/family-event/bailey-family/
CATEGORIES:Durham Meals
END:VEVENT
BEGIN:VEVENT
DTSTART;TZID=America/New_York:20250810T170000
DTEND;TZID=America/New_York:20250810T170000
DTSTAMP:20260422T215403
CREATED:20250612T130711Z
LAST-MODIFIED:20250612T130711Z
UID:10002394-1754845200-1754845200@rmhctriangle.org
SUMMARY:Wakefield United Methodist Church
DESCRIPTION:
URL:https://rmhctriangle.org/family-event/wakefield-united-methodist-church-2/
CATEGORIES:Durham Meals
END:VEVENT
BEGIN:VEVENT
DTSTART;TZID=America/New_York:20250811T170000
DTEND;TZID=America/New_York:20250811T170000
DTSTAMP:20260422T215403
CREATED:20250701T142524Z
LAST-MODIFIED:20250701T142524Z
UID:10002445-1754931600-1754931600@rmhctriangle.org
SUMMARY:Couch Oil
DESCRIPTION:
URL:https://rmhctriangle.org/family-event/couch-oil-4/2025-08-11/
CATEGORIES:Durham Meals
END:VEVENT
BEGIN:VEVENT
DTSTART;TZID=America/New_York:20250812T170000
DTEND;TZID=America/New_York:20250812T170000
DTSTAMP:20260422T215403
CREATED:20250610T130735Z
LAST-MODIFIED:20250610T130735Z
UID:10002387-1755018000-1755018000@rmhctriangle.org
SUMMARY:Amazon
DESCRIPTION:
URL:https://rmhctriangle.org/family-event/amazon-2/
CATEGORIES:Durham Meals
END:VEVENT
BEGIN:VEVENT
DTSTART;TZID=America/New_York:20250813T170000
DTEND;TZID=America/New_York:20250813T170000
DTSTAMP:20260422T215403
CREATED:20250421T184000Z
LAST-MODIFIED:20250421T184000Z
UID:10002329-1755104400-1755104400@rmhctriangle.org
SUMMARY:Invictus Logistics
DESCRIPTION:
URL:https://rmhctriangle.org/family-event/invictus-logistics/2025-08-13/
CATEGORIES:Durham Meals
END:VEVENT
BEGIN:VEVENT
DTSTART;TZID=America/New_York:20250814T170000
DTEND;TZID=America/New_York:20250814T170000
DTSTAMP:20260422T215403
CREATED:20250623T205955Z
LAST-MODIFIED:20250623T205955Z
UID:10002409-1755190800-1755190800@rmhctriangle.org
SUMMARY:Valeris
DESCRIPTION:
URL:https://rmhctriangle.org/family-event/valeris/2025-08-14/
CATEGORIES:Durham Meals
END:VEVENT
BEGIN:VEVENT
DTSTART;TZID=America/New_York:20250816T170000
DTEND;TZID=America/New_York:20250816T170000
DTSTAMP:20260422T215403
CREATED:20250618T195500Z
LAST-MODIFIED:20250618T195500Z
UID:10002404-1755363600-1755363600@rmhctriangle.org
SUMMARY:Wake Chapel Church Youth Ministry
DESCRIPTION:
URL:https://rmhctriangle.org/family-event/wake-chapel-church-youth-ministry/
CATEGORIES:Durham Meals
END:VEVENT
BEGIN:VEVENT
DTSTART;TZID=America/New_York:20250817T170000
DTEND;TZID=America/New_York:20250817T170000
DTSTAMP:20260422T215403
CREATED:20250710T173320Z
LAST-MODIFIED:20250925T201921Z
UID:10002456-1755450000-1755450000@rmhctriangle.org
SUMMARY:St. Mary Magdalene Young Adults
DESCRIPTION:
URL:https://rmhctriangle.org/family-event/st-mary-magdalene-young-adults/2025-08-17/
CATEGORIES:Durham Meals
END:VEVENT
BEGIN:VEVENT
DTSTART;TZID=America/New_York:20250818T170000
DTEND;TZID=America/New_York:20250818T170000
DTSTAMP:20260422T215403
CREATED:20250716T134232Z
LAST-MODIFIED:20250716T134232Z
UID:10002470-1755536400-1755536400@rmhctriangle.org
SUMMARY:McDonald York
DESCRIPTION:
URL:https://rmhctriangle.org/family-event/mcdonald-york-2/
CATEGORIES:Durham Meals
END:VEVENT
BEGIN:VEVENT
DTSTART;TZID=America/New_York:20250819T170000
DTEND;TZID=America/New_York:20250819T170000
DTSTAMP:20260422T215403
CREATED:20250115T144203Z
LAST-MODIFIED:20250115T144203Z
UID:10002187-1755622800-1755622800@rmhctriangle.org
SUMMARY:Notre Dame Women Connect
DESCRIPTION:
URL:https://rmhctriangle.org/family-event/notre-dame-women-connect/2025-08-19/
CATEGORIES:Durham Meals
END:VEVENT
BEGIN:VEVENT
DTSTART;TZID=America/New_York:20250820T170000
DTEND;TZID=America/New_York:20250820T170000
DTSTAMP:20260422T215403
CREATED:20241210T192405Z
LAST-MODIFIED:20251029T172214Z
UID:10002081-1755709200-1755709200@rmhctriangle.org
SUMMARY:St. Francis of Assisi
DESCRIPTION:
URL:https://rmhctriangle.org/family-event/st-francis-of-assisi-3/2025-08-20/
CATEGORIES:Durham Meals
END:VEVENT
BEGIN:VEVENT
DTSTART;TZID=America/New_York:20250821T170000
DTEND;TZID=America/New_York:20250821T170000
DTSTAMP:20260422T215403
CREATED:20241119T202843Z
LAST-MODIFIED:20241119T202843Z
UID:10002044-1755795600-1755795600@rmhctriangle.org
SUMMARY:Hillsborough Kiwanis Club
DESCRIPTION:
URL:https://rmhctriangle.org/family-event/hillsborough-kiwanis-club-3/2025-08-21/
CATEGORIES:Durham Meals
END:VEVENT
BEGIN:VEVENT
DTSTART;TZID=America/New_York:20250822T170000
DTEND;TZID=America/New_York:20250822T170000
DTSTAMP:20260422T215403
CREATED:20250610T154325Z
LAST-MODIFIED:20250610T154325Z
UID:10002388-1755882000-1755882000@rmhctriangle.org
SUMMARY:Jabil
DESCRIPTION:
URL:https://rmhctriangle.org/family-event/jabil-3/
CATEGORIES:Durham Meals
END:VEVENT
BEGIN:VEVENT
DTSTART;TZID=America/New_York:20250823T170000
DTEND;TZID=America/New_York:20250823T170000
DTSTAMP:20260422T215403
CREATED:20250609T175627Z
LAST-MODIFIED:20250609T175627Z
UID:10002378-1755968400-1755968400@rmhctriangle.org
SUMMARY:Alamance County Farm Bureau Women's Committee
DESCRIPTION:
URL:https://rmhctriangle.org/family-event/alamance-county-farm-bureau-womens-committee/
CATEGORIES:Durham Meals
END:VEVENT
BEGIN:VEVENT
DTSTART;TZID=America/New_York:20250824T170000
DTEND;TZID=America/New_York:20250824T170000
DTSTAMP:20260422T215403
CREATED:20250725T144927Z
LAST-MODIFIED:20250725T144927Z
UID:10002481-1756054800-1756054800@rmhctriangle.org
SUMMARY:Jodi Darrohn Family
DESCRIPTION:
URL:https://rmhctriangle.org/family-event/jodi-darrohn-family/
CATEGORIES:Durham Meals
END:VEVENT
BEGIN:VEVENT
DTSTART;TZID=America/New_York:20250825T080000
DTEND;TZID=America/New_York:20250825T170000
DTSTAMP:20260422T215403
CREATED:20230713T184402Z
LAST-MODIFIED:20230814T180412Z
UID:10000785-1756108800-1756141200@rmhctriangle.org
SUMMARY:Kiwanis Club of the Friendly City
DESCRIPTION:
URL:https://rmhctriangle.org/family-event/kiwanis-club-of-the-friendly-city/2025-08-25/
CATEGORIES:Durham Meals
END:VEVENT
BEGIN:VEVENT
DTSTART;TZID=America/New_York:20250826T170000
DTEND;TZID=America/New_York:20250826T170000
DTSTAMP:20260422T215403
CREATED:20250617T190340Z
LAST-MODIFIED:20250617T190340Z
UID:10002403-1756227600-1756227600@rmhctriangle.org
SUMMARY:Shepherd's Angel
DESCRIPTION:
URL:https://rmhctriangle.org/family-event/shepherds-angel-12/
CATEGORIES:Durham Meals
END:VEVENT
BEGIN:VEVENT
DTSTART;TZID=America/New_York:20250827T170000
DTEND;TZID=America/New_York:20250827T170000
DTSTAMP:20260422T215403
CREATED:20250113T203405Z
LAST-MODIFIED:20250115T143823Z
UID:10002174-1756314000-1756314000@rmhctriangle.org
SUMMARY:Guerbet
DESCRIPTION:
URL:https://rmhctriangle.org/family-event/guerbet-3/2025-08-27/
CATEGORIES:Durham Meals
END:VEVENT
BEGIN:VEVENT
DTSTART;TZID=America/New_York:20250828T170000
DTEND;TZID=America/New_York:20250828T170000
DTSTAMP:20260422T215403
CREATED:20250725T145414Z
LAST-MODIFIED:20250725T145414Z
UID:10002482-1756400400-1756400400@rmhctriangle.org
SUMMARY:Circle of Friends Small Group/Liberty Baptist
DESCRIPTION:
URL:https://rmhctriangle.org/family-event/circle-of-friends-small-group-liberty-baptist/
CATEGORIES:Durham Meals
END:VEVENT
BEGIN:VEVENT
DTSTART;TZID=America/New_York:20250830T170000
DTEND;TZID=America/New_York:20250830T170000
DTSTAMP:20260422T215403
CREATED:20250128T184103Z
LAST-MODIFIED:20260102T145738Z
UID:10002222-1756573200-1756573200@rmhctriangle.org
SUMMARY:TUTA
DESCRIPTION:
URL:https://rmhctriangle.org/family-event/tuta-2/2025-08-30/
CATEGORIES:Durham Meals
END:VEVENT
BEGIN:VEVENT
DTSTART;TZID=America/New_York:20250903T170000
DTEND;TZID=America/New_York:20250903T170000
DTSTAMP:20260422T215403
CREATED:20250910T140602Z
LAST-MODIFIED:20250910T140602Z
UID:10002656-1756918800-1756918800@rmhctriangle.org
SUMMARY:McDonalds
DESCRIPTION:
URL:https://rmhctriangle.org/family-event/mcdonalds-16/2025-09-03/
CATEGORIES:Durham Meals
END:VEVENT
BEGIN:VEVENT
DTSTART;TZID=America/New_York:20250904T170000
DTEND;TZID=America/New_York:20250904T170000
DTSTAMP:20260422T215403
CREATED:20250820T195718Z
LAST-MODIFIED:20250821T193435Z
UID:10002628-1757005200-1757005200@rmhctriangle.org
SUMMARY:AVI-SPL
DESCRIPTION:
URL:https://rmhctriangle.org/family-event/avi-spl-2/
CATEGORIES:Durham Meals
END:VEVENT
BEGIN:VEVENT
DTSTART;TZID=America/New_York:20250905T170000
DTEND;TZID=America/New_York:20250905T170000
DTSTAMP:20260422T215403
CREATED:20250314T135619Z
LAST-MODIFIED:20250317T163841Z
UID:10002294-1757091600-1757091600@rmhctriangle.org
SUMMARY:Southwest Airlines
DESCRIPTION:
URL:https://rmhctriangle.org/family-event/southwest-airlines-2/2025-09-05/
CATEGORIES:Durham Meals
END:VEVENT
BEGIN:VEVENT
DTSTART;TZID=America/New_York:20250906T170000
DTEND;TZID=America/New_York:20250906T170000
DTSTAMP:20260422T215403
CREATED:20241211T184514Z
LAST-MODIFIED:20250102T213801Z
UID:10002095-1757178000-1757178000@rmhctriangle.org
SUMMARY:Zakat Foundation
DESCRIPTION:
URL:https://rmhctriangle.org/family-event/zakat-foundation-22/2025-09-06/
CATEGORIES:Durham Meals
END:VEVENT
BEGIN:VEVENT
DTSTART;TZID=America/New_York:20250907T170000
DTEND;TZID=America/New_York:20250907T170000
DTSTAMP:20260422T215403
CREATED:20250805T134643Z
LAST-MODIFIED:20250805T134643Z
UID:10002496-1757264400-1757264400@rmhctriangle.org
SUMMARY:Business Behind Health Duke
DESCRIPTION:
URL:https://rmhctriangle.org/family-event/business-behind-health-duke/
CATEGORIES:Durham Meals
END:VEVENT
END:VCALENDAR