BEGIN:VCALENDAR
VERSION:2.0
PRODID:-//Ronald McDonald House Charities of the Triangle - ECPv6.15.17.1//NONSGML v1.0//EN
CALSCALE:GREGORIAN
METHOD:PUBLISH
X-ORIGINAL-URL:https://rmhctriangle.org
X-WR-CALDESC:Events for Ronald McDonald House Charities of the Triangle
REFRESH-INTERVAL;VALUE=DURATION:PT1H
X-Robots-Tag:noindex
X-PUBLISHED-TTL:PT1H
BEGIN:VTIMEZONE
TZID:America/New_York
BEGIN:DAYLIGHT
TZOFFSETFROM:-0500
TZOFFSETTO:-0400
TZNAME:EDT
DTSTART:20240310T070000
END:DAYLIGHT
BEGIN:STANDARD
TZOFFSETFROM:-0400
TZOFFSETTO:-0500
TZNAME:EST
DTSTART:20241103T060000
END:STANDARD
BEGIN:DAYLIGHT
TZOFFSETFROM:-0500
TZOFFSETTO:-0400
TZNAME:EDT
DTSTART:20250309T070000
END:DAYLIGHT
BEGIN:STANDARD
TZOFFSETFROM:-0400
TZOFFSETTO:-0500
TZNAME:EST
DTSTART:20251102T060000
END:STANDARD
BEGIN:DAYLIGHT
TZOFFSETFROM:-0500
TZOFFSETTO:-0400
TZNAME:EDT
DTSTART:20260308T070000
END:DAYLIGHT
BEGIN:STANDARD
TZOFFSETFROM:-0400
TZOFFSETTO:-0500
TZNAME:EST
DTSTART:20261101T060000
END:STANDARD
END:VTIMEZONE
BEGIN:VEVENT
DTSTART;TZID=America/New_York:20250320T170000
DTEND;TZID=America/New_York:20250320T170000
DTSTAMP:20260422T135953
CREATED:20250107T185836Z
LAST-MODIFIED:20250107T185836Z
UID:10002148-1742490000-1742490000@rmhctriangle.org
SUMMARY:Models for Charity
DESCRIPTION:
URL:https://rmhctriangle.org/family-event/models-for-charity/2025-03-20/
CATEGORIES:Durham Meals
END:VEVENT
BEGIN:VEVENT
DTSTART;TZID=America/New_York:20250321T170000
DTEND;TZID=America/New_York:20250321T170000
DTSTAMP:20260422T135953
CREATED:20250130T144339Z
LAST-MODIFIED:20250130T144414Z
UID:10002234-1742576400-1742576400@rmhctriangle.org
SUMMARY:Elevation Church
DESCRIPTION:
URL:https://rmhctriangle.org/family-event/elevation-church-3/
CATEGORIES:Durham Meals
END:VEVENT
BEGIN:VEVENT
DTSTART;TZID=America/New_York:20250322T170000
DTEND;TZID=America/New_York:20250322T170000
DTSTAMP:20260422T135953
CREATED:20250319T130515Z
LAST-MODIFIED:20250319T130515Z
UID:10002299-1742662800-1742662800@rmhctriangle.org
SUMMARY:McDonald's
DESCRIPTION:
URL:https://rmhctriangle.org/family-event/mcdonalds-12/
CATEGORIES:Durham Meals
END:VEVENT
BEGIN:VEVENT
DTSTART;TZID=America/New_York:20250323T170000
DTEND;TZID=America/New_York:20250323T170000
DTSTAMP:20260422T135953
CREATED:20250122T171241Z
LAST-MODIFIED:20250122T171241Z
UID:10002202-1742749200-1742749200@rmhctriangle.org
SUMMARY:Branch Civil
DESCRIPTION:
URL:https://rmhctriangle.org/family-event/branch-civil-3/
CATEGORIES:Durham Meals
END:VEVENT
BEGIN:VEVENT
DTSTART;TZID=America/New_York:20250324T170000
DTEND;TZID=America/New_York:20250324T170000
DTSTAMP:20260422T135953
CREATED:20250204T165410Z
LAST-MODIFIED:20250204T165410Z
UID:10002251-1742835600-1742835600@rmhctriangle.org
SUMMARY:UNC Student Occupational Therapy Association
DESCRIPTION:
URL:https://rmhctriangle.org/family-event/unc-student-occupational-therapy-association/
CATEGORIES:Durham Meals
END:VEVENT
BEGIN:VEVENT
DTSTART;TZID=America/New_York:20250325T170000
DTEND;TZID=America/New_York:20250325T170000
DTSTAMP:20260422T135953
CREATED:20250129T153246Z
LAST-MODIFIED:20250129T153246Z
UID:10002231-1742922000-1742922000@rmhctriangle.org
SUMMARY:Young Construction
DESCRIPTION:
URL:https://rmhctriangle.org/family-event/young-construction/
CATEGORIES:Durham Meals
END:VEVENT
BEGIN:VEVENT
DTSTART;TZID=America/New_York:20250326T170000
DTEND;TZID=America/New_York:20250326T170000
DTSTAMP:20260422T135953
CREATED:20250113T203405Z
LAST-MODIFIED:20250115T143823Z
UID:10002171-1743008400-1743008400@rmhctriangle.org
SUMMARY:Guerbet
DESCRIPTION:
URL:https://rmhctriangle.org/family-event/guerbet-3/2025-03-26/
CATEGORIES:Durham Meals
END:VEVENT
BEGIN:VEVENT
DTSTART;TZID=America/New_York:20250327T170000
DTEND;TZID=America/New_York:20250327T170000
DTSTAMP:20260422T135953
CREATED:20250127T154508Z
LAST-MODIFIED:20250127T154508Z
UID:10002214-1743094800-1743094800@rmhctriangle.org
SUMMARY:MarshMcLennan
DESCRIPTION:
URL:https://rmhctriangle.org/family-event/marshmclennan/
CATEGORIES:Durham Meals
END:VEVENT
BEGIN:VEVENT
DTSTART;TZID=America/New_York:20250328T170000
DTEND;TZID=America/New_York:20250328T170000
DTSTAMP:20260422T135953
CREATED:20250129T160216Z
LAST-MODIFIED:20250129T160216Z
UID:10002233-1743181200-1743181200@rmhctriangle.org
SUMMARY:Shepherd's Angel
DESCRIPTION:
URL:https://rmhctriangle.org/family-event/shepherds-angel-7/
CATEGORIES:Durham Meals
END:VEVENT
BEGIN:VEVENT
DTSTART;TZID=America/New_York:20250329T170000
DTEND;TZID=America/New_York:20250329T170000
DTSTAMP:20260422T135953
CREATED:20250103T204350Z
LAST-MODIFIED:20250103T204710Z
UID:10002137-1743267600-1743267600@rmhctriangle.org
SUMMARY:World Overcomers
DESCRIPTION:
URL:https://rmhctriangle.org/family-event/world-overcomers-2/2025-03-29/
CATEGORIES:Durham Meals
END:VEVENT
BEGIN:VEVENT
DTSTART;TZID=America/New_York:20250330T170000
DTEND;TZID=America/New_York:20250330T170000
DTSTAMP:20260422T135953
CREATED:20250128T184103Z
LAST-MODIFIED:20260102T145738Z
UID:10002217-1743354000-1743354000@rmhctriangle.org
SUMMARY:TUTA
DESCRIPTION:
URL:https://rmhctriangle.org/family-event/tuta-2/2025-03-30/
CATEGORIES:Durham Meals
END:VEVENT
BEGIN:VEVENT
DTSTART;TZID=America/New_York:20250331T080000
DTEND;TZID=America/New_York:20250331T170000
DTSTAMP:20260422T135953
CREATED:20230713T184402Z
LAST-MODIFIED:20230814T180412Z
UID:10000295-1743408000-1743440400@rmhctriangle.org
SUMMARY:Kiwanis Club of the Friendly City
DESCRIPTION:
URL:https://rmhctriangle.org/family-event/kiwanis-club-of-the-friendly-city/2025-03-31/
CATEGORIES:Durham Meals
END:VEVENT
BEGIN:VEVENT
DTSTART;TZID=America/New_York:20250401T170000
DTEND;TZID=America/New_York:20250401T170000
DTSTAMP:20260422T135953
CREATED:20250217T200215Z
LAST-MODIFIED:20250217T200215Z
UID:10002264-1743526800-1743526800@rmhctriangle.org
SUMMARY:Milner Inc
DESCRIPTION:
URL:https://rmhctriangle.org/family-event/milner-inc/
CATEGORIES:Durham Meals
END:VEVENT
BEGIN:VEVENT
DTSTART;TZID=America/New_York:20250402T170000
DTEND;TZID=America/New_York:20250402T170000
DTSTAMP:20260422T135953
CREATED:20250211T212014Z
LAST-MODIFIED:20250211T212014Z
UID:10002259-1743613200-1743613200@rmhctriangle.org
SUMMARY:Couch Oil
DESCRIPTION:
URL:https://rmhctriangle.org/family-event/couch-oil-3/2025-04-02/
CATEGORIES:Durham Meals
END:VEVENT
BEGIN:VEVENT
DTSTART;TZID=America/New_York:20250403T170000
DTEND;TZID=America/New_York:20250403T170000
DTSTAMP:20260422T135953
CREATED:20250211T172103Z
LAST-MODIFIED:20250211T172103Z
UID:10002258-1743699600-1743699600@rmhctriangle.org
SUMMARY:The 1910 Experience
DESCRIPTION:
URL:https://rmhctriangle.org/family-event/the-1910-experience/
CATEGORIES:Durham Meals
END:VEVENT
BEGIN:VEVENT
DTSTART;TZID=America/New_York:20250404T170000
DTEND;TZID=America/New_York:20250404T170000
DTSTAMP:20260422T135953
CREATED:20250210T212234Z
LAST-MODIFIED:20250210T212234Z
UID:10002255-1743786000-1743786000@rmhctriangle.org
SUMMARY:Croasdaile Dental Arts
DESCRIPTION:
URL:https://rmhctriangle.org/family-event/croasdaile-dental-arts-2/
CATEGORIES:Durham Meals
END:VEVENT
BEGIN:VEVENT
DTSTART;TZID=America/New_York:20250405T170000
DTEND;TZID=America/New_York:20250405T170000
DTSTAMP:20260422T135953
CREATED:20241211T184514Z
LAST-MODIFIED:20250102T213801Z
UID:10002090-1743872400-1743872400@rmhctriangle.org
SUMMARY:Zakat Foundation
DESCRIPTION:
URL:https://rmhctriangle.org/family-event/zakat-foundation-22/2025-04-05/
CATEGORIES:Durham Meals
END:VEVENT
BEGIN:VEVENT
DTSTART;TZID=America/New_York:20250406T170000
DTEND;TZID=America/New_York:20250406T170000
DTSTAMP:20260422T135953
CREATED:20250211T171842Z
LAST-MODIFIED:20250211T171842Z
UID:10002257-1743958800-1743958800@rmhctriangle.org
SUMMARY:Dinner: Pure Platinum Social Club
DESCRIPTION:
URL:https://rmhctriangle.org/family-event/dinner-pure-platinum-social-club/
CATEGORIES:Durham Meals
END:VEVENT
BEGIN:VEVENT
DTSTART;TZID=America/New_York:20250407T170000
DTEND;TZID=America/New_York:20250407T170000
DTSTAMP:20260422T135953
CREATED:20250102T214557Z
LAST-MODIFIED:20250102T214557Z
UID:10002129-1744045200-1744045200@rmhctriangle.org
SUMMARY:NCSU ADPi
DESCRIPTION:
URL:https://rmhctriangle.org/family-event/ncsu-adpi-5/2025-04-07/
CATEGORIES:Durham Meals
END:VEVENT
BEGIN:VEVENT
DTSTART;TZID=America/New_York:20250408T170000
DTEND;TZID=America/New_York:20250408T170000
DTSTAMP:20260422T135953
CREATED:20250220T193941Z
LAST-MODIFIED:20250220T193941Z
UID:10002272-1744131600-1744131600@rmhctriangle.org
SUMMARY:Bodwin Realty
DESCRIPTION:
URL:https://rmhctriangle.org/family-event/bodwin-realty/
CATEGORIES:Durham Meals
END:VEVENT
BEGIN:VEVENT
DTSTART;TZID=America/New_York:20250409T170000
DTEND;TZID=America/New_York:20250409T170000
DTSTAMP:20260422T135953
CREATED:20250130T170426Z
LAST-MODIFIED:20250130T170426Z
UID:10002239-1744218000-1744218000@rmhctriangle.org
SUMMARY:Elevation Church
DESCRIPTION:
URL:https://rmhctriangle.org/family-event/elevation-church-4/
CATEGORIES:Durham Meals
END:VEVENT
BEGIN:VEVENT
DTSTART;TZID=America/New_York:20250410T170000
DTEND;TZID=America/New_York:20250410T170000
DTSTAMP:20260422T135953
CREATED:20250107T175649Z
LAST-MODIFIED:20250107T175649Z
UID:10002146-1744304400-1744304400@rmhctriangle.org
SUMMARY:Durham and Vicinity Association of Ministers Wives and Widows
DESCRIPTION:
URL:https://rmhctriangle.org/family-event/durham-and-vicinity-association-of-ministers-wives-and-widows/2025-04-10/
CATEGORIES:Durham Meals
END:VEVENT
BEGIN:VEVENT
DTSTART;TZID=America/New_York:20250411T170000
DTEND;TZID=America/New_York:20250411T170000
DTSTAMP:20260422T135953
CREATED:20250219T173819Z
LAST-MODIFIED:20250219T173819Z
UID:10002270-1744390800-1744390800@rmhctriangle.org
SUMMARY:Henderson Grove Missionary Baptist Church
DESCRIPTION:
URL:https://rmhctriangle.org/family-event/henderson-grove-missionary-baptist-church-2/
CATEGORIES:Durham Meals
END:VEVENT
BEGIN:VEVENT
DTSTART;TZID=America/New_York:20250412T170000
DTEND;TZID=America/New_York:20250412T170000
DTSTAMP:20260422T135953
CREATED:20250131T204859Z
LAST-MODIFIED:20250131T204859Z
UID:10002241-1744477200-1744477200@rmhctriangle.org
SUMMARY:Alpha Zeta Omega Chapter of Alpha Kappa Alpha Sorority\, Inc.
DESCRIPTION:
URL:https://rmhctriangle.org/family-event/alpha-zeta-omega-chapter-of-alpha-kappa-alpha-sorority-inc-2/
CATEGORIES:Durham Meals
END:VEVENT
BEGIN:VEVENT
DTSTART;TZID=America/New_York:20250413T170000
DTEND;TZID=America/New_York:20250413T170000
DTSTAMP:20260422T135953
CREATED:20250306T141454Z
LAST-MODIFIED:20250306T141454Z
UID:10002283-1744563600-1744563600@rmhctriangle.org
SUMMARY:Shepherd's Angel
DESCRIPTION:
URL:https://rmhctriangle.org/family-event/shepherds-angel-8/
CATEGORIES:Durham Meals
END:VEVENT
BEGIN:VEVENT
DTSTART;TZID=America/New_York:20250414T170000
DTEND;TZID=America/New_York:20250414T170000
DTSTAMP:20260422T135953
CREATED:20250218T204221Z
LAST-MODIFIED:20250218T204221Z
UID:10002267-1744650000-1744650000@rmhctriangle.org
SUMMARY:Robins & Morton
DESCRIPTION:
URL:https://rmhctriangle.org/family-event/robins-morton/
CATEGORIES:Durham Meals
END:VEVENT
BEGIN:VEVENT
DTSTART;TZID=America/New_York:20250415T170000
DTEND;TZID=America/New_York:20250415T170000
DTSTAMP:20260422T135953
CREATED:20250219T161637Z
LAST-MODIFIED:20250219T161637Z
UID:10002268-1744736400-1744736400@rmhctriangle.org
SUMMARY:Walter P Moore
DESCRIPTION:
URL:https://rmhctriangle.org/family-event/walter-p-moore-2/
CATEGORIES:Durham Meals
END:VEVENT
BEGIN:VEVENT
DTSTART;TZID=America/New_York:20250416T170000
DTEND;TZID=America/New_York:20250416T170000
DTSTAMP:20260422T135953
CREATED:20241210T192405Z
LAST-MODIFIED:20251029T172214Z
UID:10002077-1744822800-1744822800@rmhctriangle.org
SUMMARY:St. Francis of Assisi
DESCRIPTION:
URL:https://rmhctriangle.org/family-event/st-francis-of-assisi-3/2025-04-16/
CATEGORIES:Durham Meals
END:VEVENT
BEGIN:VEVENT
DTSTART;TZID=America/New_York:20250417T170000
DTEND;TZID=America/New_York:20250417T170000
DTSTAMP:20260422T135953
CREATED:20250218T164247Z
LAST-MODIFIED:20250218T164247Z
UID:10002265-1744909200-1744909200@rmhctriangle.org
SUMMARY:Alyson Johnson Group
DESCRIPTION:
URL:https://rmhctriangle.org/family-event/alyson-johnson-group/
CATEGORIES:Durham Meals
END:VEVENT
BEGIN:VEVENT
DTSTART;TZID=America/New_York:20250418T170000
DTEND;TZID=America/New_York:20250418T170000
DTSTAMP:20260422T135953
CREATED:20250224T172423Z
LAST-MODIFIED:20250224T172423Z
UID:10002274-1744995600-1744995600@rmhctriangle.org
SUMMARY:Chinese Christian Missions Church
DESCRIPTION:
URL:https://rmhctriangle.org/family-event/chinese-christian-missions-church/
CATEGORIES:Durham Meals
END:VEVENT
END:VCALENDAR