BEGIN:VCALENDAR
VERSION:2.0
PRODID:-//Ronald McDonald House Charities of the Triangle - ECPv6.15.17.1//NONSGML v1.0//EN
CALSCALE:GREGORIAN
METHOD:PUBLISH
X-ORIGINAL-URL:https://rmhctriangle.org
X-WR-CALDESC:Events for Ronald McDonald House Charities of the Triangle
REFRESH-INTERVAL;VALUE=DURATION:PT1H
X-Robots-Tag:noindex
X-PUBLISHED-TTL:PT1H
BEGIN:VTIMEZONE
TZID:America/New_York
BEGIN:DAYLIGHT
TZOFFSETFROM:-0500
TZOFFSETTO:-0400
TZNAME:EDT
DTSTART:20250309T070000
END:DAYLIGHT
BEGIN:STANDARD
TZOFFSETFROM:-0400
TZOFFSETTO:-0500
TZNAME:EST
DTSTART:20251102T060000
END:STANDARD
BEGIN:DAYLIGHT
TZOFFSETFROM:-0500
TZOFFSETTO:-0400
TZNAME:EDT
DTSTART:20260308T070000
END:DAYLIGHT
BEGIN:STANDARD
TZOFFSETFROM:-0400
TZOFFSETTO:-0500
TZNAME:EST
DTSTART:20261101T060000
END:STANDARD
BEGIN:DAYLIGHT
TZOFFSETFROM:-0500
TZOFFSETTO:-0400
TZNAME:EDT
DTSTART:20270314T070000
END:DAYLIGHT
BEGIN:STANDARD
TZOFFSETFROM:-0400
TZOFFSETTO:-0500
TZNAME:EST
DTSTART:20271107T060000
END:STANDARD
END:VTIMEZONE
BEGIN:VEVENT
DTSTART;TZID=America/New_York:20260420T170000
DTEND;TZID=America/New_York:20260420T170000
DTSTAMP:20260420T234239
CREATED:20260320T172708Z
LAST-MODIFIED:20260320T172708Z
UID:10003060-1776704400-1776704400@rmhctriangle.org
SUMMARY:Maximillians
DESCRIPTION:
URL:https://rmhctriangle.org/family-event/maximillians/
CATEGORIES:Durham Meals
END:VEVENT
BEGIN:VEVENT
DTSTART;TZID=America/New_York:20260421T170000
DTEND;TZID=America/New_York:20260421T170000
DTSTAMP:20260420T234239
CREATED:20260126T180908Z
LAST-MODIFIED:20260126T180908Z
UID:10002949-1776790800-1776790800@rmhctriangle.org
SUMMARY:Elevation Church
DESCRIPTION:
URL:https://rmhctriangle.org/family-event/elevation-church-9/2026-04-21/
CATEGORIES:Durham Meals
END:VEVENT
BEGIN:VEVENT
DTSTART;TZID=America/New_York:20260422T170000
DTEND;TZID=America/New_York:20260422T170000
DTSTAMP:20260420T234239
CREATED:20260202T205233Z
LAST-MODIFIED:20260202T205233Z
UID:10002972-1776877200-1776877200@rmhctriangle.org
SUMMARY:Couch Oil
DESCRIPTION:
URL:https://rmhctriangle.org/family-event/couch-oil-5/2026-04-22/
CATEGORIES:Durham Meals
END:VEVENT
BEGIN:VEVENT
DTSTART;TZID=America/New_York:20260423T170000
DTEND;TZID=America/New_York:20260423T170000
DTSTAMP:20260420T234239
CREATED:20260406T194025Z
LAST-MODIFIED:20260406T194043Z
UID:10003087-1776963600-1776963600@rmhctriangle.org
SUMMARY:Starbucks
DESCRIPTION:
URL:https://rmhctriangle.org/family-event/starbucks-9/
CATEGORIES:Durham Meals
END:VEVENT
BEGIN:VEVENT
DTSTART;TZID=America/New_York:20260424T170000
DTEND;TZID=America/New_York:20260424T170000
DTSTAMP:20260420T234239
CREATED:20260226T141900Z
LAST-MODIFIED:20260226T141900Z
UID:10003032-1777050000-1777050000@rmhctriangle.org
SUMMARY:RBC Bank
DESCRIPTION:
URL:https://rmhctriangle.org/family-event/rbc-bank/
CATEGORIES:Durham Meals
END:VEVENT
BEGIN:VEVENT
DTSTART;TZID=America/New_York:20260425T170000
DTEND;TZID=America/New_York:20260425T170000
DTSTAMP:20260420T234239
CREATED:20250925T201821Z
LAST-MODIFIED:20250929T155854Z
UID:10002679-1777136400-1777136400@rmhctriangle.org
SUMMARY:St. Mary Magdalene
DESCRIPTION:
URL:https://rmhctriangle.org/family-event/st-mary-magdalene/2026-04-25/
CATEGORIES:Durham Meals
END:VEVENT
BEGIN:VEVENT
DTSTART;TZID=America/New_York:20260426T170000
DTEND;TZID=America/New_York:20260426T170000
DTSTAMP:20260420T234239
CREATED:20251125T183916Z
LAST-MODIFIED:20260102T145333Z
UID:10002782-1777222800-1777222800@rmhctriangle.org
SUMMARY:TUTA
DESCRIPTION:
URL:https://rmhctriangle.org/family-event/tuta-3/2026-04-26/
CATEGORIES:Durham Meals
END:VEVENT
BEGIN:VEVENT
DTSTART;TZID=America/New_York:20260427T080000
DTEND;TZID=America/New_York:20260427T170000
DTSTAMP:20260420T234239
CREATED:20230713T184402Z
LAST-MODIFIED:20230814T180412Z
UID:10000790-1777276800-1777309200@rmhctriangle.org
SUMMARY:Kiwanis Club of the Friendly City
DESCRIPTION:
URL:https://rmhctriangle.org/family-event/kiwanis-club-of-the-friendly-city/2026-04-27/
CATEGORIES:Durham Meals
END:VEVENT
BEGIN:VEVENT
DTSTART;TZID=America/New_York:20260428T170000
DTEND;TZID=America/New_York:20260428T170000
DTSTAMP:20260420T234239
CREATED:20260316T133213Z
LAST-MODIFIED:20260316T133213Z
UID:10003050-1777395600-1777395600@rmhctriangle.org
SUMMARY:Shepherd's Angel
DESCRIPTION:
URL:https://rmhctriangle.org/family-event/shepherds-angel-19/
CATEGORIES:Durham Meals
END:VEVENT
BEGIN:VEVENT
DTSTART;TZID=America/New_York:20260429T170000
DTEND;TZID=America/New_York:20260429T170000
DTSTAMP:20260420T234239
CREATED:20260223T202755Z
LAST-MODIFIED:20260223T202755Z
UID:10003013-1777482000-1777482000@rmhctriangle.org
SUMMARY:Get Grooven
DESCRIPTION:
URL:https://rmhctriangle.org/family-event/get-grooven/
CATEGORIES:Durham Meals
END:VEVENT
BEGIN:VEVENT
DTSTART;TZID=America/New_York:20260430T170000
DTEND;TZID=America/New_York:20260430T170000
DTSTAMP:20260420T234239
CREATED:20260226T142652Z
LAST-MODIFIED:20260226T142652Z
UID:10003033-1777568400-1777568400@rmhctriangle.org
SUMMARY:Debbie Perrigo Group
DESCRIPTION:
URL:https://rmhctriangle.org/family-event/debbie-perrigo-group-5/
CATEGORIES:Durham Meals
END:VEVENT
END:VCALENDAR