BEGIN:VCALENDAR
VERSION:2.0
PRODID:-//Ronald McDonald House Charities of the Triangle - ECPv6.15.17.1//NONSGML v1.0//EN
CALSCALE:GREGORIAN
METHOD:PUBLISH
X-WR-CALNAME:Ronald McDonald House Charities of the Triangle
X-ORIGINAL-URL:https://rmhctriangle.org
X-WR-CALDESC:Events for Ronald McDonald House Charities of the Triangle
REFRESH-INTERVAL;VALUE=DURATION:PT1H
X-Robots-Tag:noindex
X-PUBLISHED-TTL:PT1H
BEGIN:VTIMEZONE
TZID:America/New_York
BEGIN:DAYLIGHT
TZOFFSETFROM:-0500
TZOFFSETTO:-0400
TZNAME:EDT
DTSTART:20240310T070000
END:DAYLIGHT
BEGIN:STANDARD
TZOFFSETFROM:-0400
TZOFFSETTO:-0500
TZNAME:EST
DTSTART:20241103T060000
END:STANDARD
BEGIN:DAYLIGHT
TZOFFSETFROM:-0500
TZOFFSETTO:-0400
TZNAME:EDT
DTSTART:20250309T070000
END:DAYLIGHT
BEGIN:STANDARD
TZOFFSETFROM:-0400
TZOFFSETTO:-0500
TZNAME:EST
DTSTART:20251102T060000
END:STANDARD
BEGIN:DAYLIGHT
TZOFFSETFROM:-0500
TZOFFSETTO:-0400
TZNAME:EDT
DTSTART:20260308T070000
END:DAYLIGHT
BEGIN:STANDARD
TZOFFSETFROM:-0400
TZOFFSETTO:-0500
TZNAME:EST
DTSTART:20261101T060000
END:STANDARD
END:VTIMEZONE
BEGIN:VEVENT
DTSTART;TZID=America/New_York:20250101T170000
DTEND;TZID=America/New_York:20250101T173000
DTSTAMP:20260420T181759
CREATED:20241212T213258Z
LAST-MODIFIED:20241212T213258Z
UID:10002101-1735750800-1735752600@rmhctriangle.org
SUMMARY:Jodi Darrohn
DESCRIPTION:
URL:https://rmhctriangle.org/family-event/jodi-darrohn-2/
CATEGORIES:Durham Meals
END:VEVENT
BEGIN:VEVENT
DTSTART;TZID=America/New_York:20250102T170000
DTEND;TZID=America/New_York:20250102T170000
DTSTAMP:20260420T181759
CREATED:20241230T171353Z
LAST-MODIFIED:20241230T171353Z
UID:10002117-1735837200-1735837200@rmhctriangle.org
SUMMARY:McDonald's
DESCRIPTION:
URL:https://rmhctriangle.org/family-event/mcdonalds-10/2025-01-02/
CATEGORIES:Durham Meals
END:VEVENT
BEGIN:VEVENT
DTSTART;TZID=America/New_York:20250103T170000
DTEND;TZID=America/New_York:20250103T173000
DTSTAMP:20260420T181759
CREATED:20241213T151634Z
LAST-MODIFIED:20241213T151634Z
UID:10002103-1735923600-1735925400@rmhctriangle.org
SUMMARY:Birksloop Family
DESCRIPTION:
URL:https://rmhctriangle.org/family-event/birksloop-family-2/
CATEGORIES:Durham Meals
END:VEVENT
BEGIN:VEVENT
DTSTART;TZID=America/New_York:20250104T170000
DTEND;TZID=America/New_York:20250104T170000
DTSTAMP:20260420T181759
CREATED:20241211T184514Z
LAST-MODIFIED:20250102T213801Z
UID:10002087-1736010000-1736010000@rmhctriangle.org
SUMMARY:Zakat Foundation
DESCRIPTION:
URL:https://rmhctriangle.org/family-event/zakat-foundation-22/2025-01-04/
CATEGORIES:Durham Meals
END:VEVENT
BEGIN:VEVENT
DTSTART;TZID=America/New_York:20250105T170000
DTEND;TZID=America/New_York:20250105T170000
DTSTAMP:20260420T181759
CREATED:20241230T172418Z
LAST-MODIFIED:20241230T172418Z
UID:10002121-1736096400-1736096400@rmhctriangle.org
SUMMARY:Activate Good
DESCRIPTION:
URL:https://rmhctriangle.org/family-event/activate-good-2/
CATEGORIES:Durham Meals
END:VEVENT
BEGIN:VEVENT
DTSTART;TZID=America/New_York:20250106T170000
DTEND;TZID=America/New_York:20250106T173000
DTSTAMP:20260420T181759
CREATED:20241007T162225Z
LAST-MODIFIED:20241007T162225Z
UID:10001969-1736182800-1736184600@rmhctriangle.org
SUMMARY:Smiling While Sending Hope
DESCRIPTION:
URL:https://rmhctriangle.org/family-event/smiling-while-sending-hope-5/
CATEGORIES:Durham Meals
END:VEVENT
BEGIN:VEVENT
DTSTART;TZID=America/New_York:20250109T170000
DTEND;TZID=America/New_York:20250109T170000
DTSTAMP:20260420T181759
CREATED:20241230T171353Z
LAST-MODIFIED:20241230T171353Z
UID:10002118-1736442000-1736442000@rmhctriangle.org
SUMMARY:McDonald's
DESCRIPTION:
URL:https://rmhctriangle.org/family-event/mcdonalds-10/2025-01-09/
CATEGORIES:Durham Meals
END:VEVENT
BEGIN:VEVENT
DTSTART;TZID=America/New_York:20250110T170000
DTEND;TZID=America/New_York:20250110T173000
DTSTAMP:20260420T181759
CREATED:20241001T133724Z
LAST-MODIFIED:20241001T133724Z
UID:10001960-1736528400-1736530200@rmhctriangle.org
SUMMARY:Northwestern Mutual
DESCRIPTION:
URL:https://rmhctriangle.org/family-event/northwestern-mutual-2/
CATEGORIES:Durham Meals
END:VEVENT
BEGIN:VEVENT
DTSTART;TZID=America/New_York:20250111T170000
DTEND;TZID=America/New_York:20250111T173000
DTSTAMP:20260420T181759
CREATED:20241003T184135Z
LAST-MODIFIED:20241003T184135Z
UID:10001964-1736614800-1736616600@rmhctriangle.org
SUMMARY:Alpha Zeta Omega Chapter of Alpha Kappa Alpha Sorority\, Inc.
DESCRIPTION:
URL:https://rmhctriangle.org/family-event/alpha-zeta-omega-chapter-of-alpha-kappa-alpha-sorority-inc/2025-01-11/
CATEGORIES:Durham Meals
END:VEVENT
BEGIN:VEVENT
DTSTART;TZID=America/New_York:20250112T170000
DTEND;TZID=America/New_York:20250112T170000
DTSTAMP:20260420T181759
CREATED:20250103T151618Z
LAST-MODIFIED:20250103T212642Z
UID:10002132-1736701200-1736701200@rmhctriangle.org
SUMMARY:Kelli Blackmond Group
DESCRIPTION:
URL:https://rmhctriangle.org/family-event/kelli-blackmond-group-2/2025-01-12/
CATEGORIES:Durham Meals
END:VEVENT
BEGIN:VEVENT
DTSTART;TZID=America/New_York:20250113T170000
DTEND;TZID=America/New_York:20250113T173000
DTSTAMP:20260420T181759
CREATED:20241115T173433Z
LAST-MODIFIED:20241115T175927Z
UID:10002023-1736787600-1736789400@rmhctriangle.org
SUMMARY:Raleigh Ladies
DESCRIPTION:
URL:https://rmhctriangle.org/family-event/ladies-group/
CATEGORIES:Durham Meals
END:VEVENT
BEGIN:VEVENT
DTSTART;TZID=America/New_York:20250114T170000
DTEND;TZID=America/New_York:20250114T173000
DTSTAMP:20260420T181759
CREATED:20241220T192931Z
LAST-MODIFIED:20250107T164330Z
UID:10002111-1736874000-1736875800@rmhctriangle.org
SUMMARY:Gunn Family
DESCRIPTION:
URL:https://rmhctriangle.org/family-event/ferns-group/
CATEGORIES:Durham Meals
END:VEVENT
BEGIN:VEVENT
DTSTART;TZID=America/New_York:20250115T170000
DTEND;TZID=America/New_York:20250115T170000
DTSTAMP:20260420T181759
CREATED:20241210T192405Z
LAST-MODIFIED:20251029T172214Z
UID:10002074-1736960400-1736960400@rmhctriangle.org
SUMMARY:St. Francis of Assisi
DESCRIPTION:
URL:https://rmhctriangle.org/family-event/st-francis-of-assisi-3/2025-01-15/
CATEGORIES:Durham Meals
END:VEVENT
BEGIN:VEVENT
DTSTART;TZID=America/New_York:20250116T170000
DTEND;TZID=America/New_York:20250116T170000
DTSTAMP:20260420T181759
CREATED:20241230T171353Z
LAST-MODIFIED:20241230T171353Z
UID:10002119-1737046800-1737046800@rmhctriangle.org
SUMMARY:McDonald's
DESCRIPTION:
URL:https://rmhctriangle.org/family-event/mcdonalds-10/2025-01-16/
CATEGORIES:Durham Meals
END:VEVENT
BEGIN:VEVENT
DTSTART;TZID=America/New_York:20250117T170000
DTEND;TZID=America/New_York:20250117T170000
DTSTAMP:20260420T181759
CREATED:20250107T194734Z
LAST-MODIFIED:20250107T194742Z
UID:10002150-1737133200-1737133200@rmhctriangle.org
SUMMARY:Shepherd's Angel
DESCRIPTION:
URL:https://rmhctriangle.org/family-event/shepherds-angel-5/
CATEGORIES:Durham Meals
END:VEVENT
BEGIN:VEVENT
DTSTART;TZID=America/New_York:20250118T170000
DTEND;TZID=America/New_York:20250118T173000
DTSTAMP:20260420T181759
CREATED:20241007T124142Z
LAST-MODIFIED:20241209T214828Z
UID:10001965-1737219600-1737221400@rmhctriangle.org
SUMMARY:Triangle Iotas
DESCRIPTION:
URL:https://rmhctriangle.org/family-event/triangle-iotas/
CATEGORIES:Durham Meals
END:VEVENT
BEGIN:VEVENT
DTSTART;TZID=America/New_York:20250119T173000
DTEND;TZID=America/New_York:20250119T173000
DTSTAMP:20260420T181759
CREATED:20241220T184656Z
LAST-MODIFIED:20241220T184656Z
UID:10002109-1737307800-1737307800@rmhctriangle.org
SUMMARY:Bright Horizons Apex
DESCRIPTION:
URL:https://rmhctriangle.org/family-event/bright-horizons-apex/
CATEGORIES:Durham Meals
END:VEVENT
BEGIN:VEVENT
DTSTART;TZID=America/New_York:20250120T170000
DTEND;TZID=America/New_York:20250120T173000
DTSTAMP:20260420T181759
CREATED:20241114T213501Z
LAST-MODIFIED:20241114T213501Z
UID:10002016-1737392400-1737394200@rmhctriangle.org
SUMMARY:Alpha Zeta Omega Chapter of AKA
DESCRIPTION:
URL:https://rmhctriangle.org/family-event/alpha-zeta-omega-chapter-of-aka/
CATEGORIES:Durham Meals
END:VEVENT
BEGIN:VEVENT
DTSTART;TZID=America/New_York:20250121T170000
DTEND;TZID=America/New_York:20250121T170000
DTSTAMP:20260420T181759
CREATED:20250102T215240Z
LAST-MODIFIED:20250102T215240Z
UID:10002131-1737478800-1737478800@rmhctriangle.org
SUMMARY:McKim & Creed
DESCRIPTION:
URL:https://rmhctriangle.org/family-event/mckim-creed/
CATEGORIES:Durham Meals
END:VEVENT
BEGIN:VEVENT
DTSTART;TZID=America/New_York:20250122T170000
DTEND;TZID=America/New_York:20250122T170000
DTSTAMP:20260420T181759
CREATED:20250103T213326Z
LAST-MODIFIED:20250103T213326Z
UID:10002140-1737565200-1737565200@rmhctriangle.org
SUMMARY:Gunter Family McDonald's
DESCRIPTION:
URL:https://rmhctriangle.org/family-event/gunter-family-mcdonalds/
CATEGORIES:Durham Meals
END:VEVENT
BEGIN:VEVENT
DTSTART;TZID=America/New_York:20250123T170000
DTEND;TZID=America/New_York:20250123T173000
DTSTAMP:20260420T181759
CREATED:20241106T142331Z
LAST-MODIFIED:20241106T142331Z
UID:10002007-1737651600-1737653400@rmhctriangle.org
SUMMARY:Durham Academy Family Association
DESCRIPTION:
URL:https://rmhctriangle.org/family-event/durham-academy-family-association/
CATEGORIES:Durham Meals
END:VEVENT
BEGIN:VEVENT
DTSTART;TZID=America/New_York:20250124T170000
DTEND;TZID=America/New_York:20250124T170000
DTSTAMP:20260420T181759
CREATED:20241230T164336Z
LAST-MODIFIED:20241230T171221Z
UID:10002116-1737738000-1737738000@rmhctriangle.org
SUMMARY:New Hope Church
DESCRIPTION:
URL:https://rmhctriangle.org/family-event/veronica-wright-group/
CATEGORIES:Durham Meals
END:VEVENT
BEGIN:VEVENT
DTSTART;TZID=America/New_York:20250125T170000
DTEND;TZID=America/New_York:20250125T173000
DTSTAMP:20260420T181759
CREATED:20240705T174038Z
LAST-MODIFIED:20240708T142800Z
UID:10001820-1737824400-1737826200@rmhctriangle.org
SUMMARY:St. Mary Magdalene Young Adult Group
DESCRIPTION:
URL:https://rmhctriangle.org/family-event/st-mary-magdalene-young-adult-group/2025-01-25/
CATEGORIES:Durham Meals
END:VEVENT
BEGIN:VEVENT
DTSTART;TZID=America/New_York:20250126T173000
DTEND;TZID=America/New_York:20250126T173000
DTSTAMP:20260420T181759
CREATED:20230713T184227Z
LAST-MODIFIED:20250127T201530Z
UID:10000727-1737912600-1737912600@rmhctriangle.org
SUMMARY:TUTA
DESCRIPTION:
URL:https://rmhctriangle.org/family-event/tuta/2025-01-26/
CATEGORIES:Durham Meals
END:VEVENT
BEGIN:VEVENT
DTSTART;TZID=America/New_York:20250127T080000
DTEND;TZID=America/New_York:20250127T170000
DTSTAMP:20260420T181759
CREATED:20230713T184402Z
LAST-MODIFIED:20230814T180412Z
UID:10000780-1737964800-1737997200@rmhctriangle.org
SUMMARY:Kiwanis Club of the Friendly City
DESCRIPTION:
URL:https://rmhctriangle.org/family-event/kiwanis-club-of-the-friendly-city/2025-01-27/
CATEGORIES:Durham Meals
END:VEVENT
BEGIN:VEVENT
DTSTART;TZID=America/New_York:20250128T170000
DTEND;TZID=America/New_York:20250128T170000
DTSTAMP:20260420T181759
CREATED:20250102T214557Z
LAST-MODIFIED:20250102T214557Z
UID:10002124-1738083600-1738083600@rmhctriangle.org
SUMMARY:NCSU ADPi
DESCRIPTION:
URL:https://rmhctriangle.org/family-event/ncsu-adpi-5/2025-01-28/
CATEGORIES:Durham Meals
END:VEVENT
BEGIN:VEVENT
DTSTART;TZID=America/New_York:20250129T170000
DTEND;TZID=America/New_York:20250129T170000
DTSTAMP:20260420T181759
CREATED:20250110T200040Z
LAST-MODIFIED:20250110T200040Z
UID:10002167-1738170000-1738170000@rmhctriangle.org
SUMMARY:Shanklin's Volunteers
DESCRIPTION:
URL:https://rmhctriangle.org/family-event/shanklins-volunteers/
CATEGORIES:Durham Meals
END:VEVENT
BEGIN:VEVENT
DTSTART;TZID=America/New_York:20250130T170000
DTEND;TZID=America/New_York:20250130T170000
DTSTAMP:20260420T181759
CREATED:20241230T171353Z
LAST-MODIFIED:20241230T171353Z
UID:10002120-1738256400-1738256400@rmhctriangle.org
SUMMARY:McDonald's
DESCRIPTION:
URL:https://rmhctriangle.org/family-event/mcdonalds-10/2025-01-30/
CATEGORIES:Durham Meals
END:VEVENT
BEGIN:VEVENT
DTSTART;TZID=America/New_York:20250131T170000
DTEND;TZID=America/New_York:20250131T170000
DTSTAMP:20260420T181759
CREATED:20250107T154805Z
LAST-MODIFIED:20250107T154805Z
UID:10002145-1738342800-1738342800@rmhctriangle.org
SUMMARY:Choate
DESCRIPTION:
URL:https://rmhctriangle.org/family-event/choate-2/
CATEGORIES:Durham Meals
END:VEVENT
END:VCALENDAR