BEGIN:VCALENDAR
VERSION:2.0
PRODID:-//Ronald McDonald House Charities of the Triangle - ECPv6.15.17.1//NONSGML v1.0//EN
CALSCALE:GREGORIAN
METHOD:PUBLISH
X-ORIGINAL-URL:https://rmhctriangle.org
X-WR-CALDESC:Events for Ronald McDonald House Charities of the Triangle
REFRESH-INTERVAL;VALUE=DURATION:PT1H
X-Robots-Tag:noindex
X-PUBLISHED-TTL:PT1H
BEGIN:VTIMEZONE
TZID:America/New_York
BEGIN:DAYLIGHT
TZOFFSETFROM:-0500
TZOFFSETTO:-0400
TZNAME:EDT
DTSTART:20250309T070000
END:DAYLIGHT
BEGIN:STANDARD
TZOFFSETFROM:-0400
TZOFFSETTO:-0500
TZNAME:EST
DTSTART:20251102T060000
END:STANDARD
BEGIN:DAYLIGHT
TZOFFSETFROM:-0500
TZOFFSETTO:-0400
TZNAME:EDT
DTSTART:20260308T070000
END:DAYLIGHT
BEGIN:STANDARD
TZOFFSETFROM:-0400
TZOFFSETTO:-0500
TZNAME:EST
DTSTART:20261101T060000
END:STANDARD
BEGIN:DAYLIGHT
TZOFFSETFROM:-0500
TZOFFSETTO:-0400
TZNAME:EDT
DTSTART:20270314T070000
END:DAYLIGHT
BEGIN:STANDARD
TZOFFSETFROM:-0400
TZOFFSETTO:-0500
TZNAME:EST
DTSTART:20271107T060000
END:STANDARD
END:VTIMEZONE
BEGIN:VEVENT
DTSTART;TZID=America/New_York:20260822T153000
DTEND;TZID=America/New_York:20260822T183000
DTSTAMP:20260420T061845
CREATED:20251208T164435Z
LAST-MODIFIED:20251208T164435Z
UID:10002813-1787412600-1787423400@rmhctriangle.org
SUMMARY:RTPTCA
DESCRIPTION:
URL:https://rmhctriangle.org/family-event/rtptca-9/
CATEGORIES:Chapel Hill Meals
END:VEVENT
BEGIN:VEVENT
DTSTART;TZID=America/New_York:20260824T173000
DTEND;TZID=America/New_York:20260824T190000
DTSTAMP:20260420T061845
CREATED:20230713T185113Z
LAST-MODIFIED:20230713T185113Z
UID:10000473-1787592600-1787598000@rmhctriangle.org
SUMMARY:McDonald's
DESCRIPTION:
URL:https://rmhctriangle.org/family-event/mcdonalds-2/2026-08-24/
CATEGORIES:Chapel Hill Meals
END:VEVENT
BEGIN:VEVENT
DTSTART;TZID=America/New_York:20260827T080000
DTEND;TZID=America/New_York:20260827T170000
DTSTAMP:20260420T061845
CREATED:20260115T172440Z
LAST-MODIFIED:20260115T172440Z
UID:10002914-1787817600-1787850000@rmhctriangle.org
SUMMARY:Antioch Baptist Church
DESCRIPTION:
URL:https://rmhctriangle.org/family-event/antioch-baptist-church-2/2026-08-27/
CATEGORIES:Chapel Hill Meals
END:VEVENT
BEGIN:VEVENT
DTSTART;TZID=America/New_York:20260828T173000
DTEND;TZID=America/New_York:20260828T190000
DTSTAMP:20260420T061845
CREATED:20230713T181540Z
LAST-MODIFIED:20230713T181540Z
UID:10000181-1787938200-1787943600@rmhctriangle.org
SUMMARY:Domino's
DESCRIPTION:
URL:https://rmhctriangle.org/family-event/dominos/2026-08-28/
CATEGORIES:Chapel Hill Meals
END:VEVENT
BEGIN:VEVENT
DTSTART;TZID=America/New_York:20260831T173000
DTEND;TZID=America/New_York:20260831T190000
DTSTAMP:20260420T061845
CREATED:20230713T185113Z
LAST-MODIFIED:20230713T185113Z
UID:10000474-1788197400-1788202800@rmhctriangle.org
SUMMARY:McDonald's
DESCRIPTION:
URL:https://rmhctriangle.org/family-event/mcdonalds-2/2026-08-31/
CATEGORIES:Chapel Hill Meals
END:VEVENT
BEGIN:VEVENT
DTSTART;TZID=America/New_York:20260904T173000
DTEND;TZID=America/New_York:20260904T190000
DTSTAMP:20260420T061845
CREATED:20230713T181540Z
LAST-MODIFIED:20230713T181540Z
UID:10000182-1788543000-1788548400@rmhctriangle.org
SUMMARY:Domino's
DESCRIPTION:
URL:https://rmhctriangle.org/family-event/dominos/2026-09-04/
CATEGORIES:Chapel Hill Meals
END:VEVENT
BEGIN:VEVENT
DTSTART;TZID=America/New_York:20260905T173000
DTEND;TZID=America/New_York:20260905T190000
DTSTAMP:20260420T061845
CREATED:20240105T155645Z
LAST-MODIFIED:20240105T155645Z
UID:10001471-1788629400-1788634800@rmhctriangle.org
SUMMARY:St. Thomas More
DESCRIPTION:
URL:https://rmhctriangle.org/family-event/st-thomas-more-8/2026-09-05/
CATEGORIES:Chapel Hill Meals
END:VEVENT
BEGIN:VEVENT
DTSTART;TZID=America/New_York:20260907T173000
DTEND;TZID=America/New_York:20260907T190000
DTSTAMP:20260420T061845
CREATED:20230713T185113Z
LAST-MODIFIED:20230713T185113Z
UID:10000475-1788802200-1788807600@rmhctriangle.org
SUMMARY:McDonald's
DESCRIPTION:
URL:https://rmhctriangle.org/family-event/mcdonalds-2/2026-09-07/
CATEGORIES:Chapel Hill Meals
END:VEVENT
BEGIN:VEVENT
DTSTART;TZID=America/New_York:20260910T153000
DTEND;TZID=America/New_York:20260910T183000
DTSTAMP:20260420T061845
CREATED:20260406T140150Z
LAST-MODIFIED:20260406T140150Z
UID:10003081-1789054200-1789065000@rmhctriangle.org
SUMMARY:Chapel Hill Rotary
DESCRIPTION:
URL:https://rmhctriangle.org/family-event/chapel-hill-rotary-16/
CATEGORIES:Chapel Hill Meals
END:VEVENT
BEGIN:VEVENT
DTSTART;TZID=America/New_York:20260911T173000
DTEND;TZID=America/New_York:20260911T190000
DTSTAMP:20260420T061845
CREATED:20230713T181540Z
LAST-MODIFIED:20230713T181540Z
UID:10000183-1789147800-1789153200@rmhctriangle.org
SUMMARY:Domino's
DESCRIPTION:
URL:https://rmhctriangle.org/family-event/dominos/2026-09-11/
CATEGORIES:Chapel Hill Meals
END:VEVENT
BEGIN:VEVENT
DTSTART;TZID=America/New_York:20260912T153000
DTEND;TZID=America/New_York:20260912T183000
DTSTAMP:20260420T061845
CREATED:20260219T133713Z
LAST-MODIFIED:20260219T133713Z
UID:10003003-1789227000-1789237800@rmhctriangle.org
SUMMARY:YMSL
DESCRIPTION:
URL:https://rmhctriangle.org/family-event/ymsl-13/
CATEGORIES:Chapel Hill Meals
END:VEVENT
BEGIN:VEVENT
DTSTART;TZID=America/New_York:20260913T153000
DTEND;TZID=America/New_York:20260913T183000
DTSTAMP:20260420T061845
CREATED:20260406T164948Z
LAST-MODIFIED:20260406T164948Z
UID:10003083-1789313400-1789324200@rmhctriangle.org
SUMMARY:Girl Scout Troop #4282
DESCRIPTION:
URL:https://rmhctriangle.org/family-event/girl-scout-troop-4282/
CATEGORIES:Chapel Hill Meals
END:VEVENT
BEGIN:VEVENT
DTSTART;TZID=America/New_York:20260914T173000
DTEND;TZID=America/New_York:20260914T190000
DTSTAMP:20260420T061845
CREATED:20230713T185113Z
LAST-MODIFIED:20230713T185113Z
UID:10000476-1789407000-1789412400@rmhctriangle.org
SUMMARY:McDonald's
DESCRIPTION:
URL:https://rmhctriangle.org/family-event/mcdonalds-2/2026-09-14/
CATEGORIES:Chapel Hill Meals
END:VEVENT
BEGIN:VEVENT
DTSTART;TZID=America/New_York:20260915T153000
DTEND;TZID=America/New_York:20260915T183000
DTSTAMP:20260420T061845
CREATED:20251219T140722Z
LAST-MODIFIED:20251219T140722Z
UID:10002851-1789486200-1789497000@rmhctriangle.org
SUMMARY:Red Shoe Crew
DESCRIPTION:
URL:https://rmhctriangle.org/family-event/red-shoe-crew-11/
CATEGORIES:Chapel Hill Meals
END:VEVENT
BEGIN:VEVENT
DTSTART;TZID=America/New_York:20260918T173000
DTEND;TZID=America/New_York:20260918T190000
DTSTAMP:20260420T061845
CREATED:20230713T181540Z
LAST-MODIFIED:20230713T181540Z
UID:10000184-1789752600-1789758000@rmhctriangle.org
SUMMARY:Domino's
DESCRIPTION:
URL:https://rmhctriangle.org/family-event/dominos/2026-09-18/
CATEGORIES:Chapel Hill Meals
END:VEVENT
BEGIN:VEVENT
DTSTART;TZID=America/New_York:20260920T153000
DTEND;TZID=America/New_York:20260920T183000
DTSTAMP:20260420T061845
CREATED:20251119T145108Z
LAST-MODIFIED:20251119T145108Z
UID:10002769-1789918200-1789929000@rmhctriangle.org
SUMMARY:New Hope Church
DESCRIPTION:
URL:https://rmhctriangle.org/family-event/new-hope-church-24/
CATEGORIES:Chapel Hill Meals
END:VEVENT
BEGIN:VEVENT
DTSTART;TZID=America/New_York:20260921T173000
DTEND;TZID=America/New_York:20260921T190000
DTSTAMP:20260420T061845
CREATED:20230713T185113Z
LAST-MODIFIED:20230713T185113Z
UID:10000477-1790011800-1790017200@rmhctriangle.org
SUMMARY:McDonald's
DESCRIPTION:
URL:https://rmhctriangle.org/family-event/mcdonalds-2/2026-09-21/
CATEGORIES:Chapel Hill Meals
END:VEVENT
BEGIN:VEVENT
DTSTART;TZID=America/New_York:20260924T080000
DTEND;TZID=America/New_York:20260924T170000
DTSTAMP:20260420T061845
CREATED:20260115T172440Z
LAST-MODIFIED:20260115T172440Z
UID:10002915-1790236800-1790269200@rmhctriangle.org
SUMMARY:Antioch Baptist Church
DESCRIPTION:
URL:https://rmhctriangle.org/family-event/antioch-baptist-church-2/2026-09-24/
CATEGORIES:Chapel Hill Meals
END:VEVENT
BEGIN:VEVENT
DTSTART;TZID=America/New_York:20260925T173000
DTEND;TZID=America/New_York:20260925T190000
DTSTAMP:20260420T061845
CREATED:20230713T181540Z
LAST-MODIFIED:20230713T181540Z
UID:10000185-1790357400-1790362800@rmhctriangle.org
SUMMARY:Domino's
DESCRIPTION:
URL:https://rmhctriangle.org/family-event/dominos/2026-09-25/
CATEGORIES:Chapel Hill Meals
END:VEVENT
BEGIN:VEVENT
DTSTART;TZID=America/New_York:20260928T173000
DTEND;TZID=America/New_York:20260928T190000
DTSTAMP:20260420T061845
CREATED:20230713T185113Z
LAST-MODIFIED:20230713T185113Z
UID:10000478-1790616600-1790622000@rmhctriangle.org
SUMMARY:McDonald's
DESCRIPTION:
URL:https://rmhctriangle.org/family-event/mcdonalds-2/2026-09-28/
CATEGORIES:Chapel Hill Meals
END:VEVENT
BEGIN:VEVENT
DTSTART;TZID=America/New_York:20261002T173000
DTEND;TZID=America/New_York:20261002T190000
DTSTAMP:20260420T061845
CREATED:20230713T181540Z
LAST-MODIFIED:20230713T181540Z
UID:10000186-1790962200-1790967600@rmhctriangle.org
SUMMARY:Domino's
DESCRIPTION:
URL:https://rmhctriangle.org/family-event/dominos/2026-10-02/
CATEGORIES:Chapel Hill Meals
END:VEVENT
BEGIN:VEVENT
DTSTART;TZID=America/New_York:20261003T173000
DTEND;TZID=America/New_York:20261003T190000
DTSTAMP:20260420T061845
CREATED:20240105T155645Z
LAST-MODIFIED:20240105T155645Z
UID:10001472-1791048600-1791054000@rmhctriangle.org
SUMMARY:St. Thomas More
DESCRIPTION:
URL:https://rmhctriangle.org/family-event/st-thomas-more-8/2026-10-03/
CATEGORIES:Chapel Hill Meals
END:VEVENT
BEGIN:VEVENT
DTSTART;TZID=America/New_York:20261005T173000
DTEND;TZID=America/New_York:20261005T190000
DTSTAMP:20260420T061845
CREATED:20230713T185113Z
LAST-MODIFIED:20230713T185113Z
UID:10000479-1791221400-1791226800@rmhctriangle.org
SUMMARY:McDonald's
DESCRIPTION:
URL:https://rmhctriangle.org/family-event/mcdonalds-2/2026-10-05/
CATEGORIES:Chapel Hill Meals
END:VEVENT
BEGIN:VEVENT
DTSTART;TZID=America/New_York:20261009T173000
DTEND;TZID=America/New_York:20261009T190000
DTSTAMP:20260420T061845
CREATED:20230713T181540Z
LAST-MODIFIED:20230713T181540Z
UID:10000187-1791567000-1791572400@rmhctriangle.org
SUMMARY:Domino's
DESCRIPTION:
URL:https://rmhctriangle.org/family-event/dominos/2026-10-09/
CATEGORIES:Chapel Hill Meals
END:VEVENT
BEGIN:VEVENT
DTSTART;TZID=America/New_York:20261010T153000
DTEND;TZID=America/New_York:20261010T183000
DTSTAMP:20260420T061845
CREATED:20260219T133736Z
LAST-MODIFIED:20260219T133736Z
UID:10003004-1791646200-1791657000@rmhctriangle.org
SUMMARY:YMSL
DESCRIPTION:
URL:https://rmhctriangle.org/family-event/ymsl-14/
CATEGORIES:Chapel Hill Meals
END:VEVENT
BEGIN:VEVENT
DTSTART;TZID=America/New_York:20261011T153000
DTEND;TZID=America/New_York:20261011T183000
DTSTAMP:20260420T061845
CREATED:20260330T145229Z
LAST-MODIFIED:20260330T145229Z
UID:10003073-1791732600-1791743400@rmhctriangle.org
SUMMARY:NCL Carolina Lily Sustainers
DESCRIPTION:
URL:https://rmhctriangle.org/family-event/ncl-carolina-lily-sustainers/
CATEGORIES:Chapel Hill Meals
END:VEVENT
BEGIN:VEVENT
DTSTART;TZID=America/New_York:20261012T173000
DTEND;TZID=America/New_York:20261012T190000
DTSTAMP:20260420T061845
CREATED:20230713T185113Z
LAST-MODIFIED:20230713T185113Z
UID:10000480-1791826200-1791831600@rmhctriangle.org
SUMMARY:McDonald's
DESCRIPTION:
URL:https://rmhctriangle.org/family-event/mcdonalds-2/2026-10-12/
CATEGORIES:Chapel Hill Meals
END:VEVENT
BEGIN:VEVENT
DTSTART;TZID=America/New_York:20261016T173000
DTEND;TZID=America/New_York:20261016T190000
DTSTAMP:20260420T061845
CREATED:20230713T181540Z
LAST-MODIFIED:20230713T181540Z
UID:10000188-1792171800-1792177200@rmhctriangle.org
SUMMARY:Domino's
DESCRIPTION:
URL:https://rmhctriangle.org/family-event/dominos/2026-10-16/
CATEGORIES:Chapel Hill Meals
END:VEVENT
BEGIN:VEVENT
DTSTART;TZID=America/New_York:20261017T153000
DTEND;TZID=America/New_York:20261017T183000
DTSTAMP:20260420T061845
CREATED:20251208T164500Z
LAST-MODIFIED:20251208T164500Z
UID:10002814-1792251000-1792261800@rmhctriangle.org
SUMMARY:RTPTCA
DESCRIPTION:
URL:https://rmhctriangle.org/family-event/rtptca-10/
CATEGORIES:Chapel Hill Meals
END:VEVENT
BEGIN:VEVENT
DTSTART;TZID=America/New_York:20261018T153000
DTEND;TZID=America/New_York:20261018T183000
DTSTAMP:20260420T061845
CREATED:20251119T145133Z
LAST-MODIFIED:20251119T145133Z
UID:10002770-1792337400-1792348200@rmhctriangle.org
SUMMARY:New Hope Church
DESCRIPTION:
URL:https://rmhctriangle.org/family-event/new-hope-church-25/
CATEGORIES:Chapel Hill Meals
END:VEVENT
END:VCALENDAR