BEGIN:VCALENDAR
VERSION:2.0
PRODID:-//Ronald McDonald House Charities of the Triangle - ECPv6.15.17.1//NONSGML v1.0//EN
CALSCALE:GREGORIAN
METHOD:PUBLISH
X-WR-CALNAME:Ronald McDonald House Charities of the Triangle
X-ORIGINAL-URL:https://rmhctriangle.org
X-WR-CALDESC:Events for Ronald McDonald House Charities of the Triangle
REFRESH-INTERVAL;VALUE=DURATION:PT1H
X-Robots-Tag:noindex
X-PUBLISHED-TTL:PT1H
BEGIN:VTIMEZONE
TZID:America/New_York
BEGIN:DAYLIGHT
TZOFFSETFROM:-0500
TZOFFSETTO:-0400
TZNAME:EDT
DTSTART:20250309T070000
END:DAYLIGHT
BEGIN:STANDARD
TZOFFSETFROM:-0400
TZOFFSETTO:-0500
TZNAME:EST
DTSTART:20251102T060000
END:STANDARD
BEGIN:DAYLIGHT
TZOFFSETFROM:-0500
TZOFFSETTO:-0400
TZNAME:EDT
DTSTART:20260308T070000
END:DAYLIGHT
BEGIN:STANDARD
TZOFFSETFROM:-0400
TZOFFSETTO:-0500
TZNAME:EST
DTSTART:20261101T060000
END:STANDARD
BEGIN:DAYLIGHT
TZOFFSETFROM:-0500
TZOFFSETTO:-0400
TZNAME:EDT
DTSTART:20270314T070000
END:DAYLIGHT
BEGIN:STANDARD
TZOFFSETFROM:-0400
TZOFFSETTO:-0500
TZNAME:EST
DTSTART:20271107T060000
END:STANDARD
END:VTIMEZONE
BEGIN:VEVENT
DTSTART;TZID=America/New_York:20260210T150000
DTEND;TZID=America/New_York:20260210T190000
DTSTAMP:20260424T212359
CREATED:20260109T162756Z
LAST-MODIFIED:20260109T162756Z
UID:10002882-1770735600-1770750000@rmhctriangle.org
SUMMARY:Copeland Family
DESCRIPTION:
URL:https://rmhctriangle.org/family-event/copeland-family/
CATEGORIES:Chapel Hill Meals
END:VEVENT
BEGIN:VEVENT
DTSTART;TZID=America/New_York:20260211T153000
DTEND;TZID=America/New_York:20260211T183000
DTSTAMP:20260424T212359
CREATED:20251103T175136Z
LAST-MODIFIED:20251104T150347Z
UID:10002744-1770823800-1770834600@rmhctriangle.org
SUMMARY:Carolina Cancer Association
DESCRIPTION:
URL:https://rmhctriangle.org/family-event/anusha-balakrish/
CATEGORIES:Chapel Hill Meals
END:VEVENT
BEGIN:VEVENT
DTSTART;TZID=America/New_York:20260212T153000
DTEND;TZID=America/New_York:20260212T183000
DTSTAMP:20260424T212359
CREATED:20251014T190304Z
LAST-MODIFIED:20251014T190304Z
UID:10002713-1770910200-1770921000@rmhctriangle.org
SUMMARY:UNC TriBeta
DESCRIPTION:
URL:https://rmhctriangle.org/family-event/unc-tribeta/
CATEGORIES:Chapel Hill Meals
END:VEVENT
BEGIN:VEVENT
DTSTART;TZID=America/New_York:20260213T173000
DTEND;TZID=America/New_York:20260213T190000
DTSTAMP:20260424T212359
CREATED:20230713T181540Z
LAST-MODIFIED:20230713T181540Z
UID:10000153-1771003800-1771009200@rmhctriangle.org
SUMMARY:Domino's
DESCRIPTION:
URL:https://rmhctriangle.org/family-event/dominos/2026-02-13/
CATEGORIES:Chapel Hill Meals
END:VEVENT
BEGIN:VEVENT
DTSTART;TZID=America/New_York:20260214T153000
DTEND;TZID=America/New_York:20260214T183000
DTSTAMP:20260424T212359
CREATED:20250821T170317Z
LAST-MODIFIED:20250821T170317Z
UID:10002629-1771083000-1771093800@rmhctriangle.org
SUMMARY:Chinmaya Mission
DESCRIPTION:
URL:https://rmhctriangle.org/family-event/chinmaya-mission/
CATEGORIES:Chapel Hill Meals
END:VEVENT
BEGIN:VEVENT
DTSTART;TZID=America/New_York:20260215T153000
DTEND;TZID=America/New_York:20260215T183000
DTSTAMP:20260424T212359
CREATED:20251112T152726Z
LAST-MODIFIED:20251112T152726Z
UID:10002756-1771169400-1771180200@rmhctriangle.org
SUMMARY:RMH Club Chapel Hill High School
DESCRIPTION:
URL:https://rmhctriangle.org/family-event/rmh-club-chapel-hill-high-school/
CATEGORIES:Chapel Hill Meals
END:VEVENT
BEGIN:VEVENT
DTSTART;TZID=America/New_York:20260216T173000
DTEND;TZID=America/New_York:20260216T190000
DTSTAMP:20260424T212359
CREATED:20230713T185113Z
LAST-MODIFIED:20230713T185113Z
UID:10000446-1771263000-1771268400@rmhctriangle.org
SUMMARY:McDonald's
DESCRIPTION:
URL:https://rmhctriangle.org/family-event/mcdonalds-2/2026-02-16/
CATEGORIES:Chapel Hill Meals
END:VEVENT
BEGIN:VEVENT
DTSTART;TZID=America/New_York:20260217T153000
DTEND;TZID=America/New_York:20260217T183000
DTSTAMP:20260424T212359
CREATED:20251125T193635Z
LAST-MODIFIED:20251125T193635Z
UID:10002794-1771342200-1771353000@rmhctriangle.org
SUMMARY:Emily & Felix O'Barr
DESCRIPTION:
URL:https://rmhctriangle.org/family-event/emily-felix-obarr-2/
CATEGORIES:Chapel Hill Meals
END:VEVENT
BEGIN:VEVENT
DTSTART;TZID=America/New_York:20260218T153000
DTEND;TZID=America/New_York:20260218T183000
DTSTAMP:20260424T212359
CREATED:20251106T173823Z
LAST-MODIFIED:20251106T173823Z
UID:10002755-1771428600-1771439400@rmhctriangle.org
SUMMARY:Falcon Engineering
DESCRIPTION:
URL:https://rmhctriangle.org/family-event/falcon-engineering-3/
CATEGORIES:Chapel Hill Meals
END:VEVENT
BEGIN:VEVENT
DTSTART;TZID=America/New_York:20260219T170000
DTEND;TZID=America/New_York:20260219T190000
DTSTAMP:20260424T212359
CREATED:20260108T204709Z
LAST-MODIFIED:20260108T204709Z
UID:10002881-1771520400-1771527600@rmhctriangle.org
SUMMARY:Orange County Sheriff Department
DESCRIPTION:
URL:https://rmhctriangle.org/family-event/orange-county-sheriff-department/
CATEGORIES:Chapel Hill Meals
END:VEVENT
BEGIN:VEVENT
DTSTART;TZID=America/New_York:20260220T173000
DTEND;TZID=America/New_York:20260220T190000
DTSTAMP:20260424T212359
CREATED:20230713T181540Z
LAST-MODIFIED:20230713T181540Z
UID:10000154-1771608600-1771614000@rmhctriangle.org
SUMMARY:Domino's
DESCRIPTION:
URL:https://rmhctriangle.org/family-event/dominos/2026-02-20/
CATEGORIES:Chapel Hill Meals
END:VEVENT
BEGIN:VEVENT
DTSTART;TZID=America/New_York:20260221T153000
DTEND;TZID=America/New_York:20260221T183000
DTSTAMP:20260424T212359
CREATED:20251119T144747Z
LAST-MODIFIED:20251119T144747Z
UID:10002762-1771687800-1771698600@rmhctriangle.org
SUMMARY:New Hope Church
DESCRIPTION:
URL:https://rmhctriangle.org/family-event/new-hope-church-17/
CATEGORIES:Chapel Hill Meals
END:VEVENT
BEGIN:VEVENT
DTSTART;TZID=America/New_York:20260222T153000
DTEND;TZID=America/New_York:20260222T183000
DTSTAMP:20260424T212359
CREATED:20251007T123948Z
LAST-MODIFIED:20251007T123948Z
UID:10002698-1771774200-1771785000@rmhctriangle.org
SUMMARY:Twilight Chapter #618
DESCRIPTION:
URL:https://rmhctriangle.org/family-event/twilight-chapter-618-2/
CATEGORIES:Chapel Hill Meals
END:VEVENT
BEGIN:VEVENT
DTSTART;TZID=America/New_York:20260223T173000
DTEND;TZID=America/New_York:20260223T190000
DTSTAMP:20260424T212359
CREATED:20230713T185113Z
LAST-MODIFIED:20230713T185113Z
UID:10000447-1771867800-1771873200@rmhctriangle.org
SUMMARY:McDonald's
DESCRIPTION:
URL:https://rmhctriangle.org/family-event/mcdonalds-2/2026-02-23/
CATEGORIES:Chapel Hill Meals
END:VEVENT
BEGIN:VEVENT
DTSTART;TZID=America/New_York:20260224T153000
DTEND;TZID=America/New_York:20260224T180000
DTSTAMP:20260424T212359
CREATED:20260113T152726Z
LAST-MODIFIED:20260113T152726Z
UID:10002892-1771947000-1771956000@rmhctriangle.org
SUMMARY:UNC Business Cares
DESCRIPTION:
URL:https://rmhctriangle.org/family-event/unc-business-cares/2026-02-24/
CATEGORIES:Chapel Hill Meals
END:VEVENT
BEGIN:VEVENT
DTSTART;TZID=America/New_York:20260225T160000
DTEND;TZID=America/New_York:20260225T170000
DTSTAMP:20260424T212359
CREATED:20260115T184401Z
LAST-MODIFIED:20260115T184401Z
UID:10002932-1772035200-1772038800@rmhctriangle.org
SUMMARY:White Oak
DESCRIPTION:
URL:https://rmhctriangle.org/family-event/white-oak-2/
CATEGORIES:Chapel Hill Meals
END:VEVENT
BEGIN:VEVENT
DTSTART;TZID=America/New_York:20260226T150000
DTEND;TZID=America/New_York:20260226T170000
DTSTAMP:20260424T212359
CREATED:20260115T184249Z
LAST-MODIFIED:20260115T184302Z
UID:10002931-1772118000-1772125200@rmhctriangle.org
SUMMARY:Antioch Baptist
DESCRIPTION:
URL:https://rmhctriangle.org/family-event/ymsl-white-oak/
CATEGORIES:Chapel Hill Meals
END:VEVENT
BEGIN:VEVENT
DTSTART;TZID=America/New_York:20260226T160000
DTEND;TZID=America/New_York:20260226T183000
DTSTAMP:20260424T212359
CREATED:20260112T145539Z
LAST-MODIFIED:20260112T145539Z
UID:10002887-1772121600-1772130600@rmhctriangle.org
SUMMARY:White Oak
DESCRIPTION:
URL:https://rmhctriangle.org/family-event/white-oak/2026-02-26/
CATEGORIES:Chapel Hill Meals
END:VEVENT
BEGIN:VEVENT
DTSTART;TZID=America/New_York:20260227T173000
DTEND;TZID=America/New_York:20260227T190000
DTSTAMP:20260424T212359
CREATED:20230713T181540Z
LAST-MODIFIED:20230713T181540Z
UID:10000155-1772213400-1772218800@rmhctriangle.org
SUMMARY:Domino's
DESCRIPTION:
URL:https://rmhctriangle.org/family-event/dominos/2026-02-27/
CATEGORIES:Chapel Hill Meals
END:VEVENT
BEGIN:VEVENT
DTSTART;TZID=America/New_York:20260228T153000
DTEND;TZID=America/New_York:20260228T183000
DTSTAMP:20260424T212359
CREATED:20251121T132631Z
LAST-MODIFIED:20251121T132631Z
UID:10002773-1772292600-1772303400@rmhctriangle.org
SUMMARY:YMSL First in Flight
DESCRIPTION:
URL:https://rmhctriangle.org/family-event/ymsl-first-in-flight-2/
CATEGORIES:Chapel Hill Meals
END:VEVENT
BEGIN:VEVENT
DTSTART;TZID=America/New_York:20260301T153000
DTEND;TZID=America/New_York:20260301T183000
DTSTAMP:20260424T212359
CREATED:20250929T162250Z
LAST-MODIFIED:20250929T162250Z
UID:10002689-1772379000-1772389800@rmhctriangle.org
SUMMARY:East CH High RMH Club
DESCRIPTION:
URL:https://rmhctriangle.org/family-event/east-ch-high-rmh-club-2/
CATEGORIES:Chapel Hill Meals
END:VEVENT
BEGIN:VEVENT
DTSTART;TZID=America/New_York:20260302T173000
DTEND;TZID=America/New_York:20260302T190000
DTSTAMP:20260424T212359
CREATED:20230713T185113Z
LAST-MODIFIED:20230713T185113Z
UID:10000448-1772472600-1772478000@rmhctriangle.org
SUMMARY:McDonald's
DESCRIPTION:
URL:https://rmhctriangle.org/family-event/mcdonalds-2/2026-03-02/
CATEGORIES:Chapel Hill Meals
END:VEVENT
BEGIN:VEVENT
DTSTART;TZID=America/New_York:20260303T150000
DTEND;TZID=America/New_York:20260303T170000
DTSTAMP:20260424T212359
CREATED:20260116T175425Z
LAST-MODIFIED:20260116T175425Z
UID:10002934-1772550000-1772557200@rmhctriangle.org
SUMMARY:NCL Sustainers
DESCRIPTION:
URL:https://rmhctriangle.org/family-event/ncl-sustainers-3/
CATEGORIES:Chapel Hill Meals
END:VEVENT
BEGIN:VEVENT
DTSTART;TZID=America/New_York:20260304T153000
DTEND;TZID=America/New_York:20260304T183000
DTSTAMP:20260424T212359
CREATED:20260106T160135Z
LAST-MODIFIED:20260106T160135Z
UID:10002868-1772638200-1772649000@rmhctriangle.org
SUMMARY:Carolina for the Kids
DESCRIPTION:
URL:https://rmhctriangle.org/family-event/carolina-for-the-kids-4/
CATEGORIES:Chapel Hill Meals
END:VEVENT
BEGIN:VEVENT
DTSTART;TZID=America/New_York:20260305T153000
DTEND;TZID=America/New_York:20260305T183000
DTSTAMP:20260424T212359
CREATED:20250731T175918Z
LAST-MODIFIED:20250731T175918Z
UID:10002492-1772724600-1772735400@rmhctriangle.org
SUMMARY:Chapel Hill Rotary
DESCRIPTION:
URL:https://rmhctriangle.org/family-event/chapel-hill-rotary-13/
CATEGORIES:Chapel Hill Meals
END:VEVENT
BEGIN:VEVENT
DTSTART;TZID=America/New_York:20260306T173000
DTEND;TZID=America/New_York:20260306T190000
DTSTAMP:20260424T212359
CREATED:20230713T181540Z
LAST-MODIFIED:20230713T181540Z
UID:10000156-1772818200-1772823600@rmhctriangle.org
SUMMARY:Domino's
DESCRIPTION:
URL:https://rmhctriangle.org/family-event/dominos/2026-03-06/
CATEGORIES:Chapel Hill Meals
END:VEVENT
BEGIN:VEVENT
DTSTART;TZID=America/New_York:20260307T153000
DTEND;TZID=America/New_York:20260307T183000
DTSTAMP:20260424T212359
CREATED:20251016T142742Z
LAST-MODIFIED:20251016T142742Z
UID:10002717-1772897400-1772908200@rmhctriangle.org
SUMMARY:Tylishon Smalls & Friends
DESCRIPTION:
URL:https://rmhctriangle.org/family-event/tylishon-smalls-friends/
CATEGORIES:Chapel Hill Meals
END:VEVENT
BEGIN:VEVENT
DTSTART;TZID=America/New_York:20260308T153000
DTEND;TZID=America/New_York:20260308T183000
DTSTAMP:20260424T212359
CREATED:20250627T133607Z
LAST-MODIFIED:20250627T133607Z
UID:10002426-1772983800-1772994600@rmhctriangle.org
SUMMARY:NCL Carolina Lily
DESCRIPTION:
URL:https://rmhctriangle.org/family-event/ncl-carolina-lily-7/
CATEGORIES:Chapel Hill Meals
END:VEVENT
BEGIN:VEVENT
DTSTART;TZID=America/New_York:20260309T173000
DTEND;TZID=America/New_York:20260309T190000
DTSTAMP:20260424T212359
CREATED:20230713T185113Z
LAST-MODIFIED:20230713T185113Z
UID:10000449-1773077400-1773082800@rmhctriangle.org
SUMMARY:McDonald's
DESCRIPTION:
URL:https://rmhctriangle.org/family-event/mcdonalds-2/2026-03-09/
CATEGORIES:Chapel Hill Meals
END:VEVENT
BEGIN:VEVENT
DTSTART;TZID=America/New_York:20260310T153000
DTEND;TZID=America/New_York:20260310T183000
DTSTAMP:20260424T212359
CREATED:20260107T151845Z
LAST-MODIFIED:20260107T151845Z
UID:10002874-1773156600-1773167400@rmhctriangle.org
SUMMARY:Merz Therapeutics
DESCRIPTION:
URL:https://rmhctriangle.org/family-event/merz-therapeutics/
CATEGORIES:Chapel Hill Meals
END:VEVENT
END:VCALENDAR