BEGIN:VCALENDAR
VERSION:2.0
PRODID:-//Ronald McDonald House Charities of the Triangle - ECPv6.15.17.1//NONSGML v1.0//EN
CALSCALE:GREGORIAN
METHOD:PUBLISH
X-WR-CALNAME:Ronald McDonald House Charities of the Triangle
X-ORIGINAL-URL:https://rmhctriangle.org
X-WR-CALDESC:Events for Ronald McDonald House Charities of the Triangle
REFRESH-INTERVAL;VALUE=DURATION:PT1H
X-Robots-Tag:noindex
X-PUBLISHED-TTL:PT1H
BEGIN:VTIMEZONE
TZID:America/New_York
BEGIN:DAYLIGHT
TZOFFSETFROM:-0500
TZOFFSETTO:-0400
TZNAME:EDT
DTSTART:20240310T070000
END:DAYLIGHT
BEGIN:STANDARD
TZOFFSETFROM:-0400
TZOFFSETTO:-0500
TZNAME:EST
DTSTART:20241103T060000
END:STANDARD
BEGIN:DAYLIGHT
TZOFFSETFROM:-0500
TZOFFSETTO:-0400
TZNAME:EDT
DTSTART:20250309T070000
END:DAYLIGHT
BEGIN:STANDARD
TZOFFSETFROM:-0400
TZOFFSETTO:-0500
TZNAME:EST
DTSTART:20251102T060000
END:STANDARD
BEGIN:DAYLIGHT
TZOFFSETFROM:-0500
TZOFFSETTO:-0400
TZNAME:EDT
DTSTART:20260308T070000
END:DAYLIGHT
BEGIN:STANDARD
TZOFFSETFROM:-0400
TZOFFSETTO:-0500
TZNAME:EST
DTSTART:20261101T060000
END:STANDARD
END:VTIMEZONE
BEGIN:VEVENT
DTSTART;TZID=America/New_York:20250103T173000
DTEND;TZID=America/New_York:20250103T190000
DTSTAMP:20260420T005830
CREATED:20230713T181540Z
LAST-MODIFIED:20230713T181540Z
UID:10000095-1735925400-1735930800@rmhctriangle.org
SUMMARY:Domino's
DESCRIPTION:
URL:https://rmhctriangle.org/family-event/dominos/2025-01-03/
CATEGORIES:Chapel Hill Meals
END:VEVENT
BEGIN:VEVENT
DTSTART;TZID=America/New_York:20250104T173000
DTEND;TZID=America/New_York:20250104T190000
DTSTAMP:20260420T005830
CREATED:20240105T155645Z
LAST-MODIFIED:20240105T155645Z
UID:10001451-1736011800-1736017200@rmhctriangle.org
SUMMARY:St. Thomas More
DESCRIPTION:
URL:https://rmhctriangle.org/family-event/st-thomas-more-8/2025-01-04/
CATEGORIES:Chapel Hill Meals
END:VEVENT
BEGIN:VEVENT
DTSTART;TZID=America/New_York:20250105T153000
DTEND;TZID=America/New_York:20250105T183000
DTSTAMP:20260420T005830
CREATED:20241113T200936Z
LAST-MODIFIED:20241113T200936Z
UID:10002015-1736091000-1736101800@rmhctriangle.org
SUMMARY:Anusha Balakrishnan
DESCRIPTION:
URL:https://rmhctriangle.org/family-event/anusha-balakrishnan/
CATEGORIES:Chapel Hill Meals
END:VEVENT
BEGIN:VEVENT
DTSTART;TZID=America/New_York:20250106T173000
DTEND;TZID=America/New_York:20250106T190000
DTSTAMP:20260420T005830
CREATED:20230713T185113Z
LAST-MODIFIED:20230713T185113Z
UID:10000388-1736184600-1736190000@rmhctriangle.org
SUMMARY:McDonald's
DESCRIPTION:
URL:https://rmhctriangle.org/family-event/mcdonalds-2/2025-01-06/
CATEGORIES:Chapel Hill Meals
END:VEVENT
BEGIN:VEVENT
DTSTART;TZID=America/New_York:20250108T153000
DTEND;TZID=America/New_York:20250108T183000
DTSTAMP:20260420T005830
CREATED:20240920T131317Z
LAST-MODIFIED:20240920T131317Z
UID:10001953-1736350200-1736361000@rmhctriangle.org
SUMMARY:Wood Charter School
DESCRIPTION:
URL:https://rmhctriangle.org/family-event/wood-charter-school/
CATEGORIES:Chapel Hill Meals
END:VEVENT
BEGIN:VEVENT
DTSTART;TZID=America/New_York:20250109T163000
DTEND;TZID=America/New_York:20250109T183000
DTSTAMP:20260420T005830
CREATED:20240712T172155Z
LAST-MODIFIED:20240712T172155Z
UID:10001844-1736440200-1736447400@rmhctriangle.org
SUMMARY:Chapel Hill Rotary
DESCRIPTION:
URL:https://rmhctriangle.org/family-event/chapel-hill-rotary-8/
CATEGORIES:Chapel Hill Meals
END:VEVENT
BEGIN:VEVENT
DTSTART;TZID=America/New_York:20250110T173000
DTEND;TZID=America/New_York:20250110T190000
DTSTAMP:20260420T005830
CREATED:20230713T181540Z
LAST-MODIFIED:20230713T181540Z
UID:10000096-1736530200-1736535600@rmhctriangle.org
SUMMARY:Domino's
DESCRIPTION:
URL:https://rmhctriangle.org/family-event/dominos/2025-01-10/
CATEGORIES:Chapel Hill Meals
END:VEVENT
BEGIN:VEVENT
DTSTART;TZID=America/New_York:20250111T153000
DTEND;TZID=America/New_York:20250111T183000
DTSTAMP:20260420T005830
CREATED:20241220T150542Z
LAST-MODIFIED:20241220T150542Z
UID:10002106-1736609400-1736620200@rmhctriangle.org
SUMMARY:RTPTCA
DESCRIPTION:
URL:https://rmhctriangle.org/family-event/rtptca-5/
CATEGORIES:Chapel Hill Meals
END:VEVENT
BEGIN:VEVENT
DTSTART;TZID=America/New_York:20250112T163000
DTEND;TZID=America/New_York:20250112T183000
DTSTAMP:20260420T005830
CREATED:20240702T190753Z
LAST-MODIFIED:20240702T190753Z
UID:10001811-1736699400-1736706600@rmhctriangle.org
SUMMARY:NCL
DESCRIPTION:
URL:https://rmhctriangle.org/family-event/ncl-6/
CATEGORIES:Chapel Hill Meals
END:VEVENT
BEGIN:VEVENT
DTSTART;TZID=America/New_York:20250113T173000
DTEND;TZID=America/New_York:20250113T190000
DTSTAMP:20260420T005830
CREATED:20230713T185113Z
LAST-MODIFIED:20230713T185113Z
UID:10000389-1736789400-1736794800@rmhctriangle.org
SUMMARY:McDonald's
DESCRIPTION:
URL:https://rmhctriangle.org/family-event/mcdonalds-2/2025-01-13/
CATEGORIES:Chapel Hill Meals
END:VEVENT
BEGIN:VEVENT
DTSTART;TZID=America/New_York:20250114T173000
DTEND;TZID=America/New_York:20250114T190000
DTSTAMP:20260420T005830
CREATED:20230713T185449Z
LAST-MODIFIED:20230713T185449Z
UID:10000611-1736875800-1736881200@rmhctriangle.org
SUMMARY:Barbara & Jean
DESCRIPTION:
URL:https://rmhctriangle.org/family-event/barbara-jean/2025-01-14/
CATEGORIES:Chapel Hill Meals
END:VEVENT
BEGIN:VEVENT
DTSTART;TZID=America/New_York:20250115T153000
DTEND;TZID=America/New_York:20250115T183000
DTSTAMP:20260420T005830
CREATED:20240909T153551Z
LAST-MODIFIED:20240909T153551Z
UID:10001937-1736955000-1736965800@rmhctriangle.org
SUMMARY:IQVIA HR NC
DESCRIPTION:
URL:https://rmhctriangle.org/family-event/iqvia-hr-nc/
CATEGORIES:Chapel Hill Meals
END:VEVENT
BEGIN:VEVENT
DTSTART;TZID=America/New_York:20250116T153000
DTEND;TZID=America/New_York:20250116T183000
DTSTAMP:20260420T005830
CREATED:20241003T175716Z
LAST-MODIFIED:20241003T175716Z
UID:10001961-1737041400-1737052200@rmhctriangle.org
SUMMARY:Zonkd
DESCRIPTION:
URL:https://rmhctriangle.org/family-event/zonkd-2/
CATEGORIES:Chapel Hill Meals
END:VEVENT
BEGIN:VEVENT
DTSTART;TZID=America/New_York:20250117T173000
DTEND;TZID=America/New_York:20250117T190000
DTSTAMP:20260420T005830
CREATED:20230713T181540Z
LAST-MODIFIED:20230713T181540Z
UID:10000097-1737135000-1737140400@rmhctriangle.org
SUMMARY:Domino's
DESCRIPTION:
URL:https://rmhctriangle.org/family-event/dominos/2025-01-17/
CATEGORIES:Chapel Hill Meals
END:VEVENT
BEGIN:VEVENT
DTSTART;TZID=America/New_York:20250118T153000
DTEND;TZID=America/New_York:20250118T183000
DTSTAMP:20260420T005830
CREATED:20241023T144804Z
LAST-MODIFIED:20241023T144804Z
UID:10001986-1737214200-1737225000@rmhctriangle.org
SUMMARY:Victorious Praise Fellowship
DESCRIPTION:
URL:https://rmhctriangle.org/family-event/victorious-praise-fellowship/
CATEGORIES:Chapel Hill Meals
END:VEVENT
BEGIN:VEVENT
DTSTART;TZID=America/New_York:20250119T153000
DTEND;TZID=America/New_York:20250119T183000
DTSTAMP:20260420T005830
CREATED:20241105T144216Z
LAST-MODIFIED:20241105T144216Z
UID:10001994-1737300600-1737311400@rmhctriangle.org
SUMMARY:New Hope Church
DESCRIPTION:
URL:https://rmhctriangle.org/family-event/new-hope-church-6/
CATEGORIES:Chapel Hill Meals
END:VEVENT
BEGIN:VEVENT
DTSTART;TZID=America/New_York:20250120T173000
DTEND;TZID=America/New_York:20250120T190000
DTSTAMP:20260420T005830
CREATED:20230713T185113Z
LAST-MODIFIED:20230713T185113Z
UID:10000390-1737394200-1737399600@rmhctriangle.org
SUMMARY:McDonald's
DESCRIPTION:
URL:https://rmhctriangle.org/family-event/mcdonalds-2/2025-01-20/
CATEGORIES:Chapel Hill Meals
END:VEVENT
BEGIN:VEVENT
DTSTART;TZID=America/New_York:20250121T153000
DTEND;TZID=America/New_York:20250121T183000
DTSTAMP:20260420T005830
CREATED:20241125T144356Z
LAST-MODIFIED:20241125T144356Z
UID:10002053-1737473400-1737484200@rmhctriangle.org
SUMMARY:UNC School of Molecular Imaging
DESCRIPTION:
URL:https://rmhctriangle.org/family-event/unc-school-of-molecular-imaging-2/
CATEGORIES:Chapel Hill Meals
END:VEVENT
BEGIN:VEVENT
DTSTART;TZID=America/New_York:20250122T153000
DTEND;TZID=America/New_York:20250122T183000
DTSTAMP:20260420T005830
CREATED:20241104T162352Z
LAST-MODIFIED:20241104T162352Z
UID:10001992-1737559800-1737570600@rmhctriangle.org
SUMMARY:Starbucks
DESCRIPTION:
URL:https://rmhctriangle.org/family-event/starbucks-7/
CATEGORIES:Chapel Hill Meals
END:VEVENT
BEGIN:VEVENT
DTSTART;TZID=America/New_York:20250123T153000
DTEND;TZID=America/New_York:20250123T183000
DTSTAMP:20260420T005830
CREATED:20241119T143631Z
LAST-MODIFIED:20241119T143631Z
UID:10002027-1737646200-1737657000@rmhctriangle.org
SUMMARY:Antioch Church
DESCRIPTION:
URL:https://rmhctriangle.org/family-event/antioch-church-7/
CATEGORIES:Chapel Hill Meals
END:VEVENT
BEGIN:VEVENT
DTSTART;TZID=America/New_York:20250124T173000
DTEND;TZID=America/New_York:20250124T190000
DTSTAMP:20260420T005830
CREATED:20230713T181540Z
LAST-MODIFIED:20230713T181540Z
UID:10000098-1737739800-1737745200@rmhctriangle.org
SUMMARY:Domino's
DESCRIPTION:
URL:https://rmhctriangle.org/family-event/dominos/2025-01-24/
CATEGORIES:Chapel Hill Meals
END:VEVENT
BEGIN:VEVENT
DTSTART;TZID=America/New_York:20250125T153000
DTEND;TZID=America/New_York:20250125T183000
DTSTAMP:20260420T005830
CREATED:20241104T150429Z
LAST-MODIFIED:20241104T150429Z
UID:10001991-1737819000-1737829800@rmhctriangle.org
SUMMARY:Florence’s Family
DESCRIPTION:
URL:https://rmhctriangle.org/family-event/florences-family/
CATEGORIES:Chapel Hill Meals
END:VEVENT
BEGIN:VEVENT
DTSTART;TZID=America/New_York:20250126T153000
DTEND;TZID=America/New_York:20250126T183000
DTSTAMP:20260420T005830
CREATED:20241115T133837Z
LAST-MODIFIED:20241115T133837Z
UID:10002018-1737905400-1737916200@rmhctriangle.org
SUMMARY:NCL Cardinal
DESCRIPTION:
URL:https://rmhctriangle.org/family-event/ncl-cardinal/
CATEGORIES:Chapel Hill Meals
END:VEVENT
BEGIN:VEVENT
DTSTART;TZID=America/New_York:20250127T173000
DTEND;TZID=America/New_York:20250127T190000
DTSTAMP:20260420T005830
CREATED:20230713T185113Z
LAST-MODIFIED:20230713T185113Z
UID:10000391-1737999000-1738004400@rmhctriangle.org
SUMMARY:McDonald's
DESCRIPTION:
URL:https://rmhctriangle.org/family-event/mcdonalds-2/2025-01-27/
CATEGORIES:Chapel Hill Meals
END:VEVENT
BEGIN:VEVENT
DTSTART;TZID=America/New_York:20250128T173000
DTEND;TZID=America/New_York:20250128T190000
DTSTAMP:20260420T005830
CREATED:20230713T185449Z
LAST-MODIFIED:20230713T185449Z
UID:10000612-1738085400-1738090800@rmhctriangle.org
SUMMARY:Barbara & Jean
DESCRIPTION:
URL:https://rmhctriangle.org/family-event/barbara-jean/2025-01-28/
CATEGORIES:Chapel Hill Meals
END:VEVENT
BEGIN:VEVENT
DTSTART;TZID=America/New_York:20250129T153000
DTEND;TZID=America/New_York:20250129T183000
DTSTAMP:20260420T005830
CREATED:20250121T131713Z
LAST-MODIFIED:20250121T131713Z
UID:10002196-1738164600-1738175400@rmhctriangle.org
SUMMARY:CFTK
DESCRIPTION:
URL:https://rmhctriangle.org/family-event/cftk-13/
CATEGORIES:Chapel Hill Meals
END:VEVENT
BEGIN:VEVENT
DTSTART;TZID=America/New_York:20250129T153000
DTEND;TZID=America/New_York:20250129T183000
DTSTAMP:20260420T005830
CREATED:20250121T154610Z
LAST-MODIFIED:20250121T154610Z
UID:10002197-1738164600-1738175400@rmhctriangle.org
SUMMARY:Business Cares Club
DESCRIPTION:
URL:https://rmhctriangle.org/family-event/business-cares-club-2/
CATEGORIES:Chapel Hill Meals
END:VEVENT
BEGIN:VEVENT
DTSTART;TZID=America/New_York:20250130T153000
DTEND;TZID=America/New_York:20250130T183000
DTSTAMP:20260420T005830
CREATED:20241125T192500Z
LAST-MODIFIED:20241125T192500Z
UID:10002058-1738251000-1738261800@rmhctriangle.org
SUMMARY:Carolina Cancer Association
DESCRIPTION:
URL:https://rmhctriangle.org/family-event/carolina-cancer-association-6/
CATEGORIES:Chapel Hill Meals
END:VEVENT
BEGIN:VEVENT
DTSTART;TZID=America/New_York:20250131T173000
DTEND;TZID=America/New_York:20250131T190000
DTSTAMP:20260420T005830
CREATED:20230713T181540Z
LAST-MODIFIED:20230713T181540Z
UID:10000099-1738344600-1738350000@rmhctriangle.org
SUMMARY:Domino's
DESCRIPTION:
URL:https://rmhctriangle.org/family-event/dominos/2025-01-31/
CATEGORIES:Chapel Hill Meals
END:VEVENT
BEGIN:VEVENT
DTSTART;TZID=America/New_York:20250201T173000
DTEND;TZID=America/New_York:20250201T190000
DTSTAMP:20260420T005830
CREATED:20240105T155645Z
LAST-MODIFIED:20240105T155645Z
UID:10001452-1738431000-1738436400@rmhctriangle.org
SUMMARY:St. Thomas More
DESCRIPTION:
URL:https://rmhctriangle.org/family-event/st-thomas-more-8/2025-02-01/
CATEGORIES:Chapel Hill Meals
END:VEVENT
END:VCALENDAR