BEGIN:VCALENDAR
VERSION:2.0
PRODID:-//Ronald McDonald House Charities of the Triangle - ECPv6.15.17.1//NONSGML v1.0//EN
CALSCALE:GREGORIAN
METHOD:PUBLISH
X-WR-CALNAME:Ronald McDonald House Charities of the Triangle
X-ORIGINAL-URL:https://rmhctriangle.org
X-WR-CALDESC:Events for Ronald McDonald House Charities of the Triangle
REFRESH-INTERVAL;VALUE=DURATION:PT1H
X-Robots-Tag:noindex
X-PUBLISHED-TTL:PT1H
BEGIN:VTIMEZONE
TZID:America/New_York
BEGIN:DAYLIGHT
TZOFFSETFROM:-0500
TZOFFSETTO:-0400
TZNAME:EDT
DTSTART:20230312T070000
END:DAYLIGHT
BEGIN:STANDARD
TZOFFSETFROM:-0400
TZOFFSETTO:-0500
TZNAME:EST
DTSTART:20231105T060000
END:STANDARD
BEGIN:DAYLIGHT
TZOFFSETFROM:-0500
TZOFFSETTO:-0400
TZNAME:EDT
DTSTART:20240310T070000
END:DAYLIGHT
BEGIN:STANDARD
TZOFFSETFROM:-0400
TZOFFSETTO:-0500
TZNAME:EST
DTSTART:20241103T060000
END:STANDARD
BEGIN:DAYLIGHT
TZOFFSETFROM:-0500
TZOFFSETTO:-0400
TZNAME:EDT
DTSTART:20250309T070000
END:DAYLIGHT
BEGIN:STANDARD
TZOFFSETFROM:-0400
TZOFFSETTO:-0500
TZNAME:EST
DTSTART:20251102T060000
END:STANDARD
END:VTIMEZONE
BEGIN:VEVENT
DTSTART;TZID=America/New_York:20240429T173000
DTEND;TZID=America/New_York:20240429T190000
DTSTAMP:20260423T162813
CREATED:20230713T185113Z
LAST-MODIFIED:20230713T185113Z
UID:10000352-1714411800-1714417200@rmhctriangle.org
SUMMARY:McDonald's
DESCRIPTION:
URL:https://rmhctriangle.org/family-event/mcdonalds-2/2024-04-29/
CATEGORIES:Chapel Hill Meals
END:VEVENT
BEGIN:VEVENT
DTSTART;TZID=America/New_York:20240430T173000
DTEND;TZID=America/New_York:20240430T190000
DTSTAMP:20260423T162813
CREATED:20240228T185237Z
LAST-MODIFIED:20240228T185237Z
UID:10001646-1714498200-1714503600@rmhctriangle.org
SUMMARY:Mt. Gilead Baptist Church
DESCRIPTION:
URL:https://rmhctriangle.org/family-event/mt-gilead-baptist-church-4/
CATEGORIES:Chapel Hill Meals
END:VEVENT
BEGIN:VEVENT
DTSTART;TZID=America/New_York:20240501T173000
DTEND;TZID=America/New_York:20240501T190000
DTSTAMP:20260423T162813
CREATED:20240304T141603Z
LAST-MODIFIED:20240304T141603Z
UID:10001652-1714584600-1714590000@rmhctriangle.org
SUMMARY:Sheri & Shannon
DESCRIPTION:
URL:https://rmhctriangle.org/family-event/sheri-shannon/
CATEGORIES:Chapel Hill Meals
END:VEVENT
BEGIN:VEVENT
DTSTART;TZID=America/New_York:20240503T173000
DTEND;TZID=America/New_York:20240503T190000
DTSTAMP:20260423T162813
CREATED:20230713T181540Z
LAST-MODIFIED:20230713T181540Z
UID:10000060-1714757400-1714762800@rmhctriangle.org
SUMMARY:Domino's
DESCRIPTION:
URL:https://rmhctriangle.org/family-event/dominos/2024-05-03/
CATEGORIES:Chapel Hill Meals
END:VEVENT
BEGIN:VEVENT
DTSTART;TZID=America/New_York:20240504T173000
DTEND;TZID=America/New_York:20240504T190000
DTSTAMP:20260423T162813
CREATED:20240105T155645Z
LAST-MODIFIED:20240105T155645Z
UID:10001443-1714843800-1714849200@rmhctriangle.org
SUMMARY:St. Thomas More
DESCRIPTION:
URL:https://rmhctriangle.org/family-event/st-thomas-more-8/2024-05-04/
CATEGORIES:Chapel Hill Meals
END:VEVENT
BEGIN:VEVENT
DTSTART;TZID=America/New_York:20240505T173000
DTEND;TZID=America/New_York:20240505T190000
DTSTAMP:20260423T162813
CREATED:20240419T150127Z
LAST-MODIFIED:20240419T150127Z
UID:10001705-1714930200-1714935600@rmhctriangle.org
SUMMARY:Super Joey Foundation
DESCRIPTION:
URL:https://rmhctriangle.org/family-event/super-joey-foundation-2/
CATEGORIES:Chapel Hill Meals
END:VEVENT
BEGIN:VEVENT
DTSTART;TZID=America/New_York:20240506T173000
DTEND;TZID=America/New_York:20240506T190000
DTSTAMP:20260423T162813
CREATED:20230713T185113Z
LAST-MODIFIED:20230713T185113Z
UID:10000353-1715016600-1715022000@rmhctriangle.org
SUMMARY:McDonald's
DESCRIPTION:
URL:https://rmhctriangle.org/family-event/mcdonalds-2/2024-05-06/
CATEGORIES:Chapel Hill Meals
END:VEVENT
BEGIN:VEVENT
DTSTART;TZID=America/New_York:20240507T173000
DTEND;TZID=America/New_York:20240507T190000
DTSTAMP:20260423T162813
CREATED:20230713T185449Z
LAST-MODIFIED:20230713T185449Z
UID:10000593-1715103000-1715108400@rmhctriangle.org
SUMMARY:Barbara & Jean
DESCRIPTION:
URL:https://rmhctriangle.org/family-event/barbara-jean/2024-05-07/
CATEGORIES:Chapel Hill Meals
END:VEVENT
BEGIN:VEVENT
DTSTART;TZID=America/New_York:20240510T173000
DTEND;TZID=America/New_York:20240510T190000
DTSTAMP:20260423T162813
CREATED:20230713T181540Z
LAST-MODIFIED:20230713T181540Z
UID:10000061-1715362200-1715367600@rmhctriangle.org
SUMMARY:Domino's
DESCRIPTION:
URL:https://rmhctriangle.org/family-event/dominos/2024-05-10/
CATEGORIES:Chapel Hill Meals
END:VEVENT
BEGIN:VEVENT
DTSTART;TZID=America/New_York:20240511T173000
DTEND;TZID=America/New_York:20240511T190000
DTSTAMP:20260423T162813
CREATED:20240417T125012Z
LAST-MODIFIED:20240417T125012Z
UID:10001703-1715448600-1715454000@rmhctriangle.org
SUMMARY:Holy Infant Catholic Church
DESCRIPTION:
URL:https://rmhctriangle.org/family-event/holy-infant-catholic-church-2/
CATEGORIES:Chapel Hill Meals
END:VEVENT
BEGIN:VEVENT
DTSTART;TZID=America/New_York:20240513T173000
DTEND;TZID=America/New_York:20240513T190000
DTSTAMP:20260423T162813
CREATED:20230713T185113Z
LAST-MODIFIED:20230713T185113Z
UID:10000354-1715621400-1715626800@rmhctriangle.org
SUMMARY:McDonald's
DESCRIPTION:
URL:https://rmhctriangle.org/family-event/mcdonalds-2/2024-05-13/
CATEGORIES:Chapel Hill Meals
END:VEVENT
BEGIN:VEVENT
DTSTART;TZID=America/New_York:20240515T173000
DTEND;TZID=America/New_York:20240515T190000
DTSTAMP:20260423T162813
CREATED:20240209T155532Z
LAST-MODIFIED:20240209T160232Z
UID:10001578-1715794200-1715799600@rmhctriangle.org
SUMMARY:Starbucks
DESCRIPTION:
URL:https://rmhctriangle.org/family-event/starbucks-3/
CATEGORIES:Chapel Hill Meals
END:VEVENT
BEGIN:VEVENT
DTSTART;TZID=America/New_York:20240517T173000
DTEND;TZID=America/New_York:20240517T190000
DTSTAMP:20260423T162813
CREATED:20230713T181540Z
LAST-MODIFIED:20230713T181540Z
UID:10000062-1715967000-1715972400@rmhctriangle.org
SUMMARY:Domino's
DESCRIPTION:
URL:https://rmhctriangle.org/family-event/dominos/2024-05-17/
CATEGORIES:Chapel Hill Meals
END:VEVENT
BEGIN:VEVENT
DTSTART;TZID=America/New_York:20240518T173000
DTEND;TZID=America/New_York:20240518T190000
DTSTAMP:20260423T162813
CREATED:20231127T205113Z
LAST-MODIFIED:20231127T205113Z
UID:10001314-1716053400-1716058800@rmhctriangle.org
SUMMARY:Zakat Foundation
DESCRIPTION:
URL:https://rmhctriangle.org/family-event/zakat-foundation-13/
CATEGORIES:Chapel Hill Meals
END:VEVENT
BEGIN:VEVENT
DTSTART;TZID=America/New_York:20240519T173000
DTEND;TZID=America/New_York:20240519T190000
DTSTAMP:20260423T162813
CREATED:20240402T192904Z
LAST-MODIFIED:20240402T192904Z
UID:10001684-1716139800-1716145200@rmhctriangle.org
SUMMARY:Cary-Page Rotary Club
DESCRIPTION:
URL:https://rmhctriangle.org/family-event/cary-page-rotary-club/
CATEGORIES:Chapel Hill Meals
END:VEVENT
BEGIN:VEVENT
DTSTART;TZID=America/New_York:20240520T173000
DTEND;TZID=America/New_York:20240520T190000
DTSTAMP:20260423T162813
CREATED:20230713T185113Z
LAST-MODIFIED:20230713T185113Z
UID:10000355-1716226200-1716231600@rmhctriangle.org
SUMMARY:McDonald's
DESCRIPTION:
URL:https://rmhctriangle.org/family-event/mcdonalds-2/2024-05-20/
CATEGORIES:Chapel Hill Meals
END:VEVENT
BEGIN:VEVENT
DTSTART;TZID=America/New_York:20240521T173000
DTEND;TZID=America/New_York:20240521T190000
DTSTAMP:20260423T162813
CREATED:20230713T185449Z
LAST-MODIFIED:20230713T185449Z
UID:10000594-1716312600-1716318000@rmhctriangle.org
SUMMARY:Barbara & Jean
DESCRIPTION:
URL:https://rmhctriangle.org/family-event/barbara-jean/2024-05-21/
CATEGORIES:Chapel Hill Meals
END:VEVENT
BEGIN:VEVENT
DTSTART;TZID=America/New_York:20240522T173000
DTEND;TZID=America/New_York:20240522T190000
DTSTAMP:20260423T162813
CREATED:20240419T144602Z
LAST-MODIFIED:20240419T144602Z
UID:10001704-1716399000-1716404400@rmhctriangle.org
SUMMARY:Monteith
DESCRIPTION:
URL:https://rmhctriangle.org/family-event/monteith/
CATEGORIES:Chapel Hill Meals
END:VEVENT
BEGIN:VEVENT
DTSTART;TZID=America/New_York:20240523T173000
DTEND;TZID=America/New_York:20240523T190000
DTSTAMP:20260423T162813
CREATED:20231219T151501Z
LAST-MODIFIED:20231219T151501Z
UID:10001394-1716485400-1716490800@rmhctriangle.org
SUMMARY:Antioch Church
DESCRIPTION:
URL:https://rmhctriangle.org/family-event/antioch-church-6/2024-05-23/
CATEGORIES:Chapel Hill Meals
END:VEVENT
BEGIN:VEVENT
DTSTART;TZID=America/New_York:20240524T173000
DTEND;TZID=America/New_York:20240524T190000
DTSTAMP:20260423T162813
CREATED:20230713T181540Z
LAST-MODIFIED:20230713T181540Z
UID:10000063-1716571800-1716577200@rmhctriangle.org
SUMMARY:Domino's
DESCRIPTION:
URL:https://rmhctriangle.org/family-event/dominos/2024-05-24/
CATEGORIES:Chapel Hill Meals
END:VEVENT
BEGIN:VEVENT
DTSTART;TZID=America/New_York:20240525T173000
DTEND;TZID=America/New_York:20240525T190000
DTSTAMP:20260423T162813
CREATED:20240503T202103Z
LAST-MODIFIED:20240503T202103Z
UID:10001729-1716658200-1716663600@rmhctriangle.org
SUMMARY:Red Balloon Project
DESCRIPTION:
URL:https://rmhctriangle.org/family-event/red-balloon-project/
CATEGORIES:Chapel Hill Meals
END:VEVENT
BEGIN:VEVENT
DTSTART;TZID=America/New_York:20240526T173000
DTEND;TZID=America/New_York:20240526T190000
DTSTAMP:20260423T162813
CREATED:20240426T133812Z
LAST-MODIFIED:20240426T133812Z
UID:10001717-1716744600-1716750000@rmhctriangle.org
SUMMARY:Love All Serve All
DESCRIPTION:
URL:https://rmhctriangle.org/family-event/love-all-serve-all-4/
CATEGORIES:Chapel Hill Meals
END:VEVENT
BEGIN:VEVENT
DTSTART;TZID=America/New_York:20240527T173000
DTEND;TZID=America/New_York:20240527T190000
DTSTAMP:20260423T162813
CREATED:20230713T185113Z
LAST-MODIFIED:20230713T185113Z
UID:10000356-1716831000-1716836400@rmhctriangle.org
SUMMARY:McDonald's
DESCRIPTION:
URL:https://rmhctriangle.org/family-event/mcdonalds-2/2024-05-27/
CATEGORIES:Chapel Hill Meals
END:VEVENT
BEGIN:VEVENT
DTSTART;TZID=America/New_York:20240529T173000
DTEND;TZID=America/New_York:20240529T190000
DTSTAMP:20260423T162813
CREATED:20240424T144016Z
LAST-MODIFIED:20240424T144016Z
UID:10001713-1717003800-1717009200@rmhctriangle.org
SUMMARY:UNC School of Molecular Imaging
DESCRIPTION:
URL:https://rmhctriangle.org/family-event/unc-school-of-molecular-imaging/
CATEGORIES:Chapel Hill Meals
END:VEVENT
BEGIN:VEVENT
DTSTART;TZID=America/New_York:20240530T173000
DTEND;TZID=America/New_York:20240530T190000
DTSTAMP:20260423T162813
CREATED:20240329T180016Z
LAST-MODIFIED:20240329T180016Z
UID:10001683-1717090200-1717095600@rmhctriangle.org
SUMMARY:ARCO Design/Build
DESCRIPTION:
URL:https://rmhctriangle.org/family-event/arco-design-build/
CATEGORIES:Chapel Hill Meals
END:VEVENT
BEGIN:VEVENT
DTSTART;TZID=America/New_York:20240531T173000
DTEND;TZID=America/New_York:20240531T190000
DTSTAMP:20260423T162813
CREATED:20230713T181540Z
LAST-MODIFIED:20230713T181540Z
UID:10000064-1717176600-1717182000@rmhctriangle.org
SUMMARY:Domino's
DESCRIPTION:
URL:https://rmhctriangle.org/family-event/dominos/2024-05-31/
CATEGORIES:Chapel Hill Meals
END:VEVENT
BEGIN:VEVENT
DTSTART;TZID=America/New_York:20240601T173000
DTEND;TZID=America/New_York:20240601T190000
DTSTAMP:20260423T162813
CREATED:20240105T155645Z
LAST-MODIFIED:20240105T155645Z
UID:10001444-1717263000-1717268400@rmhctriangle.org
SUMMARY:St. Thomas More
DESCRIPTION:
URL:https://rmhctriangle.org/family-event/st-thomas-more-8/2024-06-01/
CATEGORIES:Chapel Hill Meals
END:VEVENT
BEGIN:VEVENT
DTSTART;TZID=America/New_York:20240602T173000
DTEND;TZID=America/New_York:20240602T190000
DTSTAMP:20260423T162813
CREATED:20240513T121102Z
LAST-MODIFIED:20240513T121102Z
UID:10001742-1717349400-1717354800@rmhctriangle.org
SUMMARY:Joshua and Mandy Miller
DESCRIPTION:
URL:https://rmhctriangle.org/family-event/joshua-and-mandy-miller/
CATEGORIES:Chapel Hill Meals
END:VEVENT
BEGIN:VEVENT
DTSTART;TZID=America/New_York:20240603T173000
DTEND;TZID=America/New_York:20240603T190000
DTSTAMP:20260423T162813
CREATED:20230713T185113Z
LAST-MODIFIED:20230713T185113Z
UID:10000357-1717435800-1717441200@rmhctriangle.org
SUMMARY:McDonald's
DESCRIPTION:
URL:https://rmhctriangle.org/family-event/mcdonalds-2/2024-06-03/
CATEGORIES:Chapel Hill Meals
END:VEVENT
BEGIN:VEVENT
DTSTART;TZID=America/New_York:20240604T173000
DTEND;TZID=America/New_York:20240604T190000
DTSTAMP:20260423T162813
CREATED:20230713T185449Z
LAST-MODIFIED:20230713T185449Z
UID:10000595-1717522200-1717527600@rmhctriangle.org
SUMMARY:Barbara & Jean
DESCRIPTION:
URL:https://rmhctriangle.org/family-event/barbara-jean/2024-06-04/
CATEGORIES:Chapel Hill Meals
END:VEVENT
END:VCALENDAR