BEGIN:VCALENDAR
VERSION:2.0
PRODID:-//Ronald McDonald House Charities of the Triangle - ECPv6.15.17.1//NONSGML v1.0//EN
CALSCALE:GREGORIAN
METHOD:PUBLISH
X-ORIGINAL-URL:https://rmhctriangle.org
X-WR-CALDESC:Events for Ronald McDonald House Charities of the Triangle
REFRESH-INTERVAL;VALUE=DURATION:PT1H
X-Robots-Tag:noindex
X-PUBLISHED-TTL:PT1H
BEGIN:VTIMEZONE
TZID:America/New_York
BEGIN:DAYLIGHT
TZOFFSETFROM:-0500
TZOFFSETTO:-0400
TZNAME:EDT
DTSTART:20230312T070000
END:DAYLIGHT
BEGIN:STANDARD
TZOFFSETFROM:-0400
TZOFFSETTO:-0500
TZNAME:EST
DTSTART:20231105T060000
END:STANDARD
BEGIN:DAYLIGHT
TZOFFSETFROM:-0500
TZOFFSETTO:-0400
TZNAME:EDT
DTSTART:20240310T070000
END:DAYLIGHT
BEGIN:STANDARD
TZOFFSETFROM:-0400
TZOFFSETTO:-0500
TZNAME:EST
DTSTART:20241103T060000
END:STANDARD
BEGIN:DAYLIGHT
TZOFFSETFROM:-0500
TZOFFSETTO:-0400
TZNAME:EDT
DTSTART:20250309T070000
END:DAYLIGHT
BEGIN:STANDARD
TZOFFSETFROM:-0400
TZOFFSETTO:-0500
TZNAME:EST
DTSTART:20251102T060000
END:STANDARD
END:VTIMEZONE
BEGIN:VEVENT
DTSTART;TZID=America/New_York:20240903T043000
DTEND;TZID=America/New_York:20240903T183000
DTSTAMP:20260424T160639
CREATED:20240729T162021Z
LAST-MODIFIED:20240729T162021Z
UID:10001861-1725337800-1725388200@rmhctriangle.org
SUMMARY:Pfizer MSAT / Roar for Daniel
DESCRIPTION:
URL:https://rmhctriangle.org/family-event/pfizer-msat-roar-for-daniel/
CATEGORIES:Chapel Hill Meals
END:VEVENT
BEGIN:VEVENT
DTSTART;TZID=America/New_York:20240903T170000
DTEND;TZID=America/New_York:20240903T173000
DTSTAMP:20260424T160639
CREATED:20240809T180505Z
LAST-MODIFIED:20240809T180505Z
UID:10001882-1725382800-1725384600@rmhctriangle.org
SUMMARY:NuvoTaco
DESCRIPTION:
URL:https://rmhctriangle.org/family-event/nuvotaco-2/
CATEGORIES:Durham Meals
END:VEVENT
END:VCALENDAR