BEGIN:VCALENDAR
VERSION:2.0
PRODID:-//Ronald McDonald House Charities of the Triangle - ECPv6.15.17.1//NONSGML v1.0//EN
CALSCALE:GREGORIAN
METHOD:PUBLISH
X-WR-CALNAME:Ronald McDonald House Charities of the Triangle
X-ORIGINAL-URL:https://rmhctriangle.org
X-WR-CALDESC:Events for Ronald McDonald House Charities of the Triangle
REFRESH-INTERVAL;VALUE=DURATION:PT1H
X-Robots-Tag:noindex
X-PUBLISHED-TTL:PT1H
BEGIN:VTIMEZONE
TZID:America/New_York
BEGIN:DAYLIGHT
TZOFFSETFROM:-0500
TZOFFSETTO:-0400
TZNAME:EDT
DTSTART:20230312T070000
END:DAYLIGHT
BEGIN:STANDARD
TZOFFSETFROM:-0400
TZOFFSETTO:-0500
TZNAME:EST
DTSTART:20231105T060000
END:STANDARD
BEGIN:DAYLIGHT
TZOFFSETFROM:-0500
TZOFFSETTO:-0400
TZNAME:EDT
DTSTART:20240310T070000
END:DAYLIGHT
BEGIN:STANDARD
TZOFFSETFROM:-0400
TZOFFSETTO:-0500
TZNAME:EST
DTSTART:20241103T060000
END:STANDARD
BEGIN:DAYLIGHT
TZOFFSETFROM:-0500
TZOFFSETTO:-0400
TZNAME:EDT
DTSTART:20250309T070000
END:DAYLIGHT
BEGIN:STANDARD
TZOFFSETFROM:-0400
TZOFFSETTO:-0500
TZNAME:EST
DTSTART:20251102T060000
END:STANDARD
END:VTIMEZONE
BEGIN:VEVENT
DTSTART;TZID=America/New_York:20240229T170000
DTEND;TZID=America/New_York:20240229T173000
DTSTAMP:20260421T090655
CREATED:20231031T183806Z
LAST-MODIFIED:20240129T164724Z
UID:10001543-1709226000-1709227800@rmhctriangle.org
SUMMARY:Well Fellowship
DESCRIPTION:
URL:https://rmhctriangle.org/family-event/well-fellowship/2024-02-29/
CATEGORIES:Durham Meals
END:VEVENT
BEGIN:VEVENT
DTSTART;TZID=America/New_York:20240229T173000
DTEND;TZID=America/New_York:20240229T190000
DTSTAMP:20260421T090655
CREATED:20240104T192011Z
LAST-MODIFIED:20240104T192011Z
UID:10001433-1709227800-1709233200@rmhctriangle.org
SUMMARY:JPMorgan Chase
DESCRIPTION:
URL:https://rmhctriangle.org/family-event/jpmorgan-chase/
CATEGORIES:Chapel Hill Meals
END:VEVENT
END:VCALENDAR